| Back to Multiple platform build/check report for BioC 3.21: simplified long |
|
This page was generated on 2025-09-11 11:38 -0400 (Thu, 11 Sep 2025).
| Hostname | OS | Arch (*) | R version | Installed pkgs |
|---|---|---|---|---|
| nebbiolo1 | Linux (Ubuntu 24.04.3 LTS) | x86_64 | 4.5.1 (2025-06-13) -- "Great Square Root" | 4824 |
| merida1 | macOS 12.7.5 Monterey | x86_64 | 4.5.1 RC (2025-06-05 r88288) -- "Great Square Root" | 4606 |
| kjohnson1 | macOS 13.6.6 Ventura | arm64 | 4.5.1 Patched (2025-06-14 r88325) -- "Great Square Root" | 4547 |
| Click on any hostname to see more info about the system (e.g. compilers) (*) as reported by 'uname -p', except on Windows and Mac OS X | ||||
| Package 1990/2341 | Hostname | OS / Arch | INSTALL | BUILD | CHECK | BUILD BIN | ||||||||
| SigFuge 1.46.0 (landing page) Patrick Kimes
| nebbiolo1 | Linux (Ubuntu 24.04.3 LTS) / x86_64 | OK | OK | OK | |||||||||
| merida1 | macOS 12.7.5 Monterey / x86_64 | OK | OK | OK | OK | |||||||||
| kjohnson1 | macOS 13.6.6 Ventura / arm64 | OK | OK | OK | OK | |||||||||
|
To the developers/maintainers of the SigFuge package: - Allow up to 24 hours (and sometimes 48 hours) for your latest push to git@git.bioconductor.org:packages/SigFuge.git to reflect on this report. See Troubleshooting Build Report for more information. - Use the following Renviron settings to reproduce errors and warnings. - If 'R CMD check' started to fail recently on the Linux builder(s) over a missing dependency, add the missing dependency to 'Suggests:' in your DESCRIPTION file. See Renviron.bioc for more information. |
| Package: SigFuge |
| Version: 1.46.0 |
| Command: /home/biocbuild/bbs-3.21-bioc/R/bin/R CMD check --install=check:SigFuge.install-out.txt --library=/home/biocbuild/bbs-3.21-bioc/R/site-library --timings SigFuge_1.46.0.tar.gz |
| StartedAt: 2025-09-11 04:14:28 -0400 (Thu, 11 Sep 2025) |
| EndedAt: 2025-09-11 04:16:51 -0400 (Thu, 11 Sep 2025) |
| EllapsedTime: 143.2 seconds |
| RetCode: 0 |
| Status: OK |
| CheckDir: SigFuge.Rcheck |
| Warnings: 0 |
##############################################################################
##############################################################################
###
### Running command:
###
### /home/biocbuild/bbs-3.21-bioc/R/bin/R CMD check --install=check:SigFuge.install-out.txt --library=/home/biocbuild/bbs-3.21-bioc/R/site-library --timings SigFuge_1.46.0.tar.gz
###
##############################################################################
##############################################################################
* using log directory ‘/home/biocbuild/bbs-3.21-bioc/meat/SigFuge.Rcheck’
* using R version 4.5.1 (2025-06-13)
* using platform: x86_64-pc-linux-gnu
* R was compiled by
gcc (Ubuntu 13.3.0-6ubuntu2~24.04) 13.3.0
GNU Fortran (Ubuntu 13.3.0-6ubuntu2~24.04) 13.3.0
* running under: Ubuntu 24.04.3 LTS
* using session charset: UTF-8
* checking for file ‘SigFuge/DESCRIPTION’ ... OK
* checking extension type ... Package
* this is package ‘SigFuge’ version ‘1.46.0’
* checking package namespace information ... OK
* checking package dependencies ... OK
* checking if this is a source package ... OK
* checking if there is a namespace ... OK
* checking for hidden files and directories ... OK
* checking for portable file names ... OK
* checking for sufficient/correct file permissions ... OK
* checking whether package ‘SigFuge’ can be installed ... OK
* checking installed package size ... OK
* checking package directory ... OK
* checking ‘build’ directory ... OK
* checking DESCRIPTION meta-information ... OK
* checking top-level files ... OK
* checking for left-over files ... OK
* checking index information ... OK
* checking package subdirectories ... OK
* checking code files for non-ASCII characters ... OK
* checking R files for syntax errors ... OK
* checking whether the package can be loaded ... OK
* checking whether the package can be loaded with stated dependencies ... OK
* checking whether the package can be unloaded cleanly ... OK
* checking whether the namespace can be loaded with stated dependencies ... OK
* checking whether the namespace can be unloaded cleanly ... OK
* checking loading without being on the library search path ... OK
* checking dependencies in R code ... OK
* checking S3 generic/method consistency ... OK
* checking replacement functions ... OK
* checking foreign function calls ... OK
* checking R code for possible problems ... NOTE
SFfigure: no visible binding for global variable ‘base’
SFfigure: no visible binding for global variable ‘s’
SFfigure: no visible binding for global variable ‘e’
SFfigure: no visible global function definition for ‘rgb’
SFfigure: no visible global function definition for ‘hcl’
SFfigure: no visible binding for global variable ‘cluster’
SFfigure: no visible binding for global variable ‘median’
SFfigure: no visible binding for global variable ‘x’
SFfigure: no visible binding for global variable ‘y1’
SFfigure: no visible binding for global variable ‘label’
SFfigure: no visible binding for global variable ‘value’
SFfigure: no visible binding for global variable ‘Clusters’
SFfigure: no visible binding for global variable ‘y2’
SFfigure: no visible global function definition for ‘pdf’
SFfigure: no visible global function definition for ‘dev.off’
SFlabels: no visible global function definition for ‘kmeans’
SFnormalize : <anonymous>: no visible global function definition for
‘median’
Undefined global functions or variables:
Clusters base cluster dev.off e hcl kmeans label median pdf rgb s
value x y1 y2
Consider adding
importFrom("grDevices", "dev.off", "hcl", "pdf", "rgb")
importFrom("stats", "kmeans", "median")
to your NAMESPACE file.
* checking Rd files ... OK
* checking Rd metadata ... OK
* checking Rd cross-references ... NOTE
Found the following Rd file(s) with Rd \link{} targets missing package
anchors:
SFpval.Rd: sigclust, sigclust-class
Please provide package anchors for all Rd \link{} targets not in the
package itself and the base packages.
* checking for missing documentation entries ... OK
* checking for code/documentation mismatches ... OK
* checking Rd \usage sections ... OK
* checking Rd contents ... OK
* checking for unstated dependencies in examples ... OK
* checking contents of ‘data’ directory ... OK
* checking data for non-ASCII characters ... OK
* checking data for ASCII and uncompressed saves ... OK
* checking files in ‘vignettes’ ... OK
* checking examples ... OK
Examples with CPU (user + system) or elapsed time > 5s
user system elapsed
SFfigure 11.687 0.271 11.958
SFpval 8.718 0.142 8.860
* checking for unstated dependencies in vignettes ... OK
* checking package vignettes ... OK
* checking re-building of vignette outputs ... OK
* checking PDF version of manual ... OK
* DONE
Status: 2 NOTEs
See
‘/home/biocbuild/bbs-3.21-bioc/meat/SigFuge.Rcheck/00check.log’
for details.
SigFuge.Rcheck/00install.out
############################################################################## ############################################################################## ### ### Running command: ### ### /home/biocbuild/bbs-3.21-bioc/R/bin/R CMD INSTALL SigFuge ### ############################################################################## ############################################################################## * installing to library ‘/home/biocbuild/bbs-3.21-bioc/R/site-library’ * installing *source* package ‘SigFuge’ ... ** this is package ‘SigFuge’ version ‘1.46.0’ ** using staged installation ** R ** data ** byte-compile and prepare package for lazy loading ** help *** installing help indices ** building package indices ** installing vignettes ** testing if installed package can be loaded from temporary location ** testing if installed package can be loaded from final location ** testing if installed package keeps a record of temporary installation path * DONE (SigFuge)
SigFuge.Rcheck/SigFuge-Ex.timings
| name | user | system | elapsed | |
| SFfigure | 11.687 | 0.271 | 11.958 | |
| SFlabels | 0.936 | 0.039 | 0.974 | |
| SFnormalize | 0.101 | 0.005 | 0.104 | |
| SFpval | 8.718 | 0.142 | 8.860 | |