Back to Multiple platform build/check report for BioC 3.22:   simplified   long
ABCDEFGHIJKLMNOPQR[S]TUVWXYZ

This page was generated on 2025-11-04 12:04 -0500 (Tue, 04 Nov 2025).

HostnameOSArch (*)R versionInstalled pkgs
nebbiolo2Linux (Ubuntu 24.04.3 LTS)x86_644.5.1 Patched (2025-08-23 r88802) -- "Great Square Root" 4902
lconwaymacOS 12.7.6 Montereyx86_644.5.1 Patched (2025-09-10 r88807) -- "Great Square Root" 4692
kjohnson3macOS 13.7.7 Venturaarm644.5.1 Patched (2025-09-10 r88807) -- "Great Square Root" 4638
Click on any hostname to see more info about the system (e.g. compilers)      (*) as reported by 'uname -p', except on Windows and Mac OS X

Package 1941/2361HostnameOS / ArchINSTALLBUILDCHECKBUILD BIN
Sconify 1.30.0  (landing page)
Tyler J Burns
Snapshot Date: 2025-11-03 13:45 -0500 (Mon, 03 Nov 2025)
git_url: https://git.bioconductor.org/packages/Sconify
git_branch: RELEASE_3_22
git_last_commit: 615688e
git_last_commit_date: 2025-10-29 10:44:03 -0500 (Wed, 29 Oct 2025)
nebbiolo2Linux (Ubuntu 24.04.3 LTS) / x86_64  OK    OK    OK  UNNEEDED, same version is already published
lconwaymacOS 12.7.6 Monterey / x86_64  OK    OK    OK    OK  UNNEEDED, same version is already published
kjohnson3macOS 13.7.7 Ventura / arm64  OK    OK    OK    OK  UNNEEDED, same version is already published


CHECK results for Sconify on lconway

To the developers/maintainers of the Sconify package:
- Allow up to 24 hours (and sometimes 48 hours) for your latest push to git@git.bioconductor.org:packages/Sconify.git to reflect on this report. See Troubleshooting Build Report for more information.
- Use the following Renviron settings to reproduce errors and warnings.
- If 'R CMD check' started to fail recently on the Linux builder(s) over a missing dependency, add the missing dependency to 'Suggests:' in your DESCRIPTION file. See Renviron.bioc for more information.

raw results


Summary

Package: Sconify
Version: 1.30.0
Command: /Library/Frameworks/R.framework/Resources/bin/R CMD check --install=check:Sconify.install-out.txt --library=/Library/Frameworks/R.framework/Resources/library --no-vignettes --timings Sconify_1.30.0.tar.gz
StartedAt: 2025-11-04 00:07:56 -0500 (Tue, 04 Nov 2025)
EndedAt: 2025-11-04 00:09:59 -0500 (Tue, 04 Nov 2025)
EllapsedTime: 123.0 seconds
RetCode: 0
Status:   OK  
CheckDir: Sconify.Rcheck
Warnings: 0

Command output

##############################################################################
##############################################################################
###
### Running command:
###
###   /Library/Frameworks/R.framework/Resources/bin/R CMD check --install=check:Sconify.install-out.txt --library=/Library/Frameworks/R.framework/Resources/library --no-vignettes --timings Sconify_1.30.0.tar.gz
###
##############################################################################
##############################################################################


* using log directory ‘/Users/biocbuild/bbs-3.22-bioc/meat/Sconify.Rcheck’
* using R version 4.5.1 Patched (2025-09-10 r88807)
* using platform: x86_64-apple-darwin20
* R was compiled by
    Apple clang version 14.0.0 (clang-1400.0.29.202)
    GNU Fortran (GCC) 14.2.0
* running under: macOS Monterey 12.7.6
* using session charset: UTF-8
* using option ‘--no-vignettes’
* checking for file ‘Sconify/DESCRIPTION’ ... OK
* checking extension type ... Package
* this is package ‘Sconify’ version ‘1.30.0’
* package encoding: UTF-8
* checking package namespace information ... OK
* checking package dependencies ... OK
* checking if this is a source package ... OK
* checking if there is a namespace ... OK
* checking for hidden files and directories ... OK
* checking for portable file names ... OK
* checking for sufficient/correct file permissions ... OK
* checking whether package ‘Sconify’ can be installed ... OK
* checking installed package size ... OK
* checking package directory ... OK
* checking ‘build’ directory ... OK
* checking DESCRIPTION meta-information ... OK
* checking top-level files ... OK
* checking for left-over files ... OK
* checking index information ... OK
* checking package subdirectories ... OK
* checking code files for non-ASCII characters ... OK
* checking R files for syntax errors ... OK
* checking whether the package can be loaded ... OK
* checking whether the package can be loaded with stated dependencies ... OK
* checking whether the package can be unloaded cleanly ... OK
* checking whether the namespace can be loaded with stated dependencies ... OK
* checking whether the namespace can be unloaded cleanly ... OK
* checking dependencies in R code ... OK
* checking S3 generic/method consistency ... OK
* checking replacement functions ... OK
* checking foreign function calls ... OK
* checking R code for possible problems ... OK
* checking Rd files ... OK
* checking Rd metadata ... OK
* checking Rd cross-references ... OK
* checking for missing documentation entries ... OK
* checking for code/documentation mismatches ... OK
* checking Rd \usage sections ... OK
* checking Rd contents ... OK
* checking for unstated dependencies in examples ... OK
* checking contents of ‘data’ directory ... OK
* checking data for non-ASCII characters ... OK
* checking LazyData ... OK
* checking data for ASCII and uncompressed saves ... OK
* checking files in ‘vignettes’ ... OK
* checking examples ... OK
Examples with CPU (user + system) or elapsed time > 5s
              user system elapsed
SconeValues 12.613  0.169  12.848
* checking for unstated dependencies in ‘tests’ ... OK
* checking tests ...
  Running ‘testthat.R’
 OK
* checking for unstated dependencies in vignettes ... OK
* checking package vignettes ... OK
* checking running R code from vignettes ... SKIPPED
* checking re-building of vignette outputs ... SKIPPED
* checking PDF version of manual ... OK
* DONE

Status: OK


Installation output

Sconify.Rcheck/00install.out

##############################################################################
##############################################################################
###
### Running command:
###
###   /Library/Frameworks/R.framework/Resources/bin/R CMD INSTALL Sconify
###
##############################################################################
##############################################################################


* installing to library ‘/Library/Frameworks/R.framework/Versions/4.5-x86_64/Resources/library’
* installing *source* package ‘Sconify’ ...
** this is package ‘Sconify’ version ‘1.30.0’
** using staged installation
** R
** data
*** moving datasets to lazyload DB
** inst
** byte-compile and prepare package for lazy loading
Note: wrong number of arguments to '/' 
Note: wrong number of arguments to 'asinh' 
** help
*** installing help indices
** building package indices
** installing vignettes
** testing if installed package can be loaded from temporary location
** testing if installed package can be loaded from final location
** testing if installed package keeps a record of temporary installation path
* DONE (Sconify)

Tests output

Sconify.Rcheck/tests/testthat.Rout


R version 4.5.1 Patched (2025-09-10 r88807) -- "Great Square Root"
Copyright (C) 2025 The R Foundation for Statistical Computing
Platform: x86_64-apple-darwin20

R is free software and comes with ABSOLUTELY NO WARRANTY.
You are welcome to redistribute it under certain conditions.
Type 'license()' or 'licence()' for distribution details.

R is a collaborative project with many contributors.
Type 'contributors()' for more information and
'citation()' on how to cite R or R packages in publications.

Type 'demo()' for some demos, 'help()' for on-line help, or
'help.start()' for an HTML browser interface to help.
Type 'q()' to quit R.

> library(testthat)
> library(Sconify)
> 
> test_check("Sconify")
Read the 100 x 27 data matrix successfully!
Using no_dims = 2, perplexity = 30.000000, and theta = 0.500000
Computing input similarities...
Building tree...
Done in 0.01 seconds (sparsity = 0.968200)!
Learning embedding...
Iteration 50: error is 52.167828 (50 iterations in 0.01 seconds)
Iteration 100: error is 53.814500 (50 iterations in 0.01 seconds)
Iteration 150: error is 50.702507 (50 iterations in 0.01 seconds)
Iteration 200: error is 51.563951 (50 iterations in 0.01 seconds)
Iteration 250: error is 56.334907 (50 iterations in 0.01 seconds)
Iteration 300: error is 1.344748 (50 iterations in 0.01 seconds)
Iteration 350: error is 0.589876 (50 iterations in 0.01 seconds)
Iteration 400: error is 0.232194 (50 iterations in 0.01 seconds)
Iteration 450: error is 0.217743 (50 iterations in 0.01 seconds)
Iteration 500: error is 0.212956 (50 iterations in 0.01 seconds)
Iteration 550: error is 0.211978 (50 iterations in 0.01 seconds)
Iteration 600: error is 0.211895 (50 iterations in 0.01 seconds)
Iteration 650: error is 0.211502 (50 iterations in 0.01 seconds)
Iteration 700: error is 0.213247 (50 iterations in 0.01 seconds)
Iteration 750: error is 0.198838 (50 iterations in 0.01 seconds)
Iteration 800: error is 0.195716 (50 iterations in 0.01 seconds)
Iteration 850: error is 0.193109 (50 iterations in 0.01 seconds)
Iteration 900: error is 0.191448 (50 iterations in 0.01 seconds)
Iteration 950: error is 0.188151 (50 iterations in 0.01 seconds)
Iteration 1000: error is 0.187580 (50 iterations in 0.01 seconds)
Fitting performed in 0.16 seconds.
Read the 1000 x 27 data matrix successfully!
Using no_dims = 2, perplexity = 30.000000, and theta = 0.500000
Computing input similarities...
Building tree...
Done in 0.11 seconds (sparsity = 0.129120)!
Learning embedding...
Iteration 50: error is 64.414424 (50 iterations in 0.18 seconds)
Iteration 100: error is 60.716489 (50 iterations in 0.16 seconds)
Iteration 150: error is 60.323347 (50 iterations in 0.16 seconds)
Iteration 200: error is 60.182310 (50 iterations in 0.16 seconds)
Iteration 250: error is 60.121890 (50 iterations in 0.17 seconds)
Iteration 300: error is 1.343026 (50 iterations in 0.13 seconds)
Iteration 350: error is 1.229543 (50 iterations in 0.11 seconds)
Iteration 400: error is 1.199022 (50 iterations in 0.11 seconds)
Iteration 450: error is 1.187706 (50 iterations in 0.11 seconds)
Iteration 500: error is 1.176649 (50 iterations in 0.11 seconds)
Iteration 550: error is 1.170388 (50 iterations in 0.11 seconds)
Iteration 600: error is 1.163595 (50 iterations in 0.11 seconds)
Iteration 650: error is 1.158422 (50 iterations in 0.10 seconds)
Iteration 700: error is 1.155706 (50 iterations in 0.12 seconds)
Iteration 750: error is 1.154003 (50 iterations in 0.11 seconds)
Iteration 800: error is 1.153017 (50 iterations in 0.11 seconds)
Iteration 850: error is 1.151502 (50 iterations in 0.12 seconds)
Iteration 900: error is 1.151275 (50 iterations in 0.11 seconds)
Iteration 950: error is 1.148794 (50 iterations in 0.12 seconds)
Iteration 1000: error is 1.147825 (50 iterations in 0.11 seconds)
Fitting performed in 2.52 seconds.
[ FAIL 0 | WARN 2 | SKIP 0 | PASS 72 ]

[ FAIL 0 | WARN 2 | SKIP 0 | PASS 72 ]
> 
> proc.time()
   user  system elapsed 
 20.053   0.736  20.979 

Example timings

Sconify.Rcheck/Sconify-Ex.timings

nameusersystemelapsed
FcsToTibble0.1310.0050.137
Fnn0.3190.8841.217
GetKnnDe0.0610.0070.068
GetMarkerNames0.0320.0030.035
ImputeTesting3.3700.0213.399
MakeHist0.6250.0110.636
MakeKnnList0.2900.0360.327
MeaningOfLife0.0010.0000.000
ParseMarkers0.2170.0280.256
PostProcessing0.0710.0010.073
ProcessMultipleFiles0.1100.0060.117
QuantNormalizeElements0.1680.0060.175
SconeValues12.613 0.16912.848
SplitFile0.0820.0020.084
StringToNumbers000
SubsampleAndTsne1.4330.0491.493
TsneVis0.1860.0040.192