Back to Build/check report for BioC 3.22:   simplified   long
ABCDEFGHIJKLMNOPQR[S]TUVWXYZ

This page was generated on 2025-11-13 11:55 -0500 (Thu, 13 Nov 2025).

HostnameOSArch (*)R versionInstalled pkgs
taishanLinux (openEuler 24.03 LTS)aarch644.5.0 (2025-04-11) -- "How About a Twenty-Six" 4668
Click on any hostname to see more info about the system (e.g. compilers)      (*) as reported by 'uname -p', except on Windows and Mac OS X

Package 2058/2361HostnameOS / ArchINSTALLBUILDCHECKBUILD BIN
SNPhood 1.40.0  (landing page)
Christian Arnold
Snapshot Date: 2025-11-12 13:45 -0500 (Wed, 12 Nov 2025)
git_url: https://git.bioconductor.org/packages/SNPhood
git_branch: RELEASE_3_22
git_last_commit: 60c689c
git_last_commit_date: 2025-10-29 10:28:24 -0500 (Wed, 29 Oct 2025)
taishanLinux (openEuler 24.03 LTS) / aarch64  OK    OK    OK  


CHECK results for SNPhood on taishan

To the developers/maintainers of the SNPhood package:
- Allow up to 24 hours (and sometimes 48 hours) for your latest push to git@git.bioconductor.org:packages/SNPhood.git to reflect on this report. See Troubleshooting Build Report for more information.
- Use the following Renviron settings to reproduce errors and warnings.
- If 'R CMD check' started to fail recently on the Linux builder(s) over a missing dependency, add the missing dependency to 'Suggests:' in your DESCRIPTION file. See Renviron.bioc for more information.
- See Martin Grigorov's blog post for how to debug Linux ARM64 related issues on a x86_64 host.

raw results


Summary

Package: SNPhood
Version: 1.40.0
Command: /home/biocbuild/R/R/bin/R CMD check --install=check:SNPhood.install-out.txt --library=/home/biocbuild/R/R/site-library --no-vignettes --timings SNPhood_1.40.0.tar.gz
StartedAt: 2025-11-11 15:03:38 -0000 (Tue, 11 Nov 2025)
EndedAt: 2025-11-11 15:18:27 -0000 (Tue, 11 Nov 2025)
EllapsedTime: 889.4 seconds
RetCode: 0
Status:   OK  
CheckDir: SNPhood.Rcheck
Warnings: 0

Command output

##############################################################################
##############################################################################
###
### Running command:
###
###   /home/biocbuild/R/R/bin/R CMD check --install=check:SNPhood.install-out.txt --library=/home/biocbuild/R/R/site-library --no-vignettes --timings SNPhood_1.40.0.tar.gz
###
##############################################################################
##############################################################################


* using log directory ‘/home/biocbuild/bbs-3.22-bioc/meat/SNPhood.Rcheck’
* using R version 4.5.0 (2025-04-11)
* using platform: aarch64-unknown-linux-gnu
* R was compiled by
    aarch64-unknown-linux-gnu-gcc (GCC) 14.2.0
    GNU Fortran (GCC) 14.2.0
* running under: openEuler 24.03 (LTS)
* using session charset: UTF-8
* using option ‘--no-vignettes’
* checking for file ‘SNPhood/DESCRIPTION’ ... OK
* this is package ‘SNPhood’ version ‘1.40.0’
* checking package namespace information ... OK
* checking package dependencies ... OK
* checking if this is a source package ... OK
* checking if there is a namespace ... OK
* checking for hidden files and directories ... OK
* checking for portable file names ... OK
* checking for sufficient/correct file permissions ... OK
* checking whether package ‘SNPhood’ can be installed ... OK
* checking installed package size ... OK
* checking package directory ... OK
* checking ‘build’ directory ... OK
* checking DESCRIPTION meta-information ... NOTE
BugReports field is not a suitable URL but contains an email address:
   use the Contact field instead
* checking top-level files ... OK
* checking for left-over files ... OK
* checking index information ... OK
* checking package subdirectories ... OK
* checking code files for non-ASCII characters ... OK
* checking R files for syntax errors ... OK
* checking whether the package can be loaded ... OK
* checking whether the package can be loaded with stated dependencies ... OK
* checking whether the package can be unloaded cleanly ... OK
* checking whether the namespace can be loaded with stated dependencies ... OK
* checking whether the namespace can be unloaded cleanly ... OK
* checking loading without being on the library search path ... OK
* checking whether startup messages can be suppressed ... OK
* checking dependencies in R code ... OK
* checking S3 generic/method consistency ... OK
* checking replacement functions ... OK
* checking foreign function calls ... OK
* checking R code for possible problems ... NOTE
.calcBinomTestVector: no visible binding for global variable ‘pp’
Undefined global functions or variables:
  pp
* checking Rd files ... OK
* checking Rd metadata ... OK
* checking Rd cross-references ... NOTE
Found the following Rd file(s) with Rd \link{} targets missing package
anchors:
  analyzeSNPhood.Rd: BamFile-class, BamFileList-class
  collectFiles.Rd: BamFile-class, BamFileList-class
Please provide package anchors for all Rd \link{} targets not in the
package itself and the base packages.
* checking for missing documentation entries ... OK
* checking for code/documentation mismatches ... OK
* checking Rd \usage sections ... OK
* checking Rd contents ... OK
* checking for unstated dependencies in examples ... OK
* checking contents of ‘data’ directory ... OK
* checking data for non-ASCII characters ... OK
* checking LazyData ... OK
* checking data for ASCII and uncompressed saves ... OK
* checking files in ‘vignettes’ ... OK
* checking examples ... OK
Examples with CPU (user + system) or elapsed time > 5s
                                   user system elapsed
analyzeSNPhood                  125.674  3.023 168.842
plotAllelicBiasResults           39.845  0.168  48.619
plotAndSummarizeAllelicBiasTest  36.073  0.073  39.919
plotFDRResults                   35.834  0.163  40.240
testForAllelicBiases             34.702  0.168  40.436
annotationBins2                   8.724  0.002  10.637
associateGenotypes                7.778  0.027   8.295
* checking for unstated dependencies in vignettes ... OK
* checking package vignettes ... OK
* checking running R code from vignettes ... SKIPPED
* checking re-building of vignette outputs ... SKIPPED
* checking PDF version of manual ... OK
* DONE

Status: 3 NOTEs
See
  ‘/home/biocbuild/bbs-3.22-bioc/meat/SNPhood.Rcheck/00check.log’
for details.


Installation output

SNPhood.Rcheck/00install.out

##############################################################################
##############################################################################
###
### Running command:
###
###   /home/biocbuild/R/R/bin/R CMD INSTALL SNPhood
###
##############################################################################
##############################################################################


* installing to library ‘/home/biocbuild/R/R-4.5.0/site-library’
* installing *source* package ‘SNPhood’ ...
** this is package ‘SNPhood’ version ‘1.40.0’
** using staged installation
** R
** data
*** moving datasets to lazyload DB
** byte-compile and prepare package for lazy loading
** help
*** installing help indices
** building package indices
** installing vignettes
** testing if installed package can be loaded from temporary location
** testing if installed package can be loaded from final location
** testing if installed package keeps a record of temporary installation path
* DONE (SNPhood)

Tests output


Example timings

SNPhood.Rcheck/SNPhood-Ex.timings

nameusersystemelapsed
analyzeSNPhood125.674 3.023168.842
annotation-methods0.2830.0120.298
annotationBins0.1630.0120.175
annotationBins2 8.724 0.00210.637
annotationDatasets0.1590.0040.163
annotationReadGroups0.1720.0000.173
annotationRegions0.1730.0040.178
associateGenotypes7.7780.0278.295
bins-methods0.1640.0120.182
changeObjectIntegrityChecking0.1980.0040.202
collectFiles0.0380.0000.038
convertToAllelicFractions0.2780.0000.278
counts-method0.2910.0000.291
datasets-methods0.1840.0000.249
deleteDatasets0.9940.0201.100
deleteReadGroups0.2130.0000.213
deleteRegions1.0640.0041.078
enrichment-methods0.1970.0080.206
getDefaultParameterList0.0000.0000.001
mergeReadGroups0.2560.0120.337
parameters-methods0.1870.0040.191
plotAllelicBiasResults39.845 0.16848.619
plotAllelicBiasResultsOverview1.7530.0282.305
plotAndCalculateCorrelationDatasets1.2530.0641.321
plotAndCalculateWeakAndStrongGenotype0.8780.0081.243
plotAndClusterMatrix0.8230.0081.663
plotAndSummarizeAllelicBiasTest36.073 0.07339.919
plotBinCounts2.6550.0042.973
plotClusterAverage1.1830.0121.323
plotFDRResults35.834 0.16340.240
plotGenotypesPerCluster0.7270.0280.758
plotGenotypesPerSNP0.5640.0160.589
plotRegionCounts3.0420.0163.526
readGroups-methods0.1490.0000.152
regions-methods0.1680.0000.257
renameBins0.1810.0000.182
renameDatasets1.0590.0081.731
renameReadGroups0.1730.0000.346
renameRegions3.2150.0233.834
results1.6781.3213.386
testForAllelicBiases34.702 0.16840.436