| Back to Multiple platform build/check report for BioC 3.21: simplified long |
|
This page was generated on 2025-04-22 13:18 -0400 (Tue, 22 Apr 2025).
| Hostname | OS | Arch (*) | R version | Installed pkgs |
|---|---|---|---|---|
| nebbiolo1 | Linux (Ubuntu 24.04.1 LTS) | x86_64 | 4.5.0 RC (2025-04-04 r88126) -- "How About a Twenty-Six" | 4831 |
| palomino7 | Windows Server 2022 Datacenter | x64 | 4.5.0 RC (2025-04-04 r88126 ucrt) -- "How About a Twenty-Six" | 4573 |
| lconway | macOS 12.7.1 Monterey | x86_64 | 4.5.0 RC (2025-04-04 r88126) -- "How About a Twenty-Six" | 4599 |
| kjohnson3 | macOS 13.7.1 Ventura | arm64 | 4.5.0 RC (2025-04-04 r88126) -- "How About a Twenty-Six" | 4553 |
| kunpeng2 | Linux (openEuler 24.03 LTS) | aarch64 | R Under development (unstable) (2025-02-19 r87757) -- "Unsuffered Consequences" | 4570 |
| Click on any hostname to see more info about the system (e.g. compilers) (*) as reported by 'uname -p', except on Windows and Mac OS X | ||||
| Package 2037/2341 | Hostname | OS / Arch | INSTALL | BUILD | CHECK | BUILD BIN | ||||||||
| SNPhood 1.38.0 (landing page) Christian Arnold
| nebbiolo1 | Linux (Ubuntu 24.04.1 LTS) / x86_64 | OK | OK | OK | |||||||||
| palomino7 | Windows Server 2022 Datacenter / x64 | OK | OK | OK | OK | |||||||||
| lconway | macOS 12.7.1 Monterey / x86_64 | OK | OK | OK | OK | |||||||||
| kjohnson3 | macOS 13.7.1 Ventura / arm64 | OK | OK | OK | OK | |||||||||
| kunpeng2 | Linux (openEuler 24.03 LTS) / aarch64 | OK | OK | OK | ||||||||||
|
To the developers/maintainers of the SNPhood package: - Allow up to 24 hours (and sometimes 48 hours) for your latest push to git@git.bioconductor.org:packages/SNPhood.git to reflect on this report. See Troubleshooting Build Report for more information. - Use the following Renviron settings to reproduce errors and warnings. - If 'R CMD check' started to fail recently on the Linux builder(s) over a missing dependency, add the missing dependency to 'Suggests:' in your DESCRIPTION file. See Renviron.bioc for more information. |
| Package: SNPhood |
| Version: 1.38.0 |
| Command: /Library/Frameworks/R.framework/Resources/bin/R CMD check --install=check:SNPhood.install-out.txt --library=/Library/Frameworks/R.framework/Resources/library --no-vignettes --timings SNPhood_1.38.0.tar.gz |
| StartedAt: 2025-04-21 21:46:31 -0400 (Mon, 21 Apr 2025) |
| EndedAt: 2025-04-21 21:50:35 -0400 (Mon, 21 Apr 2025) |
| EllapsedTime: 243.8 seconds |
| RetCode: 0 |
| Status: OK |
| CheckDir: SNPhood.Rcheck |
| Warnings: 0 |
##############################################################################
##############################################################################
###
### Running command:
###
### /Library/Frameworks/R.framework/Resources/bin/R CMD check --install=check:SNPhood.install-out.txt --library=/Library/Frameworks/R.framework/Resources/library --no-vignettes --timings SNPhood_1.38.0.tar.gz
###
##############################################################################
##############################################################################
* using log directory ‘/Users/biocbuild/bbs-3.21-bioc/meat/SNPhood.Rcheck’
* using R version 4.5.0 RC (2025-04-04 r88126)
* using platform: aarch64-apple-darwin20
* R was compiled by
Apple clang version 14.0.0 (clang-1400.0.29.202)
GNU Fortran (GCC) 14.2.0
* running under: macOS Ventura 13.7.1
* using session charset: UTF-8
* using option ‘--no-vignettes’
* checking for file ‘SNPhood/DESCRIPTION’ ... OK
* this is package ‘SNPhood’ version ‘1.38.0’
* checking package namespace information ... OK
* checking package dependencies ... OK
* checking if this is a source package ... OK
* checking if there is a namespace ... OK
* checking for hidden files and directories ... OK
* checking for portable file names ... OK
* checking for sufficient/correct file permissions ... OK
* checking whether package ‘SNPhood’ can be installed ... OK
* checking installed package size ... OK
* checking package directory ... OK
* checking ‘build’ directory ... OK
* checking DESCRIPTION meta-information ... NOTE
BugReports field is not a suitable URL but contains an email address:
use the Contact field instead
* checking top-level files ... OK
* checking for left-over files ... OK
* checking index information ... OK
* checking package subdirectories ... OK
* checking code files for non-ASCII characters ... OK
* checking R files for syntax errors ... OK
* checking whether the package can be loaded ... OK
* checking whether the package can be loaded with stated dependencies ... OK
* checking whether the package can be unloaded cleanly ... OK
* checking whether the namespace can be loaded with stated dependencies ... OK
* checking whether the namespace can be unloaded cleanly ... OK
* checking whether startup messages can be suppressed ... OK
* checking dependencies in R code ... OK
* checking S3 generic/method consistency ... OK
* checking replacement functions ... OK
* checking foreign function calls ... OK
* checking R code for possible problems ... NOTE
.calcBinomTestVector: no visible binding for global variable ‘pp’
Undefined global functions or variables:
pp
* checking Rd files ... OK
* checking Rd metadata ... OK
* checking Rd cross-references ... NOTE
Found the following Rd file(s) with Rd \link{} targets missing package
anchors:
analyzeSNPhood.Rd: BamFile-class, BamFileList-class
collectFiles.Rd: BamFile-class, BamFileList-class
Please provide package anchors for all Rd \link{} targets not in the
package itself and the base packages.
* checking for missing documentation entries ... OK
* checking for code/documentation mismatches ... OK
* checking Rd \usage sections ... OK
* checking Rd contents ... OK
* checking for unstated dependencies in examples ... OK
* checking contents of ‘data’ directory ... OK
* checking data for non-ASCII characters ... OK
* checking LazyData ... OK
* checking data for ASCII and uncompressed saves ... OK
* checking files in ‘vignettes’ ... OK
* checking examples ... OK
Examples with CPU (user + system) or elapsed time > 5s
user system elapsed
analyzeSNPhood 40.848 0.777 42.334
plotAllelicBiasResults 14.743 0.814 11.785
testForAllelicBiases 14.062 0.588 11.238
plotAndSummarizeAllelicBiasTest 13.915 0.625 10.946
plotFDRResults 13.753 0.585 10.902
* checking for unstated dependencies in vignettes ... OK
* checking package vignettes ... OK
* checking running R code from vignettes ... SKIPPED
* checking re-building of vignette outputs ... SKIPPED
* checking PDF version of manual ... OK
* DONE
Status: 3 NOTEs
See
‘/Users/biocbuild/bbs-3.21-bioc/meat/SNPhood.Rcheck/00check.log’
for details.
SNPhood.Rcheck/00install.out
############################################################################## ############################################################################## ### ### Running command: ### ### /Library/Frameworks/R.framework/Resources/bin/R CMD INSTALL SNPhood ### ############################################################################## ############################################################################## * installing to library ‘/Library/Frameworks/R.framework/Versions/4.5-arm64/Resources/library’ * installing *source* package ‘SNPhood’ ... ** this is package ‘SNPhood’ version ‘1.38.0’ ** using staged installation ** R ** data *** moving datasets to lazyload DB ** byte-compile and prepare package for lazy loading ** help *** installing help indices ** building package indices ** installing vignettes ** testing if installed package can be loaded from temporary location ** testing if installed package can be loaded from final location ** testing if installed package keeps a record of temporary installation path * DONE (SNPhood)
SNPhood.Rcheck/SNPhood-Ex.timings
| name | user | system | elapsed | |
| analyzeSNPhood | 40.848 | 0.777 | 42.334 | |
| annotation-methods | 0.075 | 0.027 | 0.103 | |
| annotationBins | 0.046 | 0.011 | 0.057 | |
| annotationBins2 | 4.642 | 0.010 | 4.664 | |
| annotationDatasets | 0.045 | 0.009 | 0.054 | |
| annotationReadGroups | 0.050 | 0.009 | 0.059 | |
| annotationRegions | 0.054 | 0.007 | 0.061 | |
| associateGenotypes | 1.801 | 0.079 | 1.891 | |
| bins-methods | 0.047 | 0.009 | 0.056 | |
| changeObjectIntegrityChecking | 0.058 | 0.012 | 0.070 | |
| collectFiles | 0.010 | 0.001 | 0.011 | |
| convertToAllelicFractions | 0.083 | 0.030 | 0.114 | |
| counts-method | 0.077 | 0.017 | 0.094 | |
| datasets-methods | 0.053 | 0.018 | 0.071 | |
| deleteDatasets | 0.573 | 0.009 | 0.582 | |
| deleteReadGroups | 0.058 | 0.006 | 0.064 | |
| deleteRegions | 0.506 | 0.008 | 0.514 | |
| enrichment-methods | 0.052 | 0.005 | 0.056 | |
| getDefaultParameterList | 0 | 0 | 0 | |
| mergeReadGroups | 0.064 | 0.008 | 0.072 | |
| parameters-methods | 0.050 | 0.008 | 0.057 | |
| plotAllelicBiasResults | 14.743 | 0.814 | 11.785 | |
| plotAllelicBiasResultsOverview | 0.276 | 0.009 | 0.285 | |
| plotAndCalculateCorrelationDatasets | 0.528 | 0.012 | 0.541 | |
| plotAndCalculateWeakAndStrongGenotype | 0.251 | 0.028 | 0.277 | |
| plotAndClusterMatrix | 0.702 | 0.022 | 0.738 | |
| plotAndSummarizeAllelicBiasTest | 13.915 | 0.625 | 10.946 | |
| plotBinCounts | 0.372 | 0.016 | 0.415 | |
| plotClusterAverage | 0.623 | 0.018 | 0.692 | |
| plotFDRResults | 13.753 | 0.585 | 10.902 | |
| plotGenotypesPerCluster | 0.193 | 0.024 | 0.153 | |
| plotGenotypesPerSNP | 0.121 | 0.022 | 0.147 | |
| plotRegionCounts | 0.555 | 0.036 | 0.597 | |
| readGroups-methods | 0.049 | 0.011 | 0.061 | |
| regions-methods | 0.479 | 0.016 | 0.512 | |
| renameBins | 0.047 | 0.010 | 0.059 | |
| renameDatasets | 0.053 | 0.014 | 0.072 | |
| renameReadGroups | 0.050 | 0.010 | 0.059 | |
| renameRegions | 0.641 | 0.030 | 0.678 | |
| results | 0.715 | 2.414 | 3.169 | |
| testForAllelicBiases | 14.062 | 0.588 | 11.238 | |