| Back to Build/check report for BioC 3.22: simplified long |
|
This page was generated on 2025-11-13 11:55 -0500 (Thu, 13 Nov 2025).
| Hostname | OS | Arch (*) | R version | Installed pkgs |
|---|---|---|---|---|
| taishan | Linux (openEuler 24.03 LTS) | aarch64 | 4.5.0 (2025-04-11) -- "How About a Twenty-Six" | 4668 |
| Click on any hostname to see more info about the system (e.g. compilers) (*) as reported by 'uname -p', except on Windows and Mac OS X | ||||
| Package 2050/2361 | Hostname | OS / Arch | INSTALL | BUILD | CHECK | BUILD BIN | ||||||||
| SMITE 1.38.0 (landing page) Neil Ari Wijetunga
| taishan | Linux (openEuler 24.03 LTS) / aarch64 | OK | OK | OK | |||||||||
|
To the developers/maintainers of the SMITE package: - Allow up to 24 hours (and sometimes 48 hours) for your latest push to git@git.bioconductor.org:packages/SMITE.git to reflect on this report. See Troubleshooting Build Report for more information. - Use the following Renviron settings to reproduce errors and warnings. - If 'R CMD check' started to fail recently on the Linux builder(s) over a missing dependency, add the missing dependency to 'Suggests:' in your DESCRIPTION file. See Renviron.bioc for more information. - See Martin Grigorov's blog post for how to debug Linux ARM64 related issues on a x86_64 host. |
| Package: SMITE |
| Version: 1.38.0 |
| Command: /home/biocbuild/R/R/bin/R CMD check --install=check:SMITE.install-out.txt --library=/home/biocbuild/R/R/site-library --no-vignettes --timings SMITE_1.38.0.tar.gz |
| StartedAt: 2025-11-11 15:00:46 -0000 (Tue, 11 Nov 2025) |
| EndedAt: 2025-11-11 15:08:03 -0000 (Tue, 11 Nov 2025) |
| EllapsedTime: 437.7 seconds |
| RetCode: 0 |
| Status: OK |
| CheckDir: SMITE.Rcheck |
| Warnings: 0 |
##############################################################################
##############################################################################
###
### Running command:
###
### /home/biocbuild/R/R/bin/R CMD check --install=check:SMITE.install-out.txt --library=/home/biocbuild/R/R/site-library --no-vignettes --timings SMITE_1.38.0.tar.gz
###
##############################################################################
##############################################################################
* using log directory ‘/home/biocbuild/bbs-3.22-bioc/meat/SMITE.Rcheck’
* using R version 4.5.0 (2025-04-11)
* using platform: aarch64-unknown-linux-gnu
* R was compiled by
aarch64-unknown-linux-gnu-gcc (GCC) 14.2.0
GNU Fortran (GCC) 14.2.0
* running under: openEuler 24.03 (LTS)
* using session charset: UTF-8
* using option ‘--no-vignettes’
* checking for file ‘SMITE/DESCRIPTION’ ... OK
* checking extension type ... Package
* this is package ‘SMITE’ version ‘1.38.0’
* checking package namespace information ... OK
* checking package dependencies ... OK
* checking if this is a source package ... OK
* checking if there is a namespace ... OK
* checking for hidden files and directories ... OK
* checking for portable file names ... OK
* checking for sufficient/correct file permissions ... OK
* checking whether package ‘SMITE’ can be installed ... OK
* checking installed package size ... OK
* checking package directory ... OK
* checking ‘build’ directory ... OK
* checking DESCRIPTION meta-information ... OK
* checking top-level files ... OK
* checking for left-over files ... OK
* checking index information ... OK
* checking package subdirectories ... OK
* checking code files for non-ASCII characters ... OK
* checking R files for syntax errors ... OK
* checking whether the package can be loaded ... OK
* checking whether the package can be loaded with stated dependencies ... OK
* checking whether the package can be unloaded cleanly ... OK
* checking whether the namespace can be loaded with stated dependencies ... OK
* checking whether the namespace can be unloaded cleanly ... OK
* checking loading without being on the library search path ... OK
* checking dependencies in R code ... OK
* checking S3 generic/method consistency ... OK
* checking replacement functions ... OK
* checking foreign function calls ... OK
* checking R code for possible problems ... OK
* checking Rd files ... OK
* checking Rd metadata ... OK
* checking Rd cross-references ... OK
* checking for missing documentation entries ... OK
* checking for code/documentation mismatches ... OK
* checking Rd \usage sections ... OK
* checking Rd contents ... OK
* checking for unstated dependencies in examples ... OK
* checking contents of ‘data’ directory ... OK
* checking data for non-ASCII characters ... OK
* checking data for ASCII and uncompressed saves ... OK
* checking files in ‘vignettes’ ... OK
* checking examples ... OK
* checking for unstated dependencies in vignettes ... OK
* checking package vignettes ... OK
* checking running R code from vignettes ... SKIPPED
* checking re-building of vignette outputs ... SKIPPED
* checking PDF version of manual ... OK
* DONE
Status: OK
SMITE.Rcheck/00install.out
############################################################################## ############################################################################## ### ### Running command: ### ### /home/biocbuild/R/R/bin/R CMD INSTALL SMITE ### ############################################################################## ############################################################################## * installing to library ‘/home/biocbuild/R/R-4.5.0/site-library’ * installing *source* package ‘SMITE’ ... ** this is package ‘SMITE’ version ‘1.38.0’ ** using staged installation ** R ** data ** inst ** byte-compile and prepare package for lazy loading ** help *** installing help indices ** building package indices ** installing vignettes ** testing if installed package can be loaded from temporary location ** testing if installed package can be loaded from final location ** testing if installed package keeps a record of temporary installation path * DONE (SMITE)
SMITE.Rcheck/SMITE-Ex.timings
| name | user | system | elapsed | |
| Reactome.Symbol.Igraph | 0.267 | 0.008 | 0.277 | |
| SMITE-package | 0.341 | 0.020 | 0.361 | |
| addShadowText | 0.003 | 0.000 | 0.002 | |
| annotateExpression | 1.074 | 0.024 | 1.947 | |
| annotateModification | 0 | 0 | 0 | |
| convertGeneIds | 2.361 | 0.183 | 3.691 | |
| curated_expression | 0.041 | 0.000 | 0.082 | |
| extractExpression | 0.308 | 0.000 | 0.561 | |
| extractGOseq | 0.081 | 0.000 | 0.081 | |
| extractModification | 2.016 | 0.075 | 2.110 | |
| extractModules | 0.081 | 0.000 | 0.082 | |
| extractScores | 0.077 | 0.004 | 0.081 | |
| genes_for_conversiontest | 1.278 | 0.004 | 1.337 | |
| hg19_gene_bed | 0.128 | 0.000 | 0.144 | |
| highScores | 0.08 | 0.00 | 0.08 | |
| histone_h3k4me1 | 0.055 | 0.008 | 0.063 | |
| makePvalueAnnotation | 0.818 | 0.028 | 0.868 | |
| makePvalueObject | 0.053 | 0.000 | 0.053 | |
| methylationdata | 0.049 | 0.000 | 0.050 | |
| normalizePval | 0.077 | 0.008 | 0.084 | |
| plotCompareScores | 0.626 | 0.028 | 0.656 | |
| plotDensityPval | 0.118 | 0.007 | 0.126 | |
| plotModule | 0.081 | 0.000 | 0.082 | |
| removeModification | 0.052 | 0.004 | 0.056 | |
| runBioNet | 0.082 | 0.000 | 0.084 | |
| runGOseq | 0.088 | 0.000 | 0.088 | |
| runSpinglass | 0.731 | 0.000 | 0.733 | |
| scorePval | 0.08 | 0.00 | 0.08 | |
| stoufferTest | 0.002 | 0.000 | 0.001 | |
| test_annotation_score_data | 0.122 | 0.000 | 0.122 | |