Back to Multiple platform build/check report for BioC 3.22:   simplified   long
ABCDEFGHIJKLMNOPQR[S]TUVWXYZ

This page was generated on 2025-11-11 12:02 -0500 (Tue, 11 Nov 2025).

HostnameOSArch (*)R versionInstalled pkgs
nebbiolo2Linux (Ubuntu 24.04.3 LTS)x86_644.5.1 Patched (2025-08-23 r88802) -- "Great Square Root" 4902
kjohnson3macOS 13.7.7 Venturaarm644.5.1 Patched (2025-09-10 r88807) -- "Great Square Root" 4638
Click on any hostname to see more info about the system (e.g. compilers)      (*) as reported by 'uname -p', except on Windows and Mac OS X

Package 2006/2361HostnameOS / ArchINSTALLBUILDCHECKBUILD BIN
SIAMCAT 2.14.0  (landing page)
Jakob Wirbel
Snapshot Date: 2025-11-10 13:45 -0500 (Mon, 10 Nov 2025)
git_url: https://git.bioconductor.org/packages/SIAMCAT
git_branch: RELEASE_3_22
git_last_commit: cf500c9
git_last_commit_date: 2025-10-29 10:45:25 -0500 (Wed, 29 Oct 2025)
nebbiolo2Linux (Ubuntu 24.04.3 LTS) / x86_64  OK    OK    OK  UNNEEDED, same version is already published
kjohnson3macOS 13.7.7 Ventura / arm64  OK    OK    OK    OK  UNNEEDED, same version is already published


CHECK results for SIAMCAT on nebbiolo2

To the developers/maintainers of the SIAMCAT package:
- Allow up to 24 hours (and sometimes 48 hours) for your latest push to git@git.bioconductor.org:packages/SIAMCAT.git to reflect on this report. See Troubleshooting Build Report for more information.
- Use the following Renviron settings to reproduce errors and warnings.
- If 'R CMD check' started to fail recently on the Linux builder(s) over a missing dependency, add the missing dependency to 'Suggests:' in your DESCRIPTION file. See Renviron.bioc for more information.

raw results


Summary

Package: SIAMCAT
Version: 2.14.0
Command: /home/biocbuild/bbs-3.22-bioc/R/bin/R CMD check --install=check:SIAMCAT.install-out.txt --library=/home/biocbuild/bbs-3.22-bioc/R/site-library --timings SIAMCAT_2.14.0.tar.gz
StartedAt: 2025-11-11 04:15:58 -0500 (Tue, 11 Nov 2025)
EndedAt: 2025-11-11 04:24:18 -0500 (Tue, 11 Nov 2025)
EllapsedTime: 499.5 seconds
RetCode: 0
Status:   OK  
CheckDir: SIAMCAT.Rcheck
Warnings: 0

Command output

##############################################################################
##############################################################################
###
### Running command:
###
###   /home/biocbuild/bbs-3.22-bioc/R/bin/R CMD check --install=check:SIAMCAT.install-out.txt --library=/home/biocbuild/bbs-3.22-bioc/R/site-library --timings SIAMCAT_2.14.0.tar.gz
###
##############################################################################
##############################################################################


* using log directory ‘/home/biocbuild/bbs-3.22-bioc/meat/SIAMCAT.Rcheck’
* using R version 4.5.1 Patched (2025-08-23 r88802)
* using platform: x86_64-pc-linux-gnu
* R was compiled by
    gcc (Ubuntu 13.3.0-6ubuntu2~24.04) 13.3.0
    GNU Fortran (Ubuntu 13.3.0-6ubuntu2~24.04) 13.3.0
* running under: Ubuntu 24.04.3 LTS
* using session charset: UTF-8
* checking for file ‘SIAMCAT/DESCRIPTION’ ... OK
* checking extension type ... Package
* this is package ‘SIAMCAT’ version ‘2.14.0’
* package encoding: UTF-8
* checking package namespace information ... OK
* checking package dependencies ... OK
* checking if this is a source package ... OK
* checking if there is a namespace ... OK
* checking for hidden files and directories ... NOTE
Found the following hidden files and directories:
  .travis.yml
These were most likely included in error. See section ‘Package
structure’ in the ‘Writing R Extensions’ manual.
* checking for portable file names ... OK
* checking for sufficient/correct file permissions ... OK
* checking whether package ‘SIAMCAT’ can be installed ... OK
* checking installed package size ... INFO
  installed size is  5.1Mb
  sub-directories of 1Mb or more:
    extdata   2.1Mb
    help      1.9Mb
* checking package directory ... OK
* checking ‘build’ directory ... OK
* checking DESCRIPTION meta-information ... OK
* checking top-level files ... OK
* checking for left-over files ... OK
* checking index information ... OK
* checking package subdirectories ... OK
* checking code files for non-ASCII characters ... OK
* checking R files for syntax errors ... OK
* checking whether the package can be loaded ... OK
* checking whether the package can be loaded with stated dependencies ... OK
* checking whether the package can be unloaded cleanly ... OK
* checking whether the namespace can be loaded with stated dependencies ... OK
* checking whether the namespace can be unloaded cleanly ... OK
* checking loading without being on the library search path ... OK
* checking dependencies in R code ... OK
* checking S3 generic/method consistency ... OK
* checking replacement functions ... OK
* checking foreign function calls ... OK
* checking R code for possible problems ... OK
* checking Rd files ... OK
* checking Rd metadata ... OK
* checking Rd cross-references ... NOTE
Found the following Rd file(s) with Rd \link{} targets missing package
anchors:
  check.associations.Rd: lmerTest
  summarize.features.Rd: phyloseq
  train.model.Rd: mlr3learners, glmnet, LiblineaR
Please provide package anchors for all Rd \link{} targets not in the
package itself and the base packages.
* checking for missing documentation entries ... OK
* checking for code/documentation mismatches ... OK
* checking Rd \usage sections ... OK
* checking Rd contents ... OK
* checking for unstated dependencies in examples ... OK
* checking contents of ‘data’ directory ... OK
* checking data for non-ASCII characters ... OK
* checking LazyData ... OK
* checking data for ASCII and uncompressed saves ... OK
* checking files in ‘vignettes’ ... OK
* checking examples ... OK
Examples with CPU (user + system) or elapsed time > 5s
                            user system elapsed
assign-model_list         22.535  0.399  22.935
make.predictions          22.255  0.233  22.488
model.interpretation.plot 21.924  0.183  22.107
train.model               21.736  0.156  21.893
* checking for unstated dependencies in vignettes ... OK
* checking package vignettes ... OK
* checking re-building of vignette outputs ... OK
* checking PDF version of manual ... OK
* DONE

Status: 2 NOTEs
See
  ‘/home/biocbuild/bbs-3.22-bioc/meat/SIAMCAT.Rcheck/00check.log’
for details.


Installation output

SIAMCAT.Rcheck/00install.out

##############################################################################
##############################################################################
###
### Running command:
###
###   /home/biocbuild/bbs-3.22-bioc/R/bin/R CMD INSTALL SIAMCAT
###
##############################################################################
##############################################################################


* installing to library ‘/home/biocbuild/bbs-3.22-bioc/R/site-library’
* installing *source* package ‘SIAMCAT’ ...
** this is package ‘SIAMCAT’ version ‘2.14.0’
** using staged installation
** R
** data
*** moving datasets to lazyload DB
** inst
** byte-compile and prepare package for lazy loading
** help
*** installing help indices
*** copying figures
** building package indices
** installing vignettes
** testing if installed package can be loaded from temporary location
** testing if installed package can be loaded from final location
** testing if installed package keeps a record of temporary installation path
* DONE (SIAMCAT)

Tests output


Example timings

SIAMCAT.Rcheck/SIAMCAT-Ex.timings

nameusersystemelapsed
accessSlot0.0050.0010.007
add.meta.pred0.0240.0000.024
assign-associations0.0060.0000.006
assign-data_split0.0060.0000.006
assign-eval_data0.0030.0030.006
assign-filt_feat0.0050.0010.006
assign-label0.0060.0000.006
assign-meta0.0240.0010.025
assign-model_list22.535 0.39922.935
assign-norm_feat0.0060.0000.006
assign-orig_feat0.0080.0030.011
assign-physeq0.0050.0010.006
assign-pred_matrix0.0470.0120.059
assoc_param-methods0.0040.0020.006
association.plot0.2100.0030.213
associations-methods0.0060.0010.007
check.associations0.0090.0000.009
check.confounders0.4010.0050.407
create.data.split0.0380.0010.039
create.label0.0020.0000.002
data_split-methods0.0040.0000.004
eval_data-methods0.0040.0010.005
evaluate.predictions1.6690.0001.669
feature_type-methods0.0050.0000.005
feature_weights-methods0.0060.0000.006
filt_feat-methods0.0050.0000.005
filt_params-methods0.0040.0000.005
filter.features0.0110.0000.013
filter.label0.0060.0000.006
get.filt_feat.matrix0.0040.0010.004
get.norm_feat.matrix0.0050.0000.005
get.orig_feat.matrix0.0050.0000.005
label-methods0.0050.0000.004
make.predictions22.255 0.23322.488
meta-methods0.0160.0010.017
model.evaluation.plot0.0210.0010.023
model.interpretation.plot21.924 0.18322.107
model_list-methods0.0050.0000.005
model_type-methods0.0050.0000.005
models-methods0.0050.0000.005
norm_feat-methods0.0040.0010.004
norm_params-methods0.0050.0000.005
normalize.features0.0130.0000.013
orig_feat-methods0.0040.0010.005
physeq-methods0.0080.0000.008
pred_matrix-methods0.0050.0000.005
read.label0.0060.0010.007
read.lefse0.5440.0060.550
select.samples0.0510.0000.051
siamcat0.8640.0910.954
siamcat.to.lefse0.0150.0000.014
siamcat.to.maaslin0.0170.0000.017
summarize.features1.1370.0191.155
train.model21.736 0.15621.893
validate.data0.0150.0010.016
volcano.plot0.0090.0010.010
weight_matrix-methods0.0040.0000.004