Back to Multiple platform build/check report for BioC 3.22:   simplified   long
ABCDEFGHIJKLMNOPQR[S]TUVWXYZ

This page was generated on 2025-11-12 11:58 -0500 (Wed, 12 Nov 2025).

HostnameOSArch (*)R versionInstalled pkgs
nebbiolo2Linux (Ubuntu 24.04.3 LTS)x86_644.5.1 Patched (2025-08-23 r88802) -- "Great Square Root" 4902
taishanLinux (openEuler 24.03 LTS)aarch644.5.0 (2025-04-11) -- "How About a Twenty-Six" 4668
Click on any hostname to see more info about the system (e.g. compilers)      (*) as reported by 'uname -p', except on Windows and Mac OS X

Package 1972/2361HostnameOS / ArchINSTALLBUILDCHECKBUILD BIN
SELEX 1.42.0  (landing page)
Harmen J. Bussemaker
Snapshot Date: 2025-11-11 13:45 -0500 (Tue, 11 Nov 2025)
git_url: https://git.bioconductor.org/packages/SELEX
git_branch: RELEASE_3_22
git_last_commit: 9d010d3
git_last_commit_date: 2025-10-29 10:24:07 -0500 (Wed, 29 Oct 2025)
nebbiolo2Linux (Ubuntu 24.04.3 LTS) / x86_64  OK    OK    OK  UNNEEDED, same version is already published
taishanLinux (openEuler 24.03 LTS) / aarch64  OK    OK    OK  


CHECK results for SELEX on taishan

To the developers/maintainers of the SELEX package:
- Allow up to 24 hours (and sometimes 48 hours) for your latest push to git@git.bioconductor.org:packages/SELEX.git to reflect on this report. See Troubleshooting Build Report for more information.
- Use the following Renviron settings to reproduce errors and warnings.
- If 'R CMD check' started to fail recently on the Linux builder(s) over a missing dependency, add the missing dependency to 'Suggests:' in your DESCRIPTION file. See Renviron.bioc for more information.
- See Martin Grigorov's blog post for how to debug Linux ARM64 related issues on a x86_64 host.

raw results


Summary

Package: SELEX
Version: 1.42.0
Command: /home/biocbuild/R/R/bin/R CMD check --install=check:SELEX.install-out.txt --library=/home/biocbuild/R/R/site-library --no-vignettes --timings SELEX_1.42.0.tar.gz
StartedAt: 2025-11-11 14:41:52 -0000 (Tue, 11 Nov 2025)
EndedAt: 2025-11-11 14:44:32 -0000 (Tue, 11 Nov 2025)
EllapsedTime: 159.4 seconds
RetCode: 0
Status:   OK  
CheckDir: SELEX.Rcheck
Warnings: 0

Command output

##############################################################################
##############################################################################
###
### Running command:
###
###   /home/biocbuild/R/R/bin/R CMD check --install=check:SELEX.install-out.txt --library=/home/biocbuild/R/R/site-library --no-vignettes --timings SELEX_1.42.0.tar.gz
###
##############################################################################
##############################################################################


* using log directory ‘/home/biocbuild/bbs-3.22-bioc/meat/SELEX.Rcheck’
* using R version 4.5.0 (2025-04-11)
* using platform: aarch64-unknown-linux-gnu
* R was compiled by
    aarch64-unknown-linux-gnu-gcc (GCC) 14.2.0
    GNU Fortran (GCC) 14.2.0
* running under: openEuler 24.03 (LTS)
* using session charset: UTF-8
* using option ‘--no-vignettes’
* checking for file ‘SELEX/DESCRIPTION’ ... OK
* this is package ‘SELEX’ version ‘1.42.0’
* checking package namespace information ... OK
* checking package dependencies ... OK
* checking if this is a source package ... OK
* checking if there is a namespace ... OK
* checking for hidden files and directories ... OK
* checking for portable file names ... OK
* checking for sufficient/correct file permissions ... OK
* checking whether package ‘SELEX’ can be installed ... OK
* checking installed package size ... OK
* checking package directory ... OK
* checking ‘build’ directory ... OK
* checking DESCRIPTION meta-information ... OK
* checking top-level files ... OK
* checking for left-over files ... OK
* checking index information ... OK
* checking package subdirectories ... OK
* checking code files for non-ASCII characters ... OK
* checking R files for syntax errors ... OK
* checking whether the package can be loaded ... OK
* checking whether the package can be loaded with stated dependencies ... OK
* checking whether the package can be unloaded cleanly ... OK
* checking whether the namespace can be loaded with stated dependencies ... OK
* checking whether the namespace can be unloaded cleanly ... OK
* checking loading without being on the library search path ... OK
* checking whether startup messages can be suppressed ... OK
* checking dependencies in R code ... OK
* checking S3 generic/method consistency ... OK
* checking replacement functions ... OK
* checking foreign function calls ... OK
* checking R code for possible problems ... OK
* checking Rd files ... NOTE
checkRd: (-1) SELEX.Rd:114: Lost braces
   114 | \href{http://www.ncbi.nlm.nih.gov/pubmed/22153072}{{C}ofactor binding evokes latent differences in {D}{N}{A} binding specificity between {H}ox proteins.}
       |                                                                                                       ^
checkRd: (-1) SELEX.Rd:114: Lost braces
   114 | \href{http://www.ncbi.nlm.nih.gov/pubmed/22153072}{{C}ofactor binding evokes latent differences in {D}{N}{A} binding specificity between {H}ox proteins.}
       |                                                                                                          ^
checkRd: (-1) SELEX.Rd:118: Lost braces
   118 | \href{http://www.ncbi.nlm.nih.gov/pubmed/25151169}{{S}{E}{L}{E}{X}-seq: a method for characterizing the complete repertoire of binding site preferences for transcription factor complexes.}
       |                                                       ^
checkRd: (-1) SELEX.Rd:118: Lost braces
   118 | \href{http://www.ncbi.nlm.nih.gov/pubmed/25151169}{{S}{E}{L}{E}{X}-seq: a method for characterizing the complete repertoire of binding site preferences for transcription factor complexes.}
       |                                                          ^
checkRd: (-1) SELEX.Rd:118: Lost braces
   118 | \href{http://www.ncbi.nlm.nih.gov/pubmed/25151169}{{S}{E}{L}{E}{X}-seq: a method for characterizing the complete repertoire of binding site preferences for transcription factor complexes.}
       |                                                             ^
checkRd: (-1) SELEX.Rd:118: Lost braces
   118 | \href{http://www.ncbi.nlm.nih.gov/pubmed/25151169}{{S}{E}{L}{E}{X}-seq: a method for characterizing the complete repertoire of binding site preferences for transcription factor complexes.}
       |                                                                ^
checkRd: (-1) selex.affinities.Rd:33: Lost braces
    33 | \href{http://www.ncbi.nlm.nih.gov/pubmed/22153072}{{C}ofactor binding evokes latent differences in {D}{N}{A} binding specificity between {H}ox proteins.}
       |                                                                                                       ^
checkRd: (-1) selex.affinities.Rd:33: Lost braces
    33 | \href{http://www.ncbi.nlm.nih.gov/pubmed/22153072}{{C}ofactor binding evokes latent differences in {D}{N}{A} binding specificity between {H}ox proteins.}
       |                                                                                                          ^
checkRd: (-1) selex.affinities.Rd:37: Lost braces
    37 | \href{http://www.ncbi.nlm.nih.gov/pubmed/25151169}{{S}{E}{L}{E}{X}-seq: a method for characterizing the complete repertoire of binding site preferences for transcription factor complexes.}
       |                                                       ^
checkRd: (-1) selex.affinities.Rd:37: Lost braces
    37 | \href{http://www.ncbi.nlm.nih.gov/pubmed/25151169}{{S}{E}{L}{E}{X}-seq: a method for characterizing the complete repertoire of binding site preferences for transcription factor complexes.}
       |                                                          ^
checkRd: (-1) selex.affinities.Rd:37: Lost braces
    37 | \href{http://www.ncbi.nlm.nih.gov/pubmed/25151169}{{S}{E}{L}{E}{X}-seq: a method for characterizing the complete repertoire of binding site preferences for transcription factor complexes.}
       |                                                             ^
checkRd: (-1) selex.affinities.Rd:37: Lost braces
    37 | \href{http://www.ncbi.nlm.nih.gov/pubmed/25151169}{{S}{E}{L}{E}{X}-seq: a method for characterizing the complete repertoire of binding site preferences for transcription factor complexes.}
       |                                                                ^
checkRd: (-1) selex.counts.Rd:38: Lost braces
    38 | \href{http://www.ncbi.nlm.nih.gov/pubmed/22153072}{{C}ofactor binding evokes latent differences in {D}{N}{A} binding specificity between {H}ox proteins.}
       |                                                                                                       ^
checkRd: (-1) selex.counts.Rd:38: Lost braces
    38 | \href{http://www.ncbi.nlm.nih.gov/pubmed/22153072}{{C}ofactor binding evokes latent differences in {D}{N}{A} binding specificity between {H}ox proteins.}
       |                                                                                                          ^
checkRd: (-1) selex.counts.Rd:42: Lost braces
    42 | \href{http://www.ncbi.nlm.nih.gov/pubmed/25151169}{{S}{E}{L}{E}{X}-seq: a method for characterizing the complete repertoire of binding site preferences for transcription factor complexes.}
       |                                                       ^
checkRd: (-1) selex.counts.Rd:42: Lost braces
    42 | \href{http://www.ncbi.nlm.nih.gov/pubmed/25151169}{{S}{E}{L}{E}{X}-seq: a method for characterizing the complete repertoire of binding site preferences for transcription factor complexes.}
       |                                                          ^
checkRd: (-1) selex.counts.Rd:42: Lost braces
    42 | \href{http://www.ncbi.nlm.nih.gov/pubmed/25151169}{{S}{E}{L}{E}{X}-seq: a method for characterizing the complete repertoire of binding site preferences for transcription factor complexes.}
       |                                                             ^
checkRd: (-1) selex.counts.Rd:42: Lost braces
    42 | \href{http://www.ncbi.nlm.nih.gov/pubmed/25151169}{{S}{E}{L}{E}{X}-seq: a method for characterizing the complete repertoire of binding site preferences for transcription factor complexes.}
       |                                                                ^
checkRd: (-1) selex.infogain.Rd:27: Lost braces
    27 | \href{http://www.ncbi.nlm.nih.gov/pubmed/22153072}{{C}ofactor binding evokes latent differences in {D}{N}{A} binding specificity between {H}ox proteins.}
       |                                                                                                       ^
checkRd: (-1) selex.infogain.Rd:27: Lost braces
    27 | \href{http://www.ncbi.nlm.nih.gov/pubmed/22153072}{{C}ofactor binding evokes latent differences in {D}{N}{A} binding specificity between {H}ox proteins.}
       |                                                                                                          ^
checkRd: (-1) selex.infogain.Rd:31: Lost braces
    31 | \href{http://www.ncbi.nlm.nih.gov/pubmed/25151169}{{S}{E}{L}{E}{X}-seq: a method for characterizing the complete repertoire of binding site preferences for transcription factor complexes.}
       |                                                       ^
checkRd: (-1) selex.infogain.Rd:31: Lost braces
    31 | \href{http://www.ncbi.nlm.nih.gov/pubmed/25151169}{{S}{E}{L}{E}{X}-seq: a method for characterizing the complete repertoire of binding site preferences for transcription factor complexes.}
       |                                                          ^
checkRd: (-1) selex.infogain.Rd:31: Lost braces
    31 | \href{http://www.ncbi.nlm.nih.gov/pubmed/25151169}{{S}{E}{L}{E}{X}-seq: a method for characterizing the complete repertoire of binding site preferences for transcription factor complexes.}
       |                                                             ^
checkRd: (-1) selex.infogain.Rd:31: Lost braces
    31 | \href{http://www.ncbi.nlm.nih.gov/pubmed/25151169}{{S}{E}{L}{E}{X}-seq: a method for characterizing the complete repertoire of binding site preferences for transcription factor complexes.}
       |                                                                ^
checkRd: (-1) selex.mm.Rd:60: Lost braces
    60 | \href{http://www.ncbi.nlm.nih.gov/pubmed/22153072}{{C}ofactor binding evokes latent differences in {D}{N}{A} binding specificity between {H}ox proteins.}
       |                                                                                                       ^
checkRd: (-1) selex.mm.Rd:60: Lost braces
    60 | \href{http://www.ncbi.nlm.nih.gov/pubmed/22153072}{{C}ofactor binding evokes latent differences in {D}{N}{A} binding specificity between {H}ox proteins.}
       |                                                                                                          ^
checkRd: (-1) selex.mm.Rd:64: Lost braces
    64 | \href{http://www.ncbi.nlm.nih.gov/pubmed/25151169}{{S}{E}{L}{E}{X}-seq: a method for characterizing the complete repertoire of binding site preferences for transcription factor complexes.}
       |                                                       ^
checkRd: (-1) selex.mm.Rd:64: Lost braces
    64 | \href{http://www.ncbi.nlm.nih.gov/pubmed/25151169}{{S}{E}{L}{E}{X}-seq: a method for characterizing the complete repertoire of binding site preferences for transcription factor complexes.}
       |                                                          ^
checkRd: (-1) selex.mm.Rd:64: Lost braces
    64 | \href{http://www.ncbi.nlm.nih.gov/pubmed/25151169}{{S}{E}{L}{E}{X}-seq: a method for characterizing the complete repertoire of binding site preferences for transcription factor complexes.}
       |                                                             ^
checkRd: (-1) selex.mm.Rd:64: Lost braces
    64 | \href{http://www.ncbi.nlm.nih.gov/pubmed/25151169}{{S}{E}{L}{E}{X}-seq: a method for characterizing the complete repertoire of binding site preferences for transcription factor complexes.}
       |                                                                ^
checkRd: (-1) selex.mmProb.Rd:39: Lost braces
    39 | \href{http://www.ncbi.nlm.nih.gov/pubmed/22153072}{{C}ofactor binding evokes latent differences in {D}{N}{A} binding specificity between {H}ox proteins.}
       |                                                                                                       ^
checkRd: (-1) selex.mmProb.Rd:39: Lost braces
    39 | \href{http://www.ncbi.nlm.nih.gov/pubmed/22153072}{{C}ofactor binding evokes latent differences in {D}{N}{A} binding specificity between {H}ox proteins.}
       |                                                                                                          ^
checkRd: (-1) selex.mmProb.Rd:43: Lost braces
    43 | \href{http://www.ncbi.nlm.nih.gov/pubmed/25151169}{{S}{E}{L}{E}{X}-seq: a method for characterizing the complete repertoire of binding site preferences for transcription factor complexes.}
       |                                                       ^
checkRd: (-1) selex.mmProb.Rd:43: Lost braces
    43 | \href{http://www.ncbi.nlm.nih.gov/pubmed/25151169}{{S}{E}{L}{E}{X}-seq: a method for characterizing the complete repertoire of binding site preferences for transcription factor complexes.}
       |                                                          ^
checkRd: (-1) selex.mmProb.Rd:43: Lost braces
    43 | \href{http://www.ncbi.nlm.nih.gov/pubmed/25151169}{{S}{E}{L}{E}{X}-seq: a method for characterizing the complete repertoire of binding site preferences for transcription factor complexes.}
       |                                                             ^
checkRd: (-1) selex.mmProb.Rd:43: Lost braces
    43 | \href{http://www.ncbi.nlm.nih.gov/pubmed/25151169}{{S}{E}{L}{E}{X}-seq: a method for characterizing the complete repertoire of binding site preferences for transcription factor complexes.}
       |                                                                ^
checkRd: (-1) selex.run.Rd:34: Lost braces
    34 | \href{http://www.ncbi.nlm.nih.gov/pubmed/22153072}{{C}ofactor binding evokes latent differences in {D}{N}{A} binding specificity between {H}ox proteins.}
       |                                                                                                       ^
checkRd: (-1) selex.run.Rd:34: Lost braces
    34 | \href{http://www.ncbi.nlm.nih.gov/pubmed/22153072}{{C}ofactor binding evokes latent differences in {D}{N}{A} binding specificity between {H}ox proteins.}
       |                                                                                                          ^
checkRd: (-1) selex.run.Rd:38: Lost braces
    38 | \href{http://www.ncbi.nlm.nih.gov/pubmed/25151169}{{S}{E}{L}{E}{X}-seq: a method for characterizing the complete repertoire of binding site preferences for transcription factor complexes.}
       |                                                       ^
checkRd: (-1) selex.run.Rd:38: Lost braces
    38 | \href{http://www.ncbi.nlm.nih.gov/pubmed/25151169}{{S}{E}{L}{E}{X}-seq: a method for characterizing the complete repertoire of binding site preferences for transcription factor complexes.}
       |                                                          ^
checkRd: (-1) selex.run.Rd:38: Lost braces
    38 | \href{http://www.ncbi.nlm.nih.gov/pubmed/25151169}{{S}{E}{L}{E}{X}-seq: a method for characterizing the complete repertoire of binding site preferences for transcription factor complexes.}
       |                                                             ^
checkRd: (-1) selex.run.Rd:38: Lost braces
    38 | \href{http://www.ncbi.nlm.nih.gov/pubmed/25151169}{{S}{E}{L}{E}{X}-seq: a method for characterizing the complete repertoire of binding site preferences for transcription factor complexes.}
       |                                                                ^
* checking Rd metadata ... OK
* checking Rd cross-references ... OK
* checking for missing documentation entries ... OK
* checking for code/documentation mismatches ... OK
* checking Rd \usage sections ... OK
* checking Rd contents ... OK
* checking for unstated dependencies in examples ... OK
* checking line endings in Makefiles ... OK
* checking for GNU extensions in Makefiles ... OK
* checking include directives in Makefiles ... OK
* checking files in ‘vignettes’ ... OK
* checking examples ... OK
Examples with CPU (user + system) or elapsed time > 5s
                  user system elapsed
SELEX           18.130  0.928  14.845
selex.seqfilter  7.916  0.175   5.103
* checking for unstated dependencies in vignettes ... OK
* checking package vignettes ... OK
* checking running R code from vignettes ... SKIPPED
* checking re-building of vignette outputs ... SKIPPED
* checking PDF version of manual ... OK
* DONE

Status: 1 NOTE
See
  ‘/home/biocbuild/bbs-3.22-bioc/meat/SELEX.Rcheck/00check.log’
for details.


Installation output

SELEX.Rcheck/00install.out

##############################################################################
##############################################################################
###
### Running command:
###
###   /home/biocbuild/R/R/bin/R CMD INSTALL SELEX
###
##############################################################################
##############################################################################


* installing to library ‘/home/biocbuild/R/R-4.5.0/site-library’
* installing *source* package ‘SELEX’ ...
** this is package ‘SELEX’ version ‘1.42.0’
** using staged installation
** R
** inst
** byte-compile and prepare package for lazy loading
** help
*** installing help indices
** building package indices
** installing vignettes
** testing if installed package can be loaded from temporary location
** testing if installed package can be loaded from final location
** testing if installed package keeps a record of temporary installation path
* DONE (SELEX)

Tests output


Example timings

SELEX.Rcheck/SELEX-Ex.timings

nameusersystemelapsed
SELEX18.130 0.92814.845
selex.affinities1.2140.0380.508
selex.config0.1340.0050.067
selex.countSummary0.9520.0210.448
selex.counts1.6460.0291.049
selex.defineSample0.1260.0000.091
selex.exampledata0.0830.0020.060
selex.fastqPSFM0.7100.0070.349
selex.getAttributes0.1850.0040.157
selex.getRound00.2530.0260.115
selex.getSeqfilter0.0760.0000.031
selex.infogain1.5680.0360.713
selex.infogainSummary1.0070.0090.363
selex.jvmStatus0.1370.0040.040
selex.kmax1.2090.1150.692
selex.kmerPSFM0.4170.0330.231
selex.loadAnnotation0.1650.0090.107
selex.mm0.9400.0060.412
selex.mmProb0.2510.0030.210
selex.mmSummary0.4280.0110.297
selex.revcomp0.6500.0270.506
selex.run1.1130.0360.569
selex.sample0.1370.0120.092
selex.samplePSFM0.6170.0070.242
selex.sampleSummary0.2310.0070.080
selex.saveAnnotation0.1210.0130.042
selex.seqfilter7.9160.1755.103
selex.setwd0.0750.0000.052
selex.split0.3550.0080.200
selex.summary0.9840.0230.555