| Back to Multiple platform build/check report for BioC 3.21: simplified long |
|
This page was generated on 2025-04-22 13:17 -0400 (Tue, 22 Apr 2025).
| Hostname | OS | Arch (*) | R version | Installed pkgs |
|---|---|---|---|---|
| nebbiolo1 | Linux (Ubuntu 24.04.1 LTS) | x86_64 | 4.5.0 RC (2025-04-04 r88126) -- "How About a Twenty-Six" | 4831 |
| palomino7 | Windows Server 2022 Datacenter | x64 | 4.5.0 RC (2025-04-04 r88126 ucrt) -- "How About a Twenty-Six" | 4573 |
| lconway | macOS 12.7.1 Monterey | x86_64 | 4.5.0 RC (2025-04-04 r88126) -- "How About a Twenty-Six" | 4599 |
| kjohnson3 | macOS 13.7.1 Ventura | arm64 | 4.5.0 RC (2025-04-04 r88126) -- "How About a Twenty-Six" | 4553 |
| kunpeng2 | Linux (openEuler 24.03 LTS) | aarch64 | R Under development (unstable) (2025-02-19 r87757) -- "Unsuffered Consequences" | 4570 |
| Click on any hostname to see more info about the system (e.g. compilers) (*) as reported by 'uname -p', except on Windows and Mac OS X | ||||
| Package 1851/2341 | Hostname | OS / Arch | INSTALL | BUILD | CHECK | BUILD BIN | ||||||||
| Rtpca 1.18.0 (landing page) Nils Kurzawa
| nebbiolo1 | Linux (Ubuntu 24.04.1 LTS) / x86_64 | OK | OK | OK | |||||||||
| palomino7 | Windows Server 2022 Datacenter / x64 | OK | OK | OK | OK | |||||||||
| lconway | macOS 12.7.1 Monterey / x86_64 | OK | OK | OK | OK | |||||||||
| kjohnson3 | macOS 13.7.1 Ventura / arm64 | OK | OK | OK | OK | |||||||||
| kunpeng2 | Linux (openEuler 24.03 LTS) / aarch64 | OK | OK | OK | ||||||||||
|
To the developers/maintainers of the Rtpca package: - Allow up to 24 hours (and sometimes 48 hours) for your latest push to git@git.bioconductor.org:packages/Rtpca.git to reflect on this report. See Troubleshooting Build Report for more information. - Use the following Renviron settings to reproduce errors and warnings. - If 'R CMD check' started to fail recently on the Linux builder(s) over a missing dependency, add the missing dependency to 'Suggests:' in your DESCRIPTION file. See Renviron.bioc for more information. |
| Package: Rtpca |
| Version: 1.18.0 |
| Command: /Library/Frameworks/R.framework/Resources/bin/R CMD check --install=check:Rtpca.install-out.txt --library=/Library/Frameworks/R.framework/Resources/library --no-vignettes --timings Rtpca_1.18.0.tar.gz |
| StartedAt: 2025-04-21 23:13:07 -0400 (Mon, 21 Apr 2025) |
| EndedAt: 2025-04-21 23:14:23 -0400 (Mon, 21 Apr 2025) |
| EllapsedTime: 76.7 seconds |
| RetCode: 0 |
| Status: OK |
| CheckDir: Rtpca.Rcheck |
| Warnings: 0 |
##############################################################################
##############################################################################
###
### Running command:
###
### /Library/Frameworks/R.framework/Resources/bin/R CMD check --install=check:Rtpca.install-out.txt --library=/Library/Frameworks/R.framework/Resources/library --no-vignettes --timings Rtpca_1.18.0.tar.gz
###
##############################################################################
##############################################################################
* using log directory ‘/Users/biocbuild/bbs-3.21-bioc/meat/Rtpca.Rcheck’
* using R version 4.5.0 RC (2025-04-04 r88126)
* using platform: x86_64-apple-darwin20
* R was compiled by
Apple clang version 14.0.0 (clang-1400.0.29.202)
GNU Fortran (GCC) 14.2.0
* running under: macOS Monterey 12.7.6
* using session charset: UTF-8
* using option ‘--no-vignettes’
* checking for file ‘Rtpca/DESCRIPTION’ ... OK
* this is package ‘Rtpca’ version ‘1.18.0’
* package encoding: UTF-8
* checking package namespace information ... OK
* checking package dependencies ... OK
* checking if this is a source package ... OK
* checking if there is a namespace ... OK
* checking for hidden files and directories ... OK
* checking for portable file names ... OK
* checking for sufficient/correct file permissions ... OK
* checking whether package ‘Rtpca’ can be installed ... OK
* checking installed package size ... OK
* checking package directory ... OK
* checking ‘build’ directory ... OK
* checking DESCRIPTION meta-information ... OK
* checking top-level files ... OK
* checking for left-over files ... OK
* checking index information ... OK
* checking package subdirectories ... OK
* checking code files for non-ASCII characters ... OK
* checking R files for syntax errors ... OK
* checking whether the package can be loaded ... OK
* checking whether the package can be loaded with stated dependencies ... OK
* checking whether the package can be unloaded cleanly ... OK
* checking whether the namespace can be loaded with stated dependencies ... OK
* checking whether the namespace can be unloaded cleanly ... OK
* checking dependencies in R code ... NOTE
Namespace in Imports field not imported from: ‘tibble’
All declared Imports should be used.
* checking S3 generic/method consistency ... OK
* checking replacement functions ... OK
* checking foreign function calls ... OK
* checking R code for possible problems ... NOTE
.getRandomProteinPairs: no visible binding for global variable ‘pair’
Undefined global functions or variables:
pair
* checking Rd files ... OK
* checking Rd metadata ... OK
* checking Rd cross-references ... OK
* checking for missing documentation entries ... OK
* checking for code/documentation mismatches ... OK
* checking Rd \usage sections ... OK
* checking Rd contents ... OK
* checking for unstated dependencies in examples ... OK
* checking contents of ‘data’ directory ... OK
* checking data for non-ASCII characters ... OK
* checking data for ASCII and uncompressed saves ... OK
* checking files in ‘vignettes’ ... OK
* checking examples ... OK
* checking for unstated dependencies in ‘tests’ ... OK
* checking tests ...
Running ‘testthat.R’
OK
* checking for unstated dependencies in vignettes ... OK
* checking package vignettes ... OK
* checking running R code from vignettes ... SKIPPED
* checking re-building of vignette outputs ... SKIPPED
* checking PDF version of manual ... OK
* DONE
Status: 2 NOTEs
See
‘/Users/biocbuild/bbs-3.21-bioc/meat/Rtpca.Rcheck/00check.log’
for details.
Rtpca.Rcheck/00install.out
############################################################################## ############################################################################## ### ### Running command: ### ### /Library/Frameworks/R.framework/Resources/bin/R CMD INSTALL Rtpca ### ############################################################################## ############################################################################## * installing to library ‘/Library/Frameworks/R.framework/Versions/4.5-x86_64/Resources/library’ * installing *source* package ‘Rtpca’ ... ** this is package ‘Rtpca’ version ‘1.18.0’ ** using staged installation ** R ** data ** inst ** byte-compile and prepare package for lazy loading ** help *** installing help indices ** building package indices ** installing vignettes ** testing if installed package can be loaded from temporary location ** testing if installed package can be loaded from final location ** testing if installed package keeps a record of temporary installation path * DONE (Rtpca)
Rtpca.Rcheck/tests/testthat.Rout
R version 4.5.0 RC (2025-04-04 r88126) -- "How About a Twenty-Six"
Copyright (C) 2025 The R Foundation for Statistical Computing
Platform: x86_64-apple-darwin20
R is free software and comes with ABSOLUTELY NO WARRANTY.
You are welcome to redistribute it under certain conditions.
Type 'license()' or 'licence()' for distribution details.
R is a collaborative project with many contributors.
Type 'contributors()' for more information and
'citation()' on how to cite R or R packages in publications.
Type 'demo()' for some demos, 'help()' for on-line help, or
'help.start()' for an HTML browser interface to help.
Type 'q()' to quit R.
> library(testthat)
> library(Rtpca)
Loading required package: dplyr
Attaching package: 'dplyr'
The following object is masked from 'package:testthat':
matches
The following objects are masked from 'package:stats':
filter, lag
The following objects are masked from 'package:base':
intersect, setdiff, setequal, union
Loading required package: tidyr
Attaching package: 'tidyr'
The following object is masked from 'package:testthat':
matches
>
> test_check("Rtpca")
[ FAIL 0 | WARN 1 | SKIP 0 | PASS 38 ]
[ FAIL 0 | WARN 1 | SKIP 0 | PASS 38 ]
>
> proc.time()
user system elapsed
4.769 0.247 5.035
Rtpca.Rcheck/Rtpca-Ex.timings
| name | user | system | elapsed | |
| CommonFeatures-tpcaResult-method | 0.376 | 0.008 | 0.390 | |
| ComplexAnnotation-tpcaResult-method | 0.002 | 0.000 | 0.003 | |
| ComplexBackgroundDistributionList-tpcaResult-method | 0.001 | 0.001 | 0.002 | |
| ComplexRocTable-tpcaResult-method | 0.001 | 0.000 | 0.001 | |
| ContrastCondName-tpcaResult-method | 0 | 0 | 0 | |
| ContrastDistMat-tpcaResult-method | 0.001 | 0.001 | 0.001 | |
| ContrastList-tpcaResult-method | 0.001 | 0.000 | 0.001 | |
| CtrlCondName-tpcaResult-method | 0 | 0 | 0 | |
| DistMat-tpcaResult-method | 0.001 | 0.001 | 0.001 | |
| DistMethod-tpcaResult-method | 0 | 0 | 0 | |
| ObjList-tpcaResult-method | 0.001 | 0.000 | 0.002 | |
| PPiAnnotation-tpcaResult-method | 0.001 | 0.000 | 0.001 | |
| PPiRocTable-tpcaResult-method | 0.001 | 0.001 | 0.001 | |
| PPiRocTableAnno-tpcaResult-method | 0.002 | 0.000 | 0.002 | |
| SetCommonFeatures-tpcaResult-method | 0.002 | 0.001 | 0.003 | |
| SetComplexAnnotation-tpcaResult-method | 0.003 | 0.001 | 0.004 | |
| SetComplexBackgroundDistributionList-tpcaResult-method | 0.002 | 0.001 | 0.003 | |
| SetComplexRocTable-tpcaResult-method | 0.002 | 0.001 | 0.004 | |
| SetContrastCondName-tpcaResult-method | 0.001 | 0.000 | 0.001 | |
| SetContrastDistMat-tpcaResult-method | 0.002 | 0.001 | 0.003 | |
| SetCtrlCondName-tpcaResult-method | 0.001 | 0.001 | 0.001 | |
| SetDiffTpcaResultTable-tpcaResult-method | 0.002 | 0.001 | 0.004 | |
| SetDistMat-tpcaResult-method | 0.002 | 0.002 | 0.003 | |
| SetDistMethod-tpcaResult-method | 0.000 | 0.001 | 0.002 | |
| SetPPiRocTable-tpcaResult-method | 0.002 | 0.001 | 0.004 | |
| SetPPiRocTableAnno-tpcaResult-method | 0.002 | 0.001 | 0.003 | |
| SetSummaryMethod-tpcaResult-method | 0.001 | 0.000 | 0.002 | |
| SetTpcaResultTable-tpcaResult-method | 0.002 | 0.001 | 0.003 | |
| SummaryMethod-tpcaResult-method | 0.001 | 0.000 | 0.000 | |
| createDistMat | 0.207 | 0.006 | 0.214 | |
| diffTpcaResultTable-tpcaResult-method | 0.001 | 0.000 | 0.002 | |
| ori_et_al_complex_ppis | 0.058 | 0.006 | 0.065 | |
| ori_et_al_complexes_df | 0.015 | 0.003 | 0.017 | |
| plotComplexRoc | 0.398 | 0.009 | 0.409 | |
| plotDiffTpcaVolcano | 0.279 | 0.026 | 0.306 | |
| plotPPiProfiles | 1.639 | 0.075 | 1.724 | |
| plotPPiRoc | 0.148 | 0.016 | 0.166 | |
| plotTpcaVolcano | 0.964 | 0.026 | 0.998 | |
| runDiffTPCA | 0.146 | 0.006 | 0.156 | |
| runTPCA | 0.333 | 0.004 | 0.339 | |
| string_ppi_df | 1.699 | 0.027 | 1.741 | |
| tpcaResult-class | 0.001 | 0.001 | 0.001 | |
| tpcaResultTable-tpcaResult-method | 0.001 | 0.001 | 0.001 | |