| Back to Multiple platform build/check report for BioC 3.21: simplified long |
|
This page was generated on 2025-10-16 11:39 -0400 (Thu, 16 Oct 2025).
| Hostname | OS | Arch (*) | R version | Installed pkgs |
|---|---|---|---|---|
| nebbiolo1 | Linux (Ubuntu 24.04.3 LTS) | x86_64 | 4.5.1 (2025-06-13) -- "Great Square Root" | 4833 |
| merida1 | macOS 12.7.6 Monterey | x86_64 | 4.5.1 RC (2025-06-05 r88288) -- "Great Square Root" | 4614 |
| kjohnson1 | macOS 13.7.5 Ventura | arm64 | 4.5.1 Patched (2025-06-14 r88325) -- "Great Square Root" | 4555 |
| kunpeng2 | Linux (openEuler 24.03 LTS) | aarch64 | R Under development (unstable) (2025-02-19 r87757) -- "Unsuffered Consequences" | 4586 |
| Click on any hostname to see more info about the system (e.g. compilers) (*) as reported by 'uname -p', except on Windows and Mac OS X | ||||
| Package 1797/2341 | Hostname | OS / Arch | INSTALL | BUILD | CHECK | BUILD BIN | ||||||||
| Rmagpie 1.64.0 (landing page) Camille Maumet
| nebbiolo1 | Linux (Ubuntu 24.04.3 LTS) / x86_64 | OK | OK | OK | |||||||||
| merida1 | macOS 12.7.6 Monterey / x86_64 | OK | OK | OK | OK | |||||||||
| kjohnson1 | macOS 13.7.5 Ventura / arm64 | OK | OK | OK | OK | |||||||||
| kunpeng2 | Linux (openEuler 24.03 LTS) / aarch64 | OK | OK | OK | ||||||||||
|
To the developers/maintainers of the Rmagpie package: - Allow up to 24 hours (and sometimes 48 hours) for your latest push to git@git.bioconductor.org:packages/Rmagpie.git to reflect on this report. See Troubleshooting Build Report for more information. - Use the following Renviron settings to reproduce errors and warnings. - If 'R CMD check' started to fail recently on the Linux builder(s) over a missing dependency, add the missing dependency to 'Suggests:' in your DESCRIPTION file. See Renviron.bioc for more information. |
| Package: Rmagpie |
| Version: 1.64.0 |
| Command: /Library/Frameworks/R.framework/Resources/bin/R CMD check --install=check:Rmagpie.install-out.txt --library=/Library/Frameworks/R.framework/Resources/library --no-vignettes --timings Rmagpie_1.64.0.tar.gz |
| StartedAt: 2025-10-14 09:17:08 -0400 (Tue, 14 Oct 2025) |
| EndedAt: 2025-10-14 09:20:06 -0400 (Tue, 14 Oct 2025) |
| EllapsedTime: 178.0 seconds |
| RetCode: 0 |
| Status: OK |
| CheckDir: Rmagpie.Rcheck |
| Warnings: 0 |
##############################################################################
##############################################################################
###
### Running command:
###
### /Library/Frameworks/R.framework/Resources/bin/R CMD check --install=check:Rmagpie.install-out.txt --library=/Library/Frameworks/R.framework/Resources/library --no-vignettes --timings Rmagpie_1.64.0.tar.gz
###
##############################################################################
##############################################################################
* using log directory ‘/Users/biocbuild/bbs-3.21-bioc/meat/Rmagpie.Rcheck’
* using R version 4.5.1 RC (2025-06-05 r88288)
* using platform: x86_64-apple-darwin20
* R was compiled by
Apple clang version 14.0.0 (clang-1400.0.29.202)
GNU Fortran (GCC) 14.2.0
* running under: macOS Monterey 12.7.6
* using session charset: UTF-8
* using option ‘--no-vignettes’
* checking for file ‘Rmagpie/DESCRIPTION’ ... OK
* this is package ‘Rmagpie’ version ‘1.64.0’
* checking package namespace information ... OK
* checking package dependencies ... OK
* checking if this is a source package ... OK
* checking if there is a namespace ... OK
* checking for hidden files and directories ... OK
* checking for portable file names ... OK
* checking for sufficient/correct file permissions ... OK
* checking whether package ‘Rmagpie’ can be installed ... OK
* checking installed package size ... OK
* checking package directory ... OK
* checking ‘build’ directory ... OK
* checking DESCRIPTION meta-information ... NOTE
Package listed in more than one of Depends, Imports, Suggests, Enhances:
‘Biobase’
A package should be listed in only one of these fields.
* checking top-level files ... OK
* checking for left-over files ... OK
* checking index information ... OK
* checking package subdirectories ... OK
* checking code files for non-ASCII characters ... OK
* checking R files for syntax errors ... OK
* checking whether the package can be loaded ... OK
* checking whether the package can be loaded with stated dependencies ... OK
* checking whether the package can be unloaded cleanly ... OK
* checking whether the namespace can be loaded with stated dependencies ... OK
* checking whether the namespace can be unloaded cleanly ... OK
* checking dependencies in R code ... OK
* checking S3 generic/method consistency ... OK
* checking replacement functions ... OK
* checking foreign function calls ... OK
* checking R code for possible problems ... NOTE
twoLayerExtCV: warning in performAValidation(data = eset, trainIndices
= extInds[[i]], noGenes = upToBestSelectedFeature, classes = classes,
classifierName = classifierName, verbose = verbose, kernel = kernel,
featureSelectionFun = featureSelectionFun, trainTestFun =
trainTestFun): partial argument match of 'data' to 'dataset'
getFeatureSelectionOptions<-,assessment: no visible global function
definition for ‘getNoOfOptions<-’
getFeatureSelectionOptions<-,assessment: no visible global function
definition for ‘getNoModels<-’
Undefined global functions or variables:
getNoModels<- getNoOfOptions<-
* checking Rd files ... OK
* checking Rd metadata ... OK
* checking Rd cross-references ... OK
* checking for missing documentation entries ... OK
* checking for code/documentation mismatches ... OK
* checking Rd \usage sections ... OK
* checking Rd contents ... OK
* checking for unstated dependencies in examples ... OK
* checking contents of ‘data’ directory ... OK
* checking data for non-ASCII characters ... OK
* checking data for ASCII and uncompressed saves ... OK
* checking sizes of PDF files under ‘inst/doc’ ... OK
* checking files in ‘vignettes’ ... OK
* checking examples ... OK
Examples with CPU (user + system) or elapsed time > 5s
user system elapsed
runTwoLayerExtCV-methods 14.288 0.076 14.667
getResults-methods 7.403 0.270 7.874
plotErrorsFoldTwoLayerCV-methods 7.603 0.033 7.906
* checking for unstated dependencies in vignettes ... OK
* checking package vignettes ... OK
* checking running R code from vignettes ... SKIPPED
* checking re-building of vignette outputs ... SKIPPED
* checking PDF version of manual ... OK
* DONE
Status: 2 NOTEs
See
‘/Users/biocbuild/bbs-3.21-bioc/meat/Rmagpie.Rcheck/00check.log’
for details.
Rmagpie.Rcheck/00install.out
############################################################################## ############################################################################## ### ### Running command: ### ### /Library/Frameworks/R.framework/Resources/bin/R CMD INSTALL Rmagpie ### ############################################################################## ############################################################################## * installing to library ‘/Library/Frameworks/R.framework/Versions/4.5-x86_64/Resources/library’ * installing *source* package ‘Rmagpie’ ... ** this is package ‘Rmagpie’ version ‘1.64.0’ ** using staged installation ** R ** data ** demo ** inst ** byte-compile and prepare package for lazy loading ** help *** installing help indices ** building package indices ** installing vignettes ** testing if installed package can be loaded from temporary location ** testing if installed package can be loaded from final location ** testing if installed package keeps a record of temporary installation path * DONE (Rmagpie)
Rmagpie.Rcheck/Rmagpie-Ex.timings
| name | user | system | elapsed | |
| classifyNewSamples-methods | 2.156 | 0.069 | 2.357 | |
| experiment-class | 0.163 | 0.008 | 0.181 | |
| finalClassifier-class | 0.100 | 0.008 | 0.201 | |
| findFinalClassifier-methods | 0.198 | 0.009 | 0.223 | |
| geneSubsets-class | 0.008 | 0.002 | 0.012 | |
| getDataset-methods | 0.016 | 0.004 | 0.020 | |
| getFeatureSelectionOptions-methods | 0.010 | 0.006 | 0.015 | |
| getFinalClassifier | 0.326 | 0.352 | 0.913 | |
| getResults-methods | 7.403 | 0.270 | 7.874 | |
| plotErrorsFoldTwoLayerCV-methods | 7.603 | 0.033 | 7.906 | |
| plotErrorsRepeatedOneLayerCV | 1.235 | 0.013 | 1.254 | |
| plotErrorsSummaryOneLayerCV-methods | 1.234 | 0.011 | 1.252 | |
| rankedGenesImg-methods | 0.001 | 0.001 | 0.001 | |
| runOneLayerExtCV-methods | 1.144 | 0.017 | 1.166 | |
| runTwoLayerExtCV-methods | 14.288 | 0.076 | 14.667 | |
| setDataset-methods | 0.001 | 0.002 | 0.002 | |
| setFeatureSelectionOptions-methods | 0.012 | 0.006 | 0.018 | |
| thresholds-class | 0.002 | 0.002 | 0.003 | |
| vV70genes | 0.005 | 0.003 | 0.009 | |