Back to Multiple platform build/check report for BioC 3.22:   simplified   long
ABCDEFGHIJKLMNOPQ[R]STUVWXYZ

This page was generated on 2025-11-20 12:06 -0500 (Thu, 20 Nov 2025).

HostnameOSArch (*)R versionInstalled pkgs
nebbiolo2Linux (Ubuntu 24.04.3 LTS)x86_644.5.2 (2025-10-31) -- "[Not] Part in a Rumble" 4615
merida1macOS 12.7.6 Montereyx86_644.5.2 Patched (2025-11-05 r88990) -- "[Not] Part in a Rumble" 4610
kjohnson1macOS 13.7.5 Venturaarm644.5.2 Patched (2025-11-04 r88984) -- "[Not] Part in a Rumble" 4598
taishanLinux (openEuler 24.03 LTS)aarch644.5.0 (2025-04-11) -- "How About a Twenty-Six" 4668
Click on any hostname to see more info about the system (e.g. compilers)      (*) as reported by 'uname -p', except on Windows and Mac OS X

Package 1767/2361HostnameOS / ArchINSTALLBUILDCHECKBUILD BIN
Repitools 1.56.0  (landing page)
Mark Robinson
Snapshot Date: 2025-11-17 13:45 -0500 (Mon, 17 Nov 2025)
git_url: https://git.bioconductor.org/packages/Repitools
git_branch: RELEASE_3_22
git_last_commit: e46521a
git_last_commit_date: 2025-10-29 10:08:02 -0500 (Wed, 29 Oct 2025)
nebbiolo2Linux (Ubuntu 24.04.3 LTS) / x86_64  ERROR    ERROR  skipped
merida1macOS 12.7.6 Monterey / x86_64  ERROR    ERROR  skippedskipped
kjohnson1macOS 13.7.5 Ventura / arm64  ERROR    ERROR  skippedskipped
taishanLinux (openEuler 24.03 LTS) / aarch64  OK    OK    ERROR  


BUILD results for Repitools on kjohnson1

To the developers/maintainers of the Repitools package:
- Allow up to 24 hours (and sometimes 48 hours) for your latest push to git@git.bioconductor.org:packages/Repitools.git to reflect on this report. See Troubleshooting Build Report for more information.
- Use the following Renviron settings to reproduce errors and warnings.
- If 'R CMD check' started to fail recently on the Linux builder(s) over a missing dependency, add the missing dependency to 'Suggests:' in your DESCRIPTION file. See Renviron.bioc for more information.

raw results


Summary

Package: Repitools
Version: 1.56.0
Command: /Library/Frameworks/R.framework/Resources/bin/R CMD build --keep-empty-dirs --no-resave-data Repitools
StartedAt: 2025-11-18 00:11:03 -0500 (Tue, 18 Nov 2025)
EndedAt: 2025-11-18 00:11:04 -0500 (Tue, 18 Nov 2025)
EllapsedTime: 1.0 seconds
RetCode: 1
Status:   ERROR  
PackageFile: None
PackageFileSize: NA

Command output

##############################################################################
##############################################################################
###
### Running command:
###
###   /Library/Frameworks/R.framework/Resources/bin/R CMD build --keep-empty-dirs --no-resave-data Repitools
###
##############################################################################
##############################################################################


* checking for file ‘Repitools/DESCRIPTION’ ... OK
* preparing ‘Repitools’:
* checking DESCRIPTION meta-information ... OK
* cleaning src
* installing the package to build vignettes
      -----------------------------------
ERROR: dependency ‘gsmoothr’ is not available for package ‘Repitools’
Perhaps try a variation of:
install.packages('gsmoothr')
* removing ‘/private/var/folders/dc/2xck8b8s0_3gymbxnrltzxhm0000gs/T/Rtmpr0u7Cn/Rinst1448849a7a51/Repitools’
      -----------------------------------
ERROR: package installation failed