Back to Multiple platform build/check report for BioC 3.22:   simplified   long
ABCDEFGHIJKLMNOPQ[R]STUVWXYZ

This page was generated on 2025-11-12 11:58 -0500 (Wed, 12 Nov 2025).

HostnameOSArch (*)R versionInstalled pkgs
nebbiolo2Linux (Ubuntu 24.04.3 LTS)x86_644.5.1 Patched (2025-08-23 r88802) -- "Great Square Root" 4902
taishanLinux (openEuler 24.03 LTS)aarch644.5.0 (2025-04-11) -- "How About a Twenty-Six" 4668
Click on any hostname to see more info about the system (e.g. compilers)      (*) as reported by 'uname -p', except on Windows and Mac OS X

Package 1757/2361HostnameOS / ArchINSTALLBUILDCHECKBUILD BIN
ReducedExperiment 1.2.0  (landing page)
Jack Gisby
Snapshot Date: 2025-11-11 13:45 -0500 (Tue, 11 Nov 2025)
git_url: https://git.bioconductor.org/packages/ReducedExperiment
git_branch: RELEASE_3_22
git_last_commit: 5622222
git_last_commit_date: 2025-10-29 11:33:37 -0500 (Wed, 29 Oct 2025)
nebbiolo2Linux (Ubuntu 24.04.3 LTS) / x86_64  OK    OK    OK  UNNEEDED, same version is already published
taishanLinux (openEuler 24.03 LTS) / aarch64  OK    OK    OK  


CHECK results for ReducedExperiment on taishan

To the developers/maintainers of the ReducedExperiment package:
- Allow up to 24 hours (and sometimes 48 hours) for your latest push to git@git.bioconductor.org:packages/ReducedExperiment.git to reflect on this report. See Troubleshooting Build Report for more information.
- Use the following Renviron settings to reproduce errors and warnings.
- If 'R CMD check' started to fail recently on the Linux builder(s) over a missing dependency, add the missing dependency to 'Suggests:' in your DESCRIPTION file. See Renviron.bioc for more information.
- See Martin Grigorov's blog post for how to debug Linux ARM64 related issues on a x86_64 host.

raw results


Summary

Package: ReducedExperiment
Version: 1.2.0
Command: /home/biocbuild/R/R/bin/R CMD check --install=check:ReducedExperiment.install-out.txt --library=/home/biocbuild/R/R/site-library --no-vignettes --timings ReducedExperiment_1.2.0.tar.gz
StartedAt: 2025-11-11 13:42:27 -0000 (Tue, 11 Nov 2025)
EndedAt: 2025-11-11 13:52:15 -0000 (Tue, 11 Nov 2025)
EllapsedTime: 587.9 seconds
RetCode: 0
Status:   OK  
CheckDir: ReducedExperiment.Rcheck
Warnings: 0

Command output

##############################################################################
##############################################################################
###
### Running command:
###
###   /home/biocbuild/R/R/bin/R CMD check --install=check:ReducedExperiment.install-out.txt --library=/home/biocbuild/R/R/site-library --no-vignettes --timings ReducedExperiment_1.2.0.tar.gz
###
##############################################################################
##############################################################################


* using log directory ‘/home/biocbuild/bbs-3.22-bioc/meat/ReducedExperiment.Rcheck’
* using R version 4.5.0 (2025-04-11)
* using platform: aarch64-unknown-linux-gnu
* R was compiled by
    aarch64-unknown-linux-gnu-gcc (GCC) 14.2.0
    GNU Fortran (GCC) 14.2.0
* running under: openEuler 24.03 (LTS)
* using session charset: UTF-8
* using option ‘--no-vignettes’
* checking for file ‘ReducedExperiment/DESCRIPTION’ ... OK
* checking extension type ... Package
* this is package ‘ReducedExperiment’ version ‘1.2.0’
* package encoding: UTF-8
* checking package namespace information ... OK
* checking package dependencies ... OK
* checking if this is a source package ... OK
* checking if there is a namespace ... OK
* checking for hidden files and directories ... OK
* checking for portable file names ... OK
* checking for sufficient/correct file permissions ... OK
* checking whether package ‘ReducedExperiment’ can be installed ... OK
* checking installed package size ... OK
* checking package directory ... OK
* checking ‘build’ directory ... OK
* checking DESCRIPTION meta-information ... OK
* checking top-level files ... OK
* checking for left-over files ... OK
* checking index information ... OK
* checking package subdirectories ... OK
* checking code files for non-ASCII characters ... OK
* checking R files for syntax errors ... OK
* checking whether the package can be loaded ... OK
* checking whether the package can be loaded with stated dependencies ... OK
* checking whether the package can be unloaded cleanly ... OK
* checking whether the namespace can be loaded with stated dependencies ... OK
* checking whether the namespace can be unloaded cleanly ... OK
* checking loading without being on the library search path ... OK
* checking dependencies in R code ... NOTE
Unexported objects imported by ':::' calls:
  ‘BiocGenerics:::replaceSlots’
  ‘SummarizedExperiment:::.SummarizedExperiment.charbound’
  See the note in ?`:::` about the use of this operator.
* checking S3 generic/method consistency ... OK
* checking replacement functions ... OK
* checking foreign function calls ... OK
* checking R code for possible problems ... OK
* checking Rd files ... OK
* checking Rd metadata ... OK
* checking Rd cross-references ... OK
* checking for missing documentation entries ... OK
* checking for code/documentation mismatches ... OK
* checking Rd \usage sections ... OK
* checking Rd contents ... OK
* checking for unstated dependencies in examples ... OK
* checking files in ‘vignettes’ ... OK
* checking examples ... OK
Examples with CPU (user + system) or elapsed time > 5s
                         user system elapsed
getMsigdbT2G           50.467  0.625  54.080
identifyModules        22.728  0.143  24.286
runWGCNA               21.833  0.047  22.737
modulePreservation     11.563  0.064  12.199
plotModulePreservation 11.119  0.040  11.232
estimateStability       8.534  0.136   8.909
plotStability           6.981  0.243   7.275
assessSoftThreshold     6.231  0.253   6.983
* checking for unstated dependencies in ‘tests’ ... OK
* checking tests ...
  Running ‘testthat.R’
 OK
* checking for unstated dependencies in vignettes ... OK
* checking package vignettes ... OK
* checking running R code from vignettes ... SKIPPED
* checking re-building of vignette outputs ... SKIPPED
* checking PDF version of manual ... OK
* DONE

Status: 1 NOTE
See
  ‘/home/biocbuild/bbs-3.22-bioc/meat/ReducedExperiment.Rcheck/00check.log’
for details.


Installation output

ReducedExperiment.Rcheck/00install.out

##############################################################################
##############################################################################
###
### Running command:
###
###   /home/biocbuild/R/R/bin/R CMD INSTALL ReducedExperiment
###
##############################################################################
##############################################################################


* installing to library ‘/home/biocbuild/R/R-4.5.0/site-library’
* installing *source* package ‘ReducedExperiment’ ...
** this is package ‘ReducedExperiment’ version ‘1.2.0’
** using staged installation
** R
** inst
** byte-compile and prepare package for lazy loading
Creating a new generic function for ‘loadings’ in package ‘ReducedExperiment’
** help
*** installing help indices
** building package indices
** installing vignettes
** testing if installed package can be loaded from temporary location
** testing if installed package can be loaded from final location
** testing if installed package keeps a record of temporary installation path
* DONE (ReducedExperiment)

Tests output

ReducedExperiment.Rcheck/tests/testthat.Rout


R version 4.5.0 (2025-04-11) -- "How About a Twenty-Six"
Copyright (C) 2025 The R Foundation for Statistical Computing
Platform: aarch64-unknown-linux-gnu

R is free software and comes with ABSOLUTELY NO WARRANTY.
You are welcome to redistribute it under certain conditions.
Type 'license()' or 'licence()' for distribution details.

R is a collaborative project with many contributors.
Type 'contributors()' for more information and
'citation()' on how to cite R or R packages in publications.

Type 'demo()' for some demos, 'help()' for on-line help, or
'help.start()' for an HTML browser interface to help.
Type 'q()' to quit R.

> library(testthat)
> library(ReducedExperiment)
Loading required package: SummarizedExperiment
Loading required package: MatrixGenerics
Loading required package: matrixStats

Attaching package: 'MatrixGenerics'

The following objects are masked from 'package:matrixStats':

    colAlls, colAnyNAs, colAnys, colAvgsPerRowSet, colCollapse,
    colCounts, colCummaxs, colCummins, colCumprods, colCumsums,
    colDiffs, colIQRDiffs, colIQRs, colLogSumExps, colMadDiffs,
    colMads, colMaxs, colMeans2, colMedians, colMins, colOrderStats,
    colProds, colQuantiles, colRanges, colRanks, colSdDiffs, colSds,
    colSums2, colTabulates, colVarDiffs, colVars, colWeightedMads,
    colWeightedMeans, colWeightedMedians, colWeightedSds,
    colWeightedVars, rowAlls, rowAnyNAs, rowAnys, rowAvgsPerColSet,
    rowCollapse, rowCounts, rowCummaxs, rowCummins, rowCumprods,
    rowCumsums, rowDiffs, rowIQRDiffs, rowIQRs, rowLogSumExps,
    rowMadDiffs, rowMads, rowMaxs, rowMeans2, rowMedians, rowMins,
    rowOrderStats, rowProds, rowQuantiles, rowRanges, rowRanks,
    rowSdDiffs, rowSds, rowSums2, rowTabulates, rowVarDiffs, rowVars,
    rowWeightedMads, rowWeightedMeans, rowWeightedMedians,
    rowWeightedSds, rowWeightedVars

Loading required package: GenomicRanges
Loading required package: stats4
Loading required package: BiocGenerics
Loading required package: generics

Attaching package: 'generics'

The following objects are masked from 'package:base':

    as.difftime, as.factor, as.ordered, intersect, is.element, setdiff,
    setequal, union


Attaching package: 'BiocGenerics'

The following objects are masked from 'package:stats':

    IQR, mad, sd, var, xtabs

The following objects are masked from 'package:base':

    Filter, Find, Map, Position, Reduce, anyDuplicated, aperm, append,
    as.data.frame, basename, cbind, colnames, dirname, do.call,
    duplicated, eval, evalq, get, grep, grepl, is.unsorted, lapply,
    mapply, match, mget, order, paste, pmax, pmax.int, pmin, pmin.int,
    rank, rbind, rownames, sapply, saveRDS, table, tapply, unique,
    unsplit, which.max, which.min

Loading required package: S4Vectors

Attaching package: 'S4Vectors'

The following object is masked from 'package:utils':

    findMatches

The following objects are masked from 'package:base':

    I, expand.grid, unname

Loading required package: IRanges
Loading required package: Seqinfo
Loading required package: Biobase
Welcome to Bioconductor

    Vignettes contain introductory material; view with
    'browseVignettes()'. To cite Bioconductor, see
    'citation("Biobase")', and for packages 'citation("pkgname")'.


Attaching package: 'Biobase'

The following object is masked from 'package:MatrixGenerics':

    rowMedians

The following objects are masked from 'package:matrixStats':

    anyMissing, rowMedians


Attaching package: 'ReducedExperiment'

The following objects are masked from 'package:Biobase':

    featureNames, featureNames<-, sampleNames, sampleNames<-

The following object is masked from 'package:stats':

    loadings

> 
> test_check("ReducedExperiment")
class: FactorisedExperiment 
dim: 300 100 10 
metadata(0):
assays(1): normal
rownames(300): gene_1 gene_2 ... gene_299 gene_300
rowData names(0):
colnames(100): sample_1 sample_2 ... sample_99 sample_100
colData names(0):
10 components
class: ModularExperiment 
dim: 300 100 10 
metadata(0):
assays(1): normal
rownames(300): gene_1 gene_2 ... gene_299 gene_300
rowData names(0):
colnames(100): sample_1 sample_2 ... sample_99 sample_100
colData names(0):
10 components
class: ReducedExperiment 
dim: 300 100 10 
metadata(0):
assays(1): normal
rownames(300): gene_1 gene_2 ... gene_299 gene_300
rowData names(0):
colnames(100): sample_1 sample_2 ... sample_99 sample_100
colData names(0):
10 components

  |                                                                            
  |                                                                      |   0%
  |                                                                            
  |===================================                                   |  50%
  |                                                                            
  |======================================================================| 100%

  |                                                                            
  |                                                                      |   0%
  |                                                                            
  |===================================                                   |  50%
  |                                                                            
  |======================================================================| 100%
[ FAIL 0 | WARN 0 | SKIP 1 | PASS 579 ]

══ Skipped tests (1) ═══════════════════════════════════════════════════════════
• {msigdbdf} is not installed (1): 'test_features.R:83:5'

[ FAIL 0 | WARN 0 | SKIP 1 | PASS 579 ]
> 
> proc.time()
   user  system elapsed 
 99.907   1.533 112.569 

Example timings

ReducedExperiment.Rcheck/ReducedExperiment-Ex.timings

nameusersystemelapsed
assessSoftThreshold6.2310.2536.983
associateComponents1.4690.0561.529
calcEigengenes0.0940.0200.114
cbind_rbind0.3830.0560.439
component_names0.0340.0080.042
dim-ReducedExperiment-method0.0640.0120.089
enrichment3.4740.1554.171
estimateFactors0.2570.0000.266
estimateStability8.5340.1368.909
factorised_experiment0.050.000.05
feature_names0.0410.0000.042
getAlignedFeatures0.1790.0040.187
getCentrality0.0850.0040.090
getCommonFeatures0.1660.0080.175
getMsigdbT2G50.467 0.62554.080
get_gene_ids2.5250.0512.743
identifyModules22.728 0.14324.286
individual_dims0.0740.0000.074
loadings0.0660.0000.066
modular_experiment0.0530.0000.053
modulePreservation11.563 0.06412.199
module_assignments0.1030.0000.104
module_dendrogram0.1000.0040.105
plotCommonFeatures0.2450.0000.246
plotDendro0.0640.0000.065
plotModulePreservation11.119 0.04011.232
plotStability6.9810.2437.275
projectData0.1350.0000.238
reduced0.0470.0000.096
reduced_experiment0.0390.0040.079
runICA0.2390.0000.277
runWGCNA21.833 0.04722.737
sample_names0.0410.0000.041
show0.0350.0000.035
slice0.1530.0000.210
stability0.6530.0000.654