Back to Multiple platform build/check report for BioC 3.22:   simplified   long
ABCDEFGHIJKLMNOPQ[R]STUVWXYZ

This page was generated on 2025-11-12 11:57 -0500 (Wed, 12 Nov 2025).

HostnameOSArch (*)R versionInstalled pkgs
nebbiolo2Linux (Ubuntu 24.04.3 LTS)x86_644.5.1 Patched (2025-08-23 r88802) -- "Great Square Root" 4902
taishanLinux (openEuler 24.03 LTS)aarch644.5.0 (2025-04-11) -- "How About a Twenty-Six" 4668
Click on any hostname to see more info about the system (e.g. compilers)      (*) as reported by 'uname -p', except on Windows and Mac OS X

All results for package ReactomePA


To the developers/maintainers of the ReactomePA package:
- Allow up to 24 hours (and sometimes 48 hours) for your latest push to git@git.bioconductor.org:packages/ReactomePA.git to reflect on this report. See Troubleshooting Build Report for more information.
- Use the following Renviron settings to reproduce errors and warnings.
- If 'R CMD check' started to fail recently on the Linux builder(s) over a missing dependency, add the missing dependency to 'Suggests:' in your DESCRIPTION file. See Renviron.bioc for more information.

raw results

Package 1744/2361HostnameOS / ArchINSTALLBUILDCHECKBUILD BIN
ReactomePA 1.54.0  (landing page)
Guangchuang Yu
Snapshot Date: 2025-11-11 13:45 -0500 (Tue, 11 Nov 2025)
git_url: https://git.bioconductor.org/packages/ReactomePA
git_branch: RELEASE_3_22
git_last_commit: 36f3c2f
git_last_commit_date: 2025-10-29 10:10:37 -0500 (Wed, 29 Oct 2025)
nebbiolo2Linux (Ubuntu 24.04.3 LTS) / x86_64  OK    OK    OK  UNNEEDED, same version is already published
taishanLinux (openEuler 24.03 LTS) / aarch64  OK    OK    OK  



Results for Bioconductor software packages that depend directly on package ReactomePA

QUICK STATSOS / ArchINSTALLBUILDCHECKBUILD BIN
nebbiolo2Linux (Ubuntu 24.04.3 LTS) / x86_64
007
007
0115
taishanLinux (openEuler 24.03 LTS) / aarch64
007
007
0115
Package 1/7HostnameOS / ArchINSTALLBUILDCHECKBUILD BIN
bioCancer 1.38.0  (landing page)
Karim Mezhoud
git_last_commit: 7997387
git_last_commit_date: 2025-10-29 10:32:26 -0500
nebbiolo2Linux (Ubuntu 24.04.3 LTS) / x86_64  OK    OK    OK  UNNEEDED, same version is already published
taishanLinux (openEuler 24.03 LTS) / aarch64  OK    OK    OK  
Package 2/7HostnameOS / ArchINSTALLBUILDCHECKBUILD BIN
gINTomics 1.6.0  (landing page)
Angelo Velle
git_last_commit: d433a6d
git_last_commit_date: 2025-10-29 11:30:01 -0500
nebbiolo2Linux (Ubuntu 24.04.3 LTS) / x86_64  OK    OK    OK  NO, package depends on 'OmnipathR' which is not available
taishanLinux (openEuler 24.03 LTS) / aarch64  OK    OK    OK  
Package 3/7HostnameOS / ArchINSTALLBUILDCHECKBUILD BIN
miRSM 2.6.0  (landing page)
Junpeng Zhang
git_last_commit: d79d504
git_last_commit_date: 2025-10-29 10:47:11 -0500
nebbiolo2Linux (Ubuntu 24.04.3 LTS) / x86_64  OK    OK    OK  UNNEEDED, same version is already published
taishanLinux (openEuler 24.03 LTS) / aarch64  OK    OK    OK  
Package 4/7HostnameOS / ArchINSTALLBUILDCHECKBUILD BIN
miRspongeR 2.14.0  (landing page)
Junpeng Zhang
git_last_commit: b0b2997
git_last_commit_date: 2025-10-29 10:40:11 -0500
nebbiolo2Linux (Ubuntu 24.04.3 LTS) / x86_64  OK    OK    OK  UNNEEDED, same version is already published
taishanLinux (openEuler 24.03 LTS) / aarch64  OK    OK    OK  
Package 5/7HostnameOS / ArchINSTALLBUILDCHECKBUILD BIN
mitology 1.2.0  (landing page)
Stefania Pirrotta
git_last_commit: 6e9b360
git_last_commit_date: 2025-10-29 11:36:14 -0500
nebbiolo2Linux (Ubuntu 24.04.3 LTS) / x86_64  OK    OK    OK  UNNEEDED, same version is already published
taishanLinux (openEuler 24.03 LTS) / aarch64  OK    OK    OK  
Package 6/7HostnameOS / ArchINSTALLBUILDCHECKBUILD BIN
Pigengene 1.36.0  (landing page)
Habil Zare
git_last_commit: 98253f3
git_last_commit_date: 2025-10-29 10:32:29 -0500
nebbiolo2Linux (Ubuntu 24.04.3 LTS) / x86_64  OK    OK    ERROR  
taishanLinux (openEuler 24.03 LTS) / aarch64  OK    OK    ERROR  
Package 7/7HostnameOS / ArchINSTALLBUILDCHECKBUILD BIN
scTensor 2.20.0  (landing page)
Koki Tsuyuzaki
git_last_commit: 11f50bb
git_last_commit_date: 2025-10-29 10:49:00 -0500
nebbiolo2Linux (Ubuntu 24.04.3 LTS) / x86_64  OK    OK    WARNINGS  UNNEEDED, same version is already published
taishanLinux (openEuler 24.03 LTS) / aarch64  OK    OK    WARNINGS