| Back to Multiple platform build/check report for BioC 3.22: simplified long |
|
This page was generated on 2025-11-11 12:03 -0500 (Tue, 11 Nov 2025).
| Hostname | OS | Arch (*) | R version | Installed pkgs |
|---|---|---|---|---|
| nebbiolo2 | Linux (Ubuntu 24.04.3 LTS) | x86_64 | 4.5.1 Patched (2025-08-23 r88802) -- "Great Square Root" | 4902 |
| kjohnson3 | macOS 13.7.7 Ventura | arm64 | 4.5.1 Patched (2025-09-10 r88807) -- "Great Square Root" | 4638 |
| Click on any hostname to see more info about the system (e.g. compilers) (*) as reported by 'uname -p', except on Windows and Mac OS X | ||||
| Package 1743/2361 | Hostname | OS / Arch | INSTALL | BUILD | CHECK | BUILD BIN | ||||||||
| ReactomeGSA 1.24.0 (landing page) Johannes Griss
| nebbiolo2 | Linux (Ubuntu 24.04.3 LTS) / x86_64 | OK | OK | ERROR | |||||||||
| kjohnson3 | macOS 13.7.7 Ventura / arm64 | OK | OK | OK | OK | |||||||||
|
To the developers/maintainers of the ReactomeGSA package: - Allow up to 24 hours (and sometimes 48 hours) for your latest push to git@git.bioconductor.org:packages/ReactomeGSA.git to reflect on this report. See Troubleshooting Build Report for more information. - Use the following Renviron settings to reproduce errors and warnings. - If 'R CMD check' started to fail recently on the Linux builder(s) over a missing dependency, add the missing dependency to 'Suggests:' in your DESCRIPTION file. See Renviron.bioc for more information. |
| Package: ReactomeGSA |
| Version: 1.24.0 |
| Command: /Library/Frameworks/R.framework/Resources/bin/R CMD check --install=check:ReactomeGSA.install-out.txt --library=/Library/Frameworks/R.framework/Resources/library --no-vignettes --timings ReactomeGSA_1.24.0.tar.gz |
| StartedAt: 2025-11-10 21:52:29 -0500 (Mon, 10 Nov 2025) |
| EndedAt: 2025-11-10 22:04:16 -0500 (Mon, 10 Nov 2025) |
| EllapsedTime: 706.9 seconds |
| RetCode: 0 |
| Status: OK |
| CheckDir: ReactomeGSA.Rcheck |
| Warnings: 0 |
##############################################################################
##############################################################################
###
### Running command:
###
### /Library/Frameworks/R.framework/Resources/bin/R CMD check --install=check:ReactomeGSA.install-out.txt --library=/Library/Frameworks/R.framework/Resources/library --no-vignettes --timings ReactomeGSA_1.24.0.tar.gz
###
##############################################################################
##############################################################################
* using log directory ‘/Users/biocbuild/bbs-3.22-bioc/meat/ReactomeGSA.Rcheck’
* using R version 4.5.1 Patched (2025-09-10 r88807)
* using platform: aarch64-apple-darwin20
* R was compiled by
Apple clang version 16.0.0 (clang-1600.0.26.6)
GNU Fortran (GCC) 14.2.0
* running under: macOS Ventura 13.7.7
* using session charset: UTF-8
* using option ‘--no-vignettes’
* checking for file ‘ReactomeGSA/DESCRIPTION’ ... OK
* checking extension type ... Package
* this is package ‘ReactomeGSA’ version ‘1.24.0’
* package encoding: UTF-8
* checking package namespace information ... OK
* checking package dependencies ... OK
* checking if this is a source package ... OK
* checking if there is a namespace ... OK
* checking for hidden files and directories ... OK
* checking for portable file names ... OK
* checking for sufficient/correct file permissions ... OK
* checking whether package ‘ReactomeGSA’ can be installed ... OK
* checking installed package size ... OK
* checking package directory ... OK
* checking ‘build’ directory ... OK
* checking DESCRIPTION meta-information ... OK
* checking top-level files ... OK
* checking for left-over files ... OK
* checking index information ... OK
* checking package subdirectories ... OK
* checking code files for non-ASCII characters ... OK
* checking R files for syntax errors ... OK
* checking whether the package can be loaded ... OK
* checking whether the package can be loaded with stated dependencies ... OK
* checking whether the package can be unloaded cleanly ... OK
* checking whether the namespace can be loaded with stated dependencies ... OK
* checking whether the namespace can be unloaded cleanly ... OK
* checking whether startup messages can be suppressed ... OK
* checking dependencies in R code ... OK
* checking S3 generic/method consistency ... OK
* checking replacement functions ... OK
* checking foreign function calls ... OK
* checking R code for possible problems ... NOTE
plot_correlations,ReactomeAnalysisResult: no visible binding for global
variable ‘combined_sig’
plot_correlations,ReactomeAnalysisResult: no visible binding for global
variable ‘alpha’
plot_gsva_pathway,ReactomeAnalysisResult: no visible binding for global
variable ‘cluster_id’
plot_gsva_pathway,ReactomeAnalysisResult: no visible binding for global
variable ‘expr’
plot_gsva_pca,ReactomeAnalysisResult: no visible binding for global
variable ‘gsva_result’
plot_gsva_pca,ReactomeAnalysisResult: no visible binding for global
variable ‘PC1’
plot_gsva_pca,ReactomeAnalysisResult: no visible binding for global
variable ‘PC2’
plot_heatmap,ReactomeAnalysisResult: no visible global function
definition for ‘desc’
plot_heatmap,ReactomeAnalysisResult: no visible binding for global
variable ‘n_sig’
plot_heatmap,ReactomeAnalysisResult: no visible binding for global
variable ‘dataset’
plot_heatmap,ReactomeAnalysisResult: no visible binding for global
variable ‘Name’
plot_volcano,ReactomeAnalysisResult: no visible binding for global
variable ‘av_foldchange’
plot_volcano,ReactomeAnalysisResult: no visible binding for global
variable ‘FDR’
Undefined global functions or variables:
FDR Name PC1 PC2 alpha av_foldchange cluster_id combined_sig dataset
desc expr gsva_result n_sig
* checking Rd files ... OK
* checking Rd metadata ... OK
* checking Rd cross-references ... OK
* checking for missing documentation entries ... OK
* checking for code/documentation mismatches ... OK
* checking Rd \usage sections ... OK
* checking Rd contents ... OK
* checking for unstated dependencies in examples ... OK
* checking files in ‘vignettes’ ... OK
* checking examples ... OK
Examples with CPU (user + system) or elapsed time > 5s
user system elapsed
plot_gsva_pathway 10.946 1.143 51.371
plot_gsva_pathway-ReactomeAnalysisResult-method 10.761 1.226 110.487
plot_gsva_heatmap 10.358 1.096 75.912
plot_gsva_heatmap-ReactomeAnalysisResult-method 10.191 1.037 52.028
analyse_sc_clusters-Seurat-method 10.276 0.910 53.251
analyse_sc_clusters 9.916 1.097 103.232
plot_gsva_pca-ReactomeAnalysisResult-method 9.938 0.956 42.675
analyse_sc_clusters-SingleCellExperiment-method 9.889 0.966 79.411
plot_gsva_pca 9.870 0.962 43.047
generate_pseudo_bulk_data 5.841 0.447 6.329
perform_reactome_analysis 0.868 0.107 13.911
load_public_dataset 0.621 0.092 33.577
* checking for unstated dependencies in ‘tests’ ... OK
* checking tests ...
Running ‘testthat.R’
OK
* checking for unstated dependencies in vignettes ... OK
* checking package vignettes ... OK
* checking running R code from vignettes ... SKIPPED
* checking re-building of vignette outputs ... SKIPPED
* checking PDF version of manual ... OK
* DONE
Status: 1 NOTE
See
‘/Users/biocbuild/bbs-3.22-bioc/meat/ReactomeGSA.Rcheck/00check.log’
for details.
ReactomeGSA.Rcheck/00install.out
############################################################################## ############################################################################## ### ### Running command: ### ### /Library/Frameworks/R.framework/Resources/bin/R CMD INSTALL ReactomeGSA ### ############################################################################## ############################################################################## * installing to library ‘/Library/Frameworks/R.framework/Versions/4.5-arm64/Resources/library’ * installing *source* package ‘ReactomeGSA’ ... ** this is package ‘ReactomeGSA’ version ‘1.24.0’ ** using staged installation ** R ** inst ** byte-compile and prepare package for lazy loading in method for ‘analyse_sc_clusters’ with signature ‘object="Seurat"’: no definition for class “Seurat” in method for ‘analyse_sc_clusters’ with signature ‘object="SingleCellExperiment"’: no definition for class “SingleCellExperiment” in method for ‘add_dataset’ with signature ‘request="ReactomeAnalysisRequest",expression_values="EList"’: no definition for class “EList” in method for ‘add_dataset’ with signature ‘request="ReactomeAnalysisRequest",expression_values="DGEList"’: no definition for class “DGEList” in method for ‘generate_pseudo_bulk_data’ with signature ‘object="Seurat"’: no definition for class “Seurat” in method for ‘generate_pseudo_bulk_data’ with signature ‘object="SingleCellExperiment"’: no definition for class “SingleCellExperiment” ** help *** installing help indices ** building package indices ** installing vignettes ** testing if installed package can be loaded from temporary location ** testing if installed package can be loaded from final location ** testing if installed package keeps a record of temporary installation path * DONE (ReactomeGSA)
ReactomeGSA.Rcheck/tests/testthat.Rout
R version 4.5.1 Patched (2025-09-10 r88807) -- "Great Square Root"
Copyright (C) 2025 The R Foundation for Statistical Computing
Platform: aarch64-apple-darwin20
R is free software and comes with ABSOLUTELY NO WARRANTY.
You are welcome to redistribute it under certain conditions.
Type 'license()' or 'licence()' for distribution details.
R is a collaborative project with many contributors.
Type 'contributors()' for more information and
'citation()' on how to cite R or R packages in publications.
Type 'demo()' for some demos, 'help()' for on-line help, or
'help.start()' for an HTML browser interface to help.
Type 'q()' to quit R.
> library(testthat)
> library(ReactomeGSA)
>
> test_check("ReactomeGSA")
[ FAIL 0 | WARN 0 | SKIP 0 | PASS 17 ]
>
> proc.time()
user system elapsed
0.692 0.057 0.746
ReactomeGSA.Rcheck/ReactomeGSA-Ex.timings
| name | user | system | elapsed | |
| ReactomeAnalysisRequest | 1.959 | 0.099 | 2.065 | |
| ReactomeAnalysisResult-class | 0.084 | 0.003 | 0.086 | |
| add_dataset-ReactomeAnalysisRequest-DGEList-method | 0.431 | 0.024 | 0.455 | |
| add_dataset-ReactomeAnalysisRequest-EList-method | 0.261 | 0.029 | 0.292 | |
| add_dataset-ReactomeAnalysisRequest-ExpressionSet-method | 0.256 | 0.032 | 0.287 | |
| add_dataset-ReactomeAnalysisRequest-data.frame-method | 0.258 | 0.032 | 0.292 | |
| add_dataset-ReactomeAnalysisRequest-matrix-method | 0.257 | 0.036 | 0.298 | |
| add_dataset | 0.253 | 0.030 | 0.284 | |
| analyse_sc_clusters-Seurat-method | 10.276 | 0.910 | 53.251 | |
| analyse_sc_clusters-SingleCellExperiment-method | 9.889 | 0.966 | 79.411 | |
| analyse_sc_clusters | 9.916 | 1.097 | 103.232 | |
| find_public_datasets | 0.038 | 0.007 | 3.515 | |
| generate_metadata | 0.000 | 0.001 | 0.000 | |
| generate_pseudo_bulk_data | 5.841 | 0.447 | 6.329 | |
| get_public_species | 0.011 | 0.001 | 0.420 | |
| get_reactome_data_types | 0.020 | 0.003 | 0.770 | |
| get_reactome_methods | 0.034 | 0.007 | 1.274 | |
| get_result-ReactomeAnalysisResult-method | 0.086 | 0.004 | 0.091 | |
| get_result | 0.084 | 0.004 | 0.087 | |
| load_public_dataset | 0.621 | 0.092 | 33.577 | |
| names-ReactomeAnalysisResult-method | 0.085 | 0.004 | 0.089 | |
| open_reactome-ReactomeAnalysisResult-method | 0.085 | 0.003 | 0.089 | |
| open_reactome | 0.088 | 0.003 | 0.092 | |
| pathways-ReactomeAnalysisResult-method | 0.110 | 0.005 | 0.116 | |
| pathways | 0.096 | 0.005 | 0.100 | |
| perform_reactome_analysis | 0.868 | 0.107 | 13.911 | |
| plot_correlations-ReactomeAnalysisResult-method | 0.128 | 0.005 | 0.132 | |
| plot_correlations | 0.107 | 0.004 | 0.111 | |
| plot_gsva_heatmap-ReactomeAnalysisResult-method | 10.191 | 1.037 | 52.028 | |
| plot_gsva_heatmap | 10.358 | 1.096 | 75.912 | |
| plot_gsva_pathway-ReactomeAnalysisResult-method | 10.761 | 1.226 | 110.487 | |
| plot_gsva_pathway | 10.946 | 1.143 | 51.371 | |
| plot_gsva_pca-ReactomeAnalysisResult-method | 9.938 | 0.956 | 42.675 | |
| plot_gsva_pca | 9.870 | 0.962 | 43.047 | |
| plot_heatmap-ReactomeAnalysisResult-method | 0.192 | 0.004 | 0.195 | |
| plot_heatmap | 0.217 | 0.006 | 0.224 | |
| plot_volcano-ReactomeAnalysisResult-method | 0.092 | 0.003 | 0.095 | |
| plot_volcano | 0.100 | 0.003 | 0.102 | |
| print-ReactomeAnalysisRequest-method | 0.000 | 0.000 | 0.001 | |
| print-ReactomeAnalysisResult-method | 0.090 | 0.003 | 0.099 | |
| reactome_links-ReactomeAnalysisResult-method | 0.089 | 0.003 | 0.091 | |
| reactome_links | 0.090 | 0.003 | 0.092 | |
| result_types-ReactomeAnalysisResult-method | 0.089 | 0.003 | 0.091 | |
| result_types | 0.087 | 0.002 | 0.091 | |
| set_method-ReactomeAnalysisRequest-method | 0.001 | 0.000 | 0.001 | |
| set_method | 0.001 | 0.000 | 0.001 | |
| set_parameters-ReactomeAnalysisRequest-method | 0.000 | 0.001 | 0.001 | |
| set_parameters | 0.001 | 0.000 | 0.001 | |
| show-ReactomeAnalysisRequest-method | 0 | 0 | 0 | |
| show-ReactomeAnalysisResult-method | 0.090 | 0.004 | 0.093 | |