| Back to Multiple platform build/check report for BioC 3.21: simplified long |
|
This page was generated on 2025-08-18 11:42 -0400 (Mon, 18 Aug 2025).
| Hostname | OS | Arch (*) | R version | Installed pkgs |
|---|---|---|---|---|
| nebbiolo1 | Linux (Ubuntu 24.04.3 LTS) | x86_64 | 4.5.1 (2025-06-13) -- "Great Square Root" | 4824 |
| palomino7 | Windows Server 2022 Datacenter | x64 | 4.5.1 (2025-06-13 ucrt) -- "Great Square Root" | 4566 |
| merida1 | macOS 12.7.5 Monterey | x86_64 | 4.5.1 RC (2025-06-05 r88288) -- "Great Square Root" | 4604 |
| kjohnson1 | macOS 13.6.6 Ventura | arm64 | 4.5.1 Patched (2025-06-14 r88325) -- "Great Square Root" | 4545 |
| kunpeng2 | Linux (openEuler 24.03 LTS) | aarch64 | R Under development (unstable) (2025-02-19 r87757) -- "Unsuffered Consequences" | 4579 |
| Click on any hostname to see more info about the system (e.g. compilers) (*) as reported by 'uname -p', except on Windows and Mac OS X | ||||
| Package 1842/2341 | Hostname | OS / Arch | INSTALL | BUILD | CHECK | BUILD BIN | ||||||||
| RSVSim 1.48.0 (landing page) Christoph Bartenhagen
| nebbiolo1 | Linux (Ubuntu 24.04.3 LTS) / x86_64 | OK | OK | OK | |||||||||
| palomino7 | Windows Server 2022 Datacenter / x64 | OK | OK | OK | OK | |||||||||
| merida1 | macOS 12.7.5 Monterey / x86_64 | OK | OK | OK | OK | |||||||||
| kjohnson1 | macOS 13.6.6 Ventura / arm64 | OK | OK | OK | OK | |||||||||
| kunpeng2 | Linux (openEuler 24.03 LTS) / aarch64 | OK | OK | OK | ||||||||||
|
To the developers/maintainers of the RSVSim package: - Allow up to 24 hours (and sometimes 48 hours) for your latest push to git@git.bioconductor.org:packages/RSVSim.git to reflect on this report. See Troubleshooting Build Report for more information. - Use the following Renviron settings to reproduce errors and warnings. - If 'R CMD check' started to fail recently on the Linux builder(s) over a missing dependency, add the missing dependency to 'Suggests:' in your DESCRIPTION file. See Renviron.bioc for more information. |
| Package: RSVSim |
| Version: 1.48.0 |
| Command: E:\biocbuild\bbs-3.21-bioc\R\bin\R.exe CMD check --no-multiarch --install=check:RSVSim.install-out.txt --library=E:\biocbuild\bbs-3.21-bioc\R\library --no-vignettes --timings RSVSim_1.48.0.tar.gz |
| StartedAt: 2025-08-15 06:22:43 -0400 (Fri, 15 Aug 2025) |
| EndedAt: 2025-08-15 06:27:07 -0400 (Fri, 15 Aug 2025) |
| EllapsedTime: 263.2 seconds |
| RetCode: 0 |
| Status: OK |
| CheckDir: RSVSim.Rcheck |
| Warnings: 0 |
##############################################################################
##############################################################################
###
### Running command:
###
### E:\biocbuild\bbs-3.21-bioc\R\bin\R.exe CMD check --no-multiarch --install=check:RSVSim.install-out.txt --library=E:\biocbuild\bbs-3.21-bioc\R\library --no-vignettes --timings RSVSim_1.48.0.tar.gz
###
##############################################################################
##############################################################################
* using log directory 'E:/biocbuild/bbs-3.21-bioc/meat/RSVSim.Rcheck'
* using R version 4.5.1 (2025-06-13 ucrt)
* using platform: x86_64-w64-mingw32
* R was compiled by
gcc.exe (GCC) 14.2.0
GNU Fortran (GCC) 14.2.0
* running under: Windows Server 2022 x64 (build 20348)
* using session charset: UTF-8
* using option '--no-vignettes'
* checking for file 'RSVSim/DESCRIPTION' ... OK
* checking extension type ... Package
* this is package 'RSVSim' version '1.48.0'
* checking package namespace information ... OK
* checking package dependencies ... OK
* checking if this is a source package ... OK
* checking if there is a namespace ... OK
* checking for hidden files and directories ... OK
* checking for portable file names ... OK
* checking whether package 'RSVSim' can be installed ... OK
* checking installed package size ... OK
* checking package directory ... OK
* checking 'build' directory ... OK
* checking DESCRIPTION meta-information ... OK
* checking top-level files ... OK
* checking for left-over files ... OK
* checking index information ... OK
* checking package subdirectories ... OK
* checking code files for non-ASCII characters ... OK
* checking R files for syntax errors ... OK
* checking whether the package can be loaded ... OK
* checking whether the package can be loaded with stated dependencies ... OK
* checking whether the package can be unloaded cleanly ... OK
* checking whether the namespace can be loaded with stated dependencies ... OK
* checking whether the namespace can be unloaded cleanly ... OK
* checking dependencies in R code ... NOTE
'library' or 'require' calls in package code:
'BSgenome.Hsapiens.UCSC.hg19' 'BSgenome.Hsapiens.UCSC.hg19.masked'
'MASS' 'rtracklayer'
Please use :: or requireNamespace() instead.
See section 'Suggested packages' in the 'Writing R Extensions' manual.
Namespace in Imports field not imported from: 'methods'
All declared Imports should be used.
* checking S3 generic/method consistency ... OK
* checking replacement functions ... OK
* checking foreign function calls ... OK
* checking R code for possible problems ... NOTE
.compareSV: no visible global function definition for 'wmsg'
.drawPos: no visible global function definition for 'seqlevels'
.drawPos: no visible global function definition for 'queryHits'
.getHG19: no visible binding for global variable
'BSgenome.Hsapiens.UCSC.hg19.masked'
.getHG19: no visible binding for global variable 'Hsapiens'
.getHG19: no visible global function definition for 'as'
.getSVSizes: no visible global function definition for 'rbeta'
.loadFromBSGenome_TandemRepeats: no visible binding for global variable
'BSgenome.Hsapiens.UCSC.hg19.masked'
.loadFromBSGenome_TandemRepeats: no visible global function definition
for 'seqlevels<-'
.loadFromBSGenome_TandemRepeats: no visible global function definition
for 'as'
.loadFromUCSC_RepeatMasks: no visible global function definition for
'browserSession'
.loadFromUCSC_RepeatMasks: no visible global function definition for
'genome<-'
.loadFromUCSC_RepeatMasks: no visible global function definition for
'ucscTableQuery'
.loadFromUCSC_RepeatMasks: no visible global function definition for
'txtProgressBar'
.loadFromUCSC_RepeatMasks: no visible global function definition for
'range<-'
.loadFromUCSC_RepeatMasks: no visible global function definition for
'getTable'
.loadFromUCSC_RepeatMasks: no visible global function definition for
'setTxtProgressBar'
.loadFromUCSC_RepeatMasks: no visible global function definition for
'data'
.loadFromUCSC_SegDups: no visible global function definition for
'browserSession'
.loadFromUCSC_SegDups: no visible global function definition for
'genome<-'
.loadFromUCSC_SegDups: no visible global function definition for
'getTable'
.loadFromUCSC_SegDups: no visible global function definition for
'ucscTableQuery'
.readRepeatMaskerOutput: no visible global function definition for
'read.table'
.readRepeatMaskerOutput: no visible global function definition for
'data'
.simInsertionPositions: no visible global function definition for
'txtProgressBar'
.simInsertionPositions: no visible global function definition for
'seqlevels'
.simInsertionPositions: no visible global function definition for
'setTxtProgressBar'
.simPositions: no visible global function definition for
'txtProgressBar'
.simPositions: no visible global function definition for
'setTxtProgressBar'
.simTranslocationPositions: no visible global function definition for
'txtProgressBar'
.simTranslocationPositions: no visible global function definition for
'seqlevels'
.simTranslocationPositions: no visible global function definition for
'setTxtProgressBar'
.subtractIntervals: no visible global function definition for
'seqlevels<-'
.testSVSim: no visible global function definition for 'metadata'
compareSV,character-character: no visible global function definition
for 'read.table'
compareSV,character-data.frame: no visible global function definition
for 'read.table'
estimateSVSizes,numeric-numeric-ANY-ANY-missing: no visible global
function definition for 'fitdistr'
simulateSV,ANY: no visible global function definition for 'data'
simulateSV,ANY: no visible global function definition for
'txtProgressBar'
simulateSV,ANY: no visible global function definition for
'setTxtProgressBar'
simulateSV,ANY: no visible global function definition for 'write.table'
simulateSV,ANY: no visible global function definition for 'metadata<-'
Undefined global functions or variables:
BSgenome.Hsapiens.UCSC.hg19.masked Hsapiens as browserSession data
fitdistr genome<- getTable metadata metadata<- queryHits range<-
rbeta read.table seqlevels seqlevels<- setTxtProgressBar
txtProgressBar ucscTableQuery wmsg write.table
Consider adding
importFrom("methods", "as")
importFrom("stats", "rbeta")
importFrom("utils", "data", "read.table", "setTxtProgressBar",
"txtProgressBar", "write.table")
to your NAMESPACE file (and ensure that your DESCRIPTION Imports field
contains 'methods').
* checking Rd files ... OK
* checking Rd metadata ... OK
* checking Rd cross-references ... OK
* checking for missing documentation entries ... OK
* checking for code/documentation mismatches ... OK
* checking Rd \usage sections ... OK
* checking Rd contents ... OK
* checking for unstated dependencies in examples ... OK
* checking contents of 'data' directory ... OK
* checking data for non-ASCII characters ... OK
* checking data for ASCII and uncompressed saves ... OK
* checking sizes of PDF files under 'inst/doc' ... OK
* checking files in 'vignettes' ... OK
* checking examples ... OK
Examples with CPU (user + system) or elapsed time > 5s
user system elapsed
simulateSV 8.76 0.06 8.83
* checking for unstated dependencies in vignettes ... OK
* checking package vignettes ... OK
* checking running R code from vignettes ... SKIPPED
* checking re-building of vignette outputs ... SKIPPED
* checking PDF version of manual ... OK
* DONE
Status: 2 NOTEs
See
'E:/biocbuild/bbs-3.21-bioc/meat/RSVSim.Rcheck/00check.log'
for details.
RSVSim.Rcheck/00install.out
############################################################################## ############################################################################## ### ### Running command: ### ### E:\biocbuild\bbs-3.21-bioc\R\bin\R.exe CMD INSTALL RSVSim ### ############################################################################## ############################################################################## * installing to library 'E:/biocbuild/bbs-3.21-bioc/R/library' * installing *source* package 'RSVSim' ... ** this is package 'RSVSim' version '1.48.0' ** using staged installation ** R ** data ** byte-compile and prepare package for lazy loading ** help *** installing help indices ** building package indices ** installing vignettes ** testing if installed package can be loaded from temporary location ** testing if installed package can be loaded from final location ** testing if installed package keeps a record of temporary installation path * DONE (RSVSim)
RSVSim.Rcheck/RSVSim-Ex.timings
| name | user | system | elapsed | |
| compareSVs | 3.94 | 0.10 | 4.03 | |
| estimateSVSizes | 0.34 | 0.00 | 0.38 | |
| segmentalDuplications | 0.11 | 0.01 | 0.13 | |
| simulateSV | 8.76 | 0.06 | 8.83 | |
| weightsMechanisms | 0.00 | 0.02 | 0.01 | |
| weightsRepeats | 0 | 0 | 0 | |