| Back to Multiple platform build/check report for BioC 3.21: simplified long |
|
This page was generated on 2025-08-18 11:42 -0400 (Mon, 18 Aug 2025).
| Hostname | OS | Arch (*) | R version | Installed pkgs |
|---|---|---|---|---|
| nebbiolo1 | Linux (Ubuntu 24.04.3 LTS) | x86_64 | 4.5.1 (2025-06-13) -- "Great Square Root" | 4824 |
| palomino7 | Windows Server 2022 Datacenter | x64 | 4.5.1 (2025-06-13 ucrt) -- "Great Square Root" | 4566 |
| merida1 | macOS 12.7.5 Monterey | x86_64 | 4.5.1 RC (2025-06-05 r88288) -- "Great Square Root" | 4604 |
| kjohnson1 | macOS 13.6.6 Ventura | arm64 | 4.5.1 Patched (2025-06-14 r88325) -- "Great Square Root" | 4545 |
| kunpeng2 | Linux (openEuler 24.03 LTS) | aarch64 | R Under development (unstable) (2025-02-19 r87757) -- "Unsuffered Consequences" | 4579 |
| Click on any hostname to see more info about the system (e.g. compilers) (*) as reported by 'uname -p', except on Windows and Mac OS X | ||||
| Package 1721/2341 | Hostname | OS / Arch | INSTALL | BUILD | CHECK | BUILD BIN | ||||||||
| RCX 1.12.0 (landing page) Florian Auer
| nebbiolo1 | Linux (Ubuntu 24.04.3 LTS) / x86_64 | OK | OK | OK | |||||||||
| palomino7 | Windows Server 2022 Datacenter / x64 | OK | OK | OK | OK | |||||||||
| merida1 | macOS 12.7.5 Monterey / x86_64 | OK | OK | OK | OK | |||||||||
| kjohnson1 | macOS 13.6.6 Ventura / arm64 | OK | OK | OK | OK | |||||||||
| kunpeng2 | Linux (openEuler 24.03 LTS) / aarch64 | OK | OK | OK | ||||||||||
|
To the developers/maintainers of the RCX package: - Allow up to 24 hours (and sometimes 48 hours) for your latest push to git@git.bioconductor.org:packages/RCX.git to reflect on this report. See Troubleshooting Build Report for more information. - Use the following Renviron settings to reproduce errors and warnings. - If 'R CMD check' started to fail recently on the Linux builder(s) over a missing dependency, add the missing dependency to 'Suggests:' in your DESCRIPTION file. See Renviron.bioc for more information. |
| Package: RCX |
| Version: 1.12.0 |
| Command: E:\biocbuild\bbs-3.21-bioc\R\bin\R.exe CMD check --no-multiarch --install=check:RCX.install-out.txt --library=E:\biocbuild\bbs-3.21-bioc\R\library --no-vignettes --timings RCX_1.12.0.tar.gz |
| StartedAt: 2025-08-15 05:54:45 -0400 (Fri, 15 Aug 2025) |
| EndedAt: 2025-08-15 05:56:21 -0400 (Fri, 15 Aug 2025) |
| EllapsedTime: 95.5 seconds |
| RetCode: 0 |
| Status: OK |
| CheckDir: RCX.Rcheck |
| Warnings: 0 |
##############################################################################
##############################################################################
###
### Running command:
###
### E:\biocbuild\bbs-3.21-bioc\R\bin\R.exe CMD check --no-multiarch --install=check:RCX.install-out.txt --library=E:\biocbuild\bbs-3.21-bioc\R\library --no-vignettes --timings RCX_1.12.0.tar.gz
###
##############################################################################
##############################################################################
* using log directory 'E:/biocbuild/bbs-3.21-bioc/meat/RCX.Rcheck'
* using R version 4.5.1 (2025-06-13 ucrt)
* using platform: x86_64-w64-mingw32
* R was compiled by
gcc.exe (GCC) 14.2.0
GNU Fortran (GCC) 14.2.0
* running under: Windows Server 2022 x64 (build 20348)
* using session charset: UTF-8
* using option '--no-vignettes'
* checking for file 'RCX/DESCRIPTION' ... OK
* checking extension type ... Package
* this is package 'RCX' version '1.12.0'
* package encoding: UTF-8
* checking package namespace information ... OK
* checking package dependencies ... OK
* checking if this is a source package ... OK
* checking if there is a namespace ... OK
* checking for hidden files and directories ... OK
* checking for portable file names ... OK
* checking whether package 'RCX' can be installed ... OK
* checking installed package size ... OK
* checking package directory ... OK
* checking 'build' directory ... OK
* checking DESCRIPTION meta-information ... NOTE
License stub is invalid DCF.
* checking top-level files ... OK
* checking for left-over files ... OK
* checking index information ... OK
* checking package subdirectories ... NOTE
Problems with news in 'NEWS.md':
No news entries found.
* checking code files for non-ASCII characters ... OK
* checking R files for syntax errors ... OK
* checking whether the package can be loaded ... OK
* checking whether the package can be loaded with stated dependencies ... OK
* checking whether the package can be unloaded cleanly ... OK
* checking whether the namespace can be loaded with stated dependencies ... OK
* checking whether the namespace can be unloaded cleanly ... OK
* checking whether startup messages can be suppressed ... OK
* checking dependencies in R code ... OK
* checking S3 generic/method consistency ... OK
* checking replacement functions ... OK
* checking foreign function calls ... OK
* checking R code for possible problems ... OK
* checking Rd files ... OK
* checking Rd metadata ... OK
* checking Rd cross-references ... NOTE
Non-topic package-anchored link(s) in Rd file 'Igraph.Rd':
'[igraph:aaa-igraph-package]{igraph}'
See section 'Cross-references' in the 'Writing R Extensions' manual.
Found the following Rd file(s) with Rd \link{} targets missing package
anchors:
jsonToRCX.Rd: jsonlite
readCX.Rd: jsonlite
Please provide package anchors for all Rd \link{} targets not in the
package itself and the base packages.
* checking for missing documentation entries ... OK
* checking for code/documentation mismatches ... OK
* checking Rd \usage sections ... NOTE
Documented arguments not in \usage in Rd file 'dot-format.Rd':
'.log'
Functions with \usage entries need to have the appropriate \alias
entries, and all their arguments documented.
The \usage entries must correspond to syntactically valid R code.
See chapter 'Writing R documentation files' in the 'Writing R
Extensions' manual.
* checking Rd contents ... OK
* checking for unstated dependencies in examples ... OK
* checking R/sysdata.rda ... OK
* checking files in 'vignettes' ... OK
* checking examples ... OK
* checking for unstated dependencies in 'tests' ... OK
* checking tests ...
Running 'testthat.R'
OK
* checking for unstated dependencies in vignettes ... OK
* checking package vignettes ... OK
* checking running R code from vignettes ... SKIPPED
* checking re-building of vignette outputs ... SKIPPED
* checking PDF version of manual ... OK
* DONE
Status: 4 NOTEs
See
'E:/biocbuild/bbs-3.21-bioc/meat/RCX.Rcheck/00check.log'
for details.
RCX.Rcheck/00install.out
############################################################################## ############################################################################## ### ### Running command: ### ### E:\biocbuild\bbs-3.21-bioc\R\bin\R.exe CMD INSTALL RCX ### ############################################################################## ############################################################################## * installing to library 'E:/biocbuild/bbs-3.21-bioc/R/library' * installing *source* package 'RCX' ... ** this is package 'RCX' version '1.12.0' ** using staged installation ** R ** inst ** byte-compile and prepare package for lazy loading ** help *** installing help indices ** building package indices ** installing vignettes ** testing if installed package can be loaded from temporary location ** testing if installed package can be loaded from final location ** testing if installed package keeps a record of temporary installation path * DONE (RCX)
RCX.Rcheck/tests/testthat.Rout
R version 4.5.1 (2025-06-13 ucrt) -- "Great Square Root"
Copyright (C) 2025 The R Foundation for Statistical Computing
Platform: x86_64-w64-mingw32/x64
R is free software and comes with ABSOLUTELY NO WARRANTY.
You are welcome to redistribute it under certain conditions.
Type 'license()' or 'licence()' for distribution details.
R is a collaborative project with many contributors.
Type 'contributors()' for more information and
'citation()' on how to cite R or R packages in publications.
Type 'demo()' for some demos, 'help()' for on-line help, or
'help.start()' for an HTML browser interface to help.
Type 'q()' to quit R.
> library(testthat)
> library(RCX)
>
> test_check("RCX")
[ FAIL 0 | WARN 0 | SKIP 0 | PASS 60 ]
>
> proc.time()
user system elapsed
3.07 0.25 3.45
RCX.Rcheck/RCX-Ex.timings
| name | user | system | elapsed | |
| CartesianLayout | 0.01 | 0.00 | 0.02 | |
| Convert-Names-and-Classes | 0 | 0 | 0 | |
| CyGroups | 0.01 | 0.00 | 0.02 | |
| CyHiddenAttributes | 0.16 | 0.00 | 0.15 | |
| CyNetworkRelations | 0 | 0 | 0 | |
| CySubNetworks | 0.01 | 0.00 | 0.02 | |
| CyTableColumn | 0 | 0 | 0 | |
| CyVisualProperties | 0.02 | 0.00 | 0.01 | |
| CyVisualProperty | 0.01 | 0.00 | 0.02 | |
| CyVisualPropertyDependencies | 0 | 0 | 0 | |
| CyVisualPropertyMappings | 0.02 | 0.00 | 0.02 | |
| CyVisualPropertyProperties | 0 | 0 | 0 | |
| EdgeAttributes | 0.03 | 0.00 | 0.03 | |
| Edges | 0 | 0 | 0 | |
| Igraph | 2.80 | 0.08 | 4.72 | |
| Meta-data | 0.05 | 0.00 | 0.05 | |
| NetworkAttributes | 0.01 | 0.00 | 0.01 | |
| NodeAttributes | 0.03 | 0.00 | 0.03 | |
| Nodes | 0 | 0 | 0 | |
| RCX-object | 0.36 | 0.00 | 0.36 | |
| aspectClasses | 0 | 0 | 0 | |
| checks | 0 | 0 | 0 | |
| convert-data-types-and-values | 0 | 0 | 0 | |
| convert2json | 0 | 0 | 0 | |
| countElements | 0.02 | 0.00 | 0.01 | |
| custom-print | 0 | 0 | 0 | |
| dot-addAspectNameToJson | 0 | 0 | 0 | |
| dot-addAttributeData | 0 | 0 | 0 | |
| dot-aspectClass | 0.00 | 0.02 | 0.02 | |
| dot-convertRawList | 0 | 0 | 0 | |
| dot-createAttributeAspect | 0 | 0 | 0 | |
| dot-createCyVpPorD | 0 | 0 | 0 | |
| dot-filterBy | 0 | 0 | 0 | |
| dot-format | 0 | 0 | 0 | |
| dot-infer | 0 | 0 | 0 | |
| dot-json2RDataType | 0 | 0 | 0 | |
| dot-jsonL | 0 | 0 | 0 | |
| dot-jsonV | 0 | 0 | 0 | |
| dot-log | 0 | 0 | 0 | |
| dot-mergeAttributesAspect | 0.01 | 0.00 | 0.02 | |
| dot-mergeIdAspect | 0 | 0 | 0 | |
| dot-modClass | 0 | 0 | 0 | |
| dot-pasteC | 0 | 0 | 0 | |
| dot-renameDF | 0 | 0 | 0 | |
| dot-stop | 0 | 0 | 0 | |
| dot-summaryAspect | 0 | 0 | 0 | |
| dot-transformListLength-set | 0.02 | 0.00 | 0.01 | |
| dot-transformVLD | 0 | 0 | 0 | |
| getCyVisualProperty | 0.01 | 0.00 | 0.02 | |
| graphNEL | 2.96 | 0.06 | 3.01 | |
| hasIds | 0 | 0 | 0 | |
| idProperty | 0 | 0 | 0 | |
| jsonToRCX | 0.01 | 0.00 | 0.02 | |
| markAttributeColumn | 0 | 0 | 0 | |
| markRefColumn | 0 | 0 | 0 | |
| maxId | 0 | 0 | 0 | |
| rcxToJson | 0 | 0 | 0 | |
| readCX | 0.88 | 0.00 | 0.87 | |
| referredBy | 0.01 | 0.00 | 0.02 | |
| refersTo | 0 | 0 | 0 | |
| setExtension | 0 | 0 | 0 | |
| summary | 0.02 | 0.00 | 0.01 | |
| toCX | 0.01 | 0.00 | 0.02 | |
| updateCartesianLayout | 0.05 | 0.01 | 0.06 | |
| updateCyGroups | 0.05 | 0.00 | 0.04 | |
| updateCyHiddenAttributes | 0.08 | 0.02 | 0.10 | |
| updateCyNetworkRelations | 0.03 | 0.00 | 0.03 | |
| updateCySubNetworks | 0.04 | 0.00 | 0.05 | |
| updateCyTableColumn | 0.07 | 0.00 | 0.06 | |
| updateCyVisualProperties | 0.34 | 0.00 | 0.34 | |
| updateCyVisualProperty | 0.06 | 0.00 | 0.07 | |
| updateEdgeAttributes | 0.05 | 0.00 | 0.04 | |
| updateEdges | 0.03 | 0.00 | 0.03 | |
| updateMetaDataProperties | 0.02 | 0.01 | 0.03 | |
| updateNetworkAttributes | 0.04 | 0.00 | 0.05 | |
| updateNodeAttributes | 0.05 | 0.00 | 0.05 | |
| updateNodes | 0.02 | 0.00 | 0.01 | |
| validate | 0.32 | 0.00 | 0.33 | |
| visualize | 0.02 | 0.00 | 0.02 | |
| writeCX | 0 | 0 | 0 | |
| writeHTML | 0.20 | 0.08 | 0.40 | |