Back to Multiple platform build/check report for BioC 3.22:   simplified   long
ABCDEFGHIJKLMNOPQ[R]STUVWXYZ

This page was generated on 2025-11-04 12:04 -0500 (Tue, 04 Nov 2025).

HostnameOSArch (*)R versionInstalled pkgs
nebbiolo2Linux (Ubuntu 24.04.3 LTS)x86_644.5.1 Patched (2025-08-23 r88802) -- "Great Square Root" 4902
lconwaymacOS 12.7.6 Montereyx86_644.5.1 Patched (2025-09-10 r88807) -- "Great Square Root" 4692
kjohnson3macOS 13.7.7 Venturaarm644.5.1 Patched (2025-09-10 r88807) -- "Great Square Root" 4638
Click on any hostname to see more info about the system (e.g. compilers)      (*) as reported by 'uname -p', except on Windows and Mac OS X

Package 1726/2361HostnameOS / ArchINSTALLBUILDCHECKBUILD BIN
RCAS 1.36.0  (landing page)
Bora Uyar
Snapshot Date: 2025-11-03 13:45 -0500 (Mon, 03 Nov 2025)
git_url: https://git.bioconductor.org/packages/RCAS
git_branch: RELEASE_3_22
git_last_commit: 780ed18
git_last_commit_date: 2025-10-29 10:33:22 -0500 (Wed, 29 Oct 2025)
nebbiolo2Linux (Ubuntu 24.04.3 LTS) / x86_64  OK    OK    OK  UNNEEDED, same version is already published
lconwaymacOS 12.7.6 Monterey / x86_64  OK    OK    OK    OK  UNNEEDED, same version is already published
kjohnson3macOS 13.7.7 Ventura / arm64  OK    OK    OK    OK  UNNEEDED, same version is already published


CHECK results for RCAS on lconway

To the developers/maintainers of the RCAS package:
- Allow up to 24 hours (and sometimes 48 hours) for your latest push to git@git.bioconductor.org:packages/RCAS.git to reflect on this report. See Troubleshooting Build Report for more information.
- Use the following Renviron settings to reproduce errors and warnings.
- If 'R CMD check' started to fail recently on the Linux builder(s) over a missing dependency, add the missing dependency to 'Suggests:' in your DESCRIPTION file. See Renviron.bioc for more information.

raw results


Summary

Package: RCAS
Version: 1.36.0
Command: /Library/Frameworks/R.framework/Resources/bin/R CMD check --install=check:RCAS.install-out.txt --library=/Library/Frameworks/R.framework/Resources/library --no-vignettes --timings RCAS_1.36.0.tar.gz
StartedAt: 2025-11-03 23:38:34 -0500 (Mon, 03 Nov 2025)
EndedAt: 2025-11-03 23:50:27 -0500 (Mon, 03 Nov 2025)
EllapsedTime: 713.5 seconds
RetCode: 0
Status:   OK  
CheckDir: RCAS.Rcheck
Warnings: 0

Command output

##############################################################################
##############################################################################
###
### Running command:
###
###   /Library/Frameworks/R.framework/Resources/bin/R CMD check --install=check:RCAS.install-out.txt --library=/Library/Frameworks/R.framework/Resources/library --no-vignettes --timings RCAS_1.36.0.tar.gz
###
##############################################################################
##############################################################################


* using log directory ‘/Users/biocbuild/bbs-3.22-bioc/meat/RCAS.Rcheck’
* using R version 4.5.1 Patched (2025-09-10 r88807)
* using platform: x86_64-apple-darwin20
* R was compiled by
    Apple clang version 14.0.0 (clang-1400.0.29.202)
    GNU Fortran (GCC) 14.2.0
* running under: macOS Monterey 12.7.6
* using session charset: UTF-8
* using option ‘--no-vignettes’
* checking for file ‘RCAS/DESCRIPTION’ ... OK
* checking extension type ... Package
* this is package ‘RCAS’ version ‘1.36.0’
* checking package namespace information ... OK
* checking package dependencies ... INFO
Imports includes 24 non-default packages.
Importing from so many packages makes the package vulnerable to any of
them becoming unavailable.  Move as many as possible to Suggests and
use conditionally.
* checking if this is a source package ... OK
* checking if there is a namespace ... OK
* checking for hidden files and directories ... OK
* checking for portable file names ... OK
* checking for sufficient/correct file permissions ... OK
* checking whether package ‘RCAS’ can be installed ... OK
* checking installed package size ... OK
* checking package directory ... OK
* checking ‘build’ directory ... OK
* checking DESCRIPTION meta-information ... OK
* checking top-level files ... OK
* checking for left-over files ... OK
* checking index information ... OK
* checking package subdirectories ... OK
* checking code files for non-ASCII characters ... OK
* checking R files for syntax errors ... OK
* checking whether the package can be loaded ... OK
* checking whether the package can be loaded with stated dependencies ... OK
* checking whether the package can be unloaded cleanly ... OK
* checking whether the namespace can be loaded with stated dependencies ... OK
* checking whether the namespace can be unloaded cleanly ... OK
* checking dependencies in R code ... OK
* checking S3 generic/method consistency ... OK
* checking replacement functions ... OK
* checking foreign function calls ... OK
* checking R code for possible problems ... OK
* checking Rd files ... OK
* checking Rd metadata ... OK
* checking Rd cross-references ... OK
* checking for missing documentation entries ... OK
* checking for code/documentation mismatches ... OK
* checking Rd \usage sections ... OK
* checking Rd contents ... OK
* checking for unstated dependencies in examples ... OK
* checking contents of ‘data’ directory ... OK
* checking data for non-ASCII characters ... OK
* checking LazyData ... OK
* checking data for ASCII and uncompressed saves ... OK
* checking files in ‘vignettes’ ... OK
* checking examples ... OK
Examples with CPU (user + system) or elapsed time > 5s
                                  user system elapsed
runMotifDiscovery               55.955  0.601  48.778
getMotifSummaryTable            21.742  0.506  70.148
getFeatureBoundaryCoverageMulti 14.287  1.114  15.565
calculateCoverageProfileList    13.346  0.780  14.218
calculateCoverageProfile        10.521  0.410  10.993
findDifferentialMotifs           9.945  0.300   9.430
summarizeQueryRegionsMulti       9.017  0.359  26.153
summarizeQueryRegions            8.851  0.388   9.302
getTxdbFeaturesFromGRanges       8.477  0.326   8.869
getTargetedGenesTable            7.947  0.353   8.368
getFeatureBoundaryCoverageBin    5.178  0.276   5.502
createDB                         3.164  0.182  19.497
findEnrichedFunctions            0.547  0.027  12.534
* checking for unstated dependencies in ‘tests’ ... OK
* checking tests ...
  Running ‘testthat.R’
 OK
* checking for unstated dependencies in vignettes ... OK
* checking package vignettes ... OK
* checking running R code from vignettes ... SKIPPED
* checking re-building of vignette outputs ... SKIPPED
* checking PDF version of manual ... OK
* DONE

Status: OK


Installation output

RCAS.Rcheck/00install.out

##############################################################################
##############################################################################
###
### Running command:
###
###   /Library/Frameworks/R.framework/Resources/bin/R CMD INSTALL RCAS
###
##############################################################################
##############################################################################


* installing to library ‘/Library/Frameworks/R.framework/Versions/4.5-x86_64/Resources/library’
* installing *source* package ‘RCAS’ ...
** this is package ‘RCAS’ version ‘1.36.0’
** using staged installation
** R
** data
*** moving datasets to lazyload DB
** inst
** byte-compile and prepare package for lazy loading
Warning: replacing previous import ‘Biostrings::pattern’ by ‘grid::pattern’ when loading ‘genomation’
** help
*** installing help indices
** building package indices
** installing vignettes
** testing if installed package can be loaded from temporary location
Warning: replacing previous import ‘Biostrings::pattern’ by ‘grid::pattern’ when loading ‘genomation’
** testing if installed package can be loaded from final location
Warning: replacing previous import ‘Biostrings::pattern’ by ‘grid::pattern’ when loading ‘genomation’
** testing if installed package keeps a record of temporary installation path
* DONE (RCAS)

Tests output

RCAS.Rcheck/tests/testthat.Rout


R version 4.5.1 Patched (2025-09-10 r88807) -- "Great Square Root"
Copyright (C) 2025 The R Foundation for Statistical Computing
Platform: x86_64-apple-darwin20

R is free software and comes with ABSOLUTELY NO WARRANTY.
You are welcome to redistribute it under certain conditions.
Type 'license()' or 'licence()' for distribution details.

R is a collaborative project with many contributors.
Type 'contributors()' for more information and
'citation()' on how to cite R or R packages in publications.

Type 'demo()' for some demos, 'help()' for on-line help, or
'help.start()' for an HTML browser interface to help.
Type 'q()' to quit R.

> library(testthat)
> library(RCAS)
Loading required package: plotly
Loading required package: ggplot2

Attaching package: 'plotly'

The following object is masked from 'package:ggplot2':

    last_plot

The following object is masked from 'package:stats':

    filter

The following object is masked from 'package:graphics':

    layout

Loading required package: DT
Loading required package: data.table
Warning message:
replacing previous import 'Biostrings::pattern' by 'grid::pattern' when loading 'genomation' 
> 
> test_check("RCAS")
[ FAIL 0 | WARN 9928 | SKIP 0 | PASS 48 ]

[ FAIL 0 | WARN 9928 | SKIP 0 | PASS 48 ]
> 
> proc.time()
   user  system elapsed 
103.465   3.674 107.236 

Example timings

RCAS.Rcheck/RCAS-Ex.timings

nameusersystemelapsed
calculateCoverageProfile10.521 0.41010.993
calculateCoverageProfileList13.346 0.78014.218
checkSeqDb0.3830.0370.555
createControlRegions0.2360.0090.245
createDB 3.164 0.18219.497
discoverFeatureSpecificMotifs0.0000.0010.000
extractSequences1.6950.1751.893
findDifferentialMotifs9.9450.3009.430
findEnrichedFunctions 0.547 0.02712.534
generateKmers0.0000.0010.000
getFeatureBoundaryCoverage3.9360.1654.143
getFeatureBoundaryCoverageBin5.1780.2765.502
getFeatureBoundaryCoverageMulti14.287 1.11415.565
getIntervalOverlapMatrix0.9520.0631.419
getMotifSummaryTable21.742 0.50670.148
getPWM0.0010.0010.003
getTargetedGenesTable7.9470.3538.368
getTxdbFeaturesFromGRanges8.4770.3268.869
importBed0.2410.0290.274
importBedFiles1.0270.1131.150
importGtf000
plotFeatureBoundaryCoverage4.2310.1724.436
queryGff0.5090.0220.534
runMotifDiscovery55.955 0.60148.778
runReport0.0000.0010.001
runReportMetaAnalysis1.1260.2811.687
summarizeQueryRegions8.8510.3889.302
summarizeQueryRegionsMulti 9.017 0.35926.153