Back to Multiple platform build/check report for BioC 3.22:   simplified   long
ABCDEFGHIJKLMNOPQ[R]STUVWXYZ

This page was generated on 2025-11-11 12:02 -0500 (Tue, 11 Nov 2025).

HostnameOSArch (*)R versionInstalled pkgs
nebbiolo2Linux (Ubuntu 24.04.3 LTS)x86_644.5.1 Patched (2025-08-23 r88802) -- "Great Square Root" 4902
kjohnson3macOS 13.7.7 Venturaarm644.5.1 Patched (2025-09-10 r88807) -- "Great Square Root" 4638
Click on any hostname to see more info about the system (e.g. compilers)      (*) as reported by 'uname -p', except on Windows and Mac OS X

All results for package RBGL


To the developers/maintainers of the RBGL package:
- Allow up to 24 hours (and sometimes 48 hours) for your latest push to git@git.bioconductor.org:packages/RBGL.git to reflect on this report. See Troubleshooting Build Report for more information.
- Use the following Renviron settings to reproduce errors and warnings.
- If 'R CMD check' started to fail recently on the Linux builder(s) over a missing dependency, add the missing dependency to 'Suggests:' in your DESCRIPTION file. See Renviron.bioc for more information.

raw results

Package 1716/2361HostnameOS / ArchINSTALLBUILDCHECKBUILD BIN
RBGL 1.86.0  (landing page)
Bioconductor Package Maintainer
Snapshot Date: 2025-11-10 13:45 -0500 (Mon, 10 Nov 2025)
git_url: https://git.bioconductor.org/packages/RBGL
git_branch: RELEASE_3_22
git_last_commit: a15bdde
git_last_commit_date: 2025-10-29 09:54:01 -0500 (Wed, 29 Oct 2025)
nebbiolo2Linux (Ubuntu 24.04.3 LTS) / x86_64  OK    OK    WARNINGS  UNNEEDED, same version is already published
kjohnson3macOS 13.7.7 Ventura / arm64  OK    OK    OK    OK  UNNEEDED, same version is already published



Results for Bioconductor software packages that depend directly on package RBGL

QUICK STATSOS / ArchINSTALLBUILDCHECKBUILD BIN
nebbiolo2Linux (Ubuntu 24.04.3 LTS) / x86_64
0023
0122
00517
kjohnson3macOS 13.7.7 Ventura / arm64
0021
1119
01414
0019
Package 1/23HostnameOS / ArchINSTALLBUILDCHECKBUILD BIN
apComplex 2.76.0  (landing page)
Denise Scholtens
git_last_commit: c8b447e
git_last_commit_date: 2025-10-29 09:55:56 -0500
nebbiolo2Linux (Ubuntu 24.04.3 LTS) / x86_64  OK    OK    OK  UNNEEDED, same version is already published
kjohnson3macOS 13.7.7 Ventura / arm64  OK    OK    OK    OK  UNNEEDED, same version is already published
Package 2/23HostnameOS / ArchINSTALLBUILDCHECKBUILD BIN
BiocPkgTools 1.28.0  (landing page)
Sean Davis
git_last_commit: c37ad25
git_last_commit_date: 2025-10-29 10:47:30 -0500
nebbiolo2Linux (Ubuntu 24.04.3 LTS) / x86_64  OK    ERROR  skipped
kjohnson3macOS 13.7.7 Ventura / arm64  OK    ERROR  skippedskipped
Package 3/23HostnameOS / ArchINSTALLBUILDCHECKBUILD BIN
biocViews 1.78.0  (landing page)
Bioconductor Package Maintainer
git_last_commit: 2adaab7
git_last_commit_date: 2025-10-29 09:57:00 -0500
nebbiolo2Linux (Ubuntu 24.04.3 LTS) / x86_64  OK    OK    OK  UNNEEDED, same version is already published
kjohnson3macOS 13.7.7 Ventura / arm64  OK    OK    OK    OK  UNNEEDED, same version is already published
Package 4/23HostnameOS / ArchINSTALLBUILDCHECKBUILD BIN
BioNet 1.70.0  (landing page)
Marcus Dittrich
git_last_commit: 4ac64e0
git_last_commit_date: 2025-10-29 10:05:29 -0500
nebbiolo2Linux (Ubuntu 24.04.3 LTS) / x86_64  OK    OK    OK  UNNEEDED, same version is already published
kjohnson3macOS 13.7.7 Ventura / arm64  OK    OK    OK    OK  UNNEEDED, same version is already published
Package 5/23HostnameOS / ArchINSTALLBUILDCHECKBUILD BIN
CAMERA 1.66.0  (landing page)
Steffen Neumann
git_last_commit: fcd3b86
git_last_commit_date: 2025-10-29 10:02:23 -0500
nebbiolo2Linux (Ubuntu 24.04.3 LTS) / x86_64  OK    OK    WARNINGS  UNNEEDED, same version is already published
kjohnson3macOS 13.7.7 Ventura / arm64  OK    OK    ERROR    OK  
Package 6/23HostnameOS / ArchINSTALLBUILDCHECKBUILD BIN
Category 2.76.0  (landing page)
Bioconductor Package Maintainer
git_last_commit: df2c742
git_last_commit_date: 2025-10-29 09:56:37 -0500
nebbiolo2Linux (Ubuntu 24.04.3 LTS) / x86_64  OK    OK    OK  UNNEEDED, same version is already published
kjohnson3macOS 13.7.7 Ventura / arm64  OK    OK    OK    OK  UNNEEDED, same version is already published
Package 7/23HostnameOS / ArchINSTALLBUILDCHECKBUILD BIN
CellNOptR 1.56.0  (landing page)
Attila Gabor
git_last_commit: 2244640
git_last_commit_date: 2025-10-29 10:09:33 -0500
nebbiolo2Linux (Ubuntu 24.04.3 LTS) / x86_64  OK    OK    OK  UNNEEDED, same version is already published
kjohnson3macOS 13.7.7 Ventura / arm64  OK    OK    OK    OK  UNNEEDED, same version is already published
Package 8/23HostnameOS / ArchINSTALLBUILDCHECKBUILD BIN
ChIPpeakAnno 3.44.0  (landing page)
Jianhong Ou
git_last_commit: 2b855fa
git_last_commit_date: 2025-10-29 10:03:18 -0500
nebbiolo2Linux (Ubuntu 24.04.3 LTS) / x86_64  OK    OK    OK  UNNEEDED, same version is already published
kjohnson3macOS 13.7.7 Ventura / arm64  OK    OK    OK    OK  UNNEEDED, same version is already published
Package 9/23HostnameOS / ArchINSTALLBUILDCHECKBUILD BIN
CHRONOS 1.38.0  (landing page)
Panos Balomenos
git_last_commit: 6ae799a
git_last_commit_date: 2025-10-29 10:32:09 -0500
nebbiolo2Linux (Ubuntu 24.04.3 LTS) / x86_64  OK    OK    OK  UNNEEDED, same version is already published
kjohnson3macOS 13.7.7 Ventura / arm64  OK    TIMEOUT  skippedskipped
Package 10/23HostnameOS / ArchINSTALLBUILDCHECKBUILD BIN
CytoML 2.22.0  (landing page)
Mike Jiang
git_last_commit: 8902400
git_last_commit_date: 2025-10-29 10:33:02 -0500
nebbiolo2Linux (Ubuntu 24.04.3 LTS) / x86_64  OK    OK    WARNINGS  UNNEEDED, same version is already published
kjohnson3macOS 13.7.7 Ventura / arm64  OK    OK    WARNINGS    OK  UNNEEDED, same version is already published
Package 11/23HostnameOS / ArchINSTALLBUILDCHECKBUILD BIN
DEGraph 1.62.0  (landing page)
Laurent Jacob
git_last_commit: 1f09c9d
git_last_commit_date: 2025-10-29 10:06:12 -0500
nebbiolo2Linux (Ubuntu 24.04.3 LTS) / x86_64  OK    OK    OK  UNNEEDED, same version is already published
kjohnson3macOS 13.7.7 Ventura / arm64... NOT SUPPORTED ...
Package 12/23HostnameOS / ArchINSTALLBUILDCHECKBUILD BIN
DEsubs 1.36.0  (landing page)
Aristidis G. Vrahatis , Panos Balomenos
git_last_commit: eacc80f
git_last_commit_date: 2025-10-29 10:34:42 -0500
nebbiolo2Linux (Ubuntu 24.04.3 LTS) / x86_64  OK    OK    WARNINGS  UNNEEDED, same version is already published
kjohnson3macOS 13.7.7 Ventura / arm64  OK    OK    WARNINGS    OK  UNNEEDED, same version is already published
Package 13/23HostnameOS / ArchINSTALLBUILDCHECKBUILD BIN
EventPointer 3.18.0  (landing page)
Juan A. Ferrer-Bonsoms
git_last_commit: 816a09d
git_last_commit_date: 2025-10-29 10:37:08 -0500
nebbiolo2Linux (Ubuntu 24.04.3 LTS) / x86_64  OK    OK    OK  UNNEEDED, same version is already published
kjohnson3macOS 13.7.7 Ventura / arm64  OK    OK    OK    OK  UNNEEDED, same version is already published
Package 14/23HostnameOS / ArchINSTALLBUILDCHECKBUILD BIN
fgga 1.18.0  (landing page)
Flavio Spetale
git_last_commit: 2621333
git_last_commit_date: 2025-10-29 11:09:03 -0500
nebbiolo2Linux (Ubuntu 24.04.3 LTS) / x86_64  OK    OK    OK  UNNEEDED, same version is already published
kjohnson3macOS 13.7.7 Ventura / arm64  OK    OK    OK    OK  UNNEEDED, same version is already published
Package 15/23HostnameOS / ArchINSTALLBUILDCHECKBUILD BIN
flowWorkspace 4.22.0  (landing page)
Greg Finak , Mike Jiang
git_last_commit: e1edb9f
git_last_commit_date: 2025-10-29 10:07:43 -0500
nebbiolo2Linux (Ubuntu 24.04.3 LTS) / x86_64  OK    OK    WARNINGS  UNNEEDED, same version is already published
kjohnson3macOS 13.7.7 Ventura / arm64  OK    OK    WARNINGS    OK  UNNEEDED, same version is already published
Package 16/23HostnameOS / ArchINSTALLBUILDCHECKBUILD BIN
GenomicInteractionNodes 1.14.0  (landing page)
Jianhong Ou
git_last_commit: d3ee518
git_last_commit_date: 2025-10-29 11:16:22 -0500
nebbiolo2Linux (Ubuntu 24.04.3 LTS) / x86_64  OK    OK    OK  UNNEEDED, same version is already published
kjohnson3macOS 13.7.7 Ventura / arm64  OK    OK    OK    OK  UNNEEDED, same version is already published
Package 17/23HostnameOS / ArchINSTALLBUILDCHECKBUILD BIN
GOstats 2.76.0  (landing page)
Bioconductor Package Maintainer
git_last_commit: 7c7bec8
git_last_commit_date: 2025-10-29 09:55:01 -0500
nebbiolo2Linux (Ubuntu 24.04.3 LTS) / x86_64  OK    OK    OK  UNNEEDED, same version is already published
kjohnson3macOS 13.7.7 Ventura / arm64  OK    OK    OK    OK  UNNEEDED, same version is already published
Package 18/23HostnameOS / ArchINSTALLBUILDCHECKBUILD BIN
NCIgraph 1.58.0  (landing page)
Laurent Jacob
git_last_commit: eb4dd86
git_last_commit_date: 2025-10-29 10:07:17 -0500
nebbiolo2Linux (Ubuntu 24.04.3 LTS) / x86_64  OK    OK    OK  UNNEEDED, same version is already published
kjohnson3macOS 13.7.7 Ventura / arm64... NOT SUPPORTED ...
Package 19/23HostnameOS / ArchINSTALLBUILDCHECKBUILD BIN
ontoProc 2.4.0  (landing page)
Vincent Carey
git_last_commit: f2c1b3f
git_last_commit_date: 2025-10-29 19:20:08 -0500
nebbiolo2Linux (Ubuntu 24.04.3 LTS) / x86_64  OK    OK    OK  UNNEEDED, same version is already published
kjohnson3macOS 13.7.7 Ventura / arm64  OK    OK    OK    OK  UNNEEDED, same version is already published
Package 20/23HostnameOS / ArchINSTALLBUILDCHECKBUILD BIN
openCyto 2.22.0  (landing page)
Mike Jiang
git_last_commit: bbeacaf
git_last_commit_date: 2025-10-29 10:16:53 -0500
nebbiolo2Linux (Ubuntu 24.04.3 LTS) / x86_64  OK    OK    WARNINGS  UNNEEDED, same version is already published
kjohnson3macOS 13.7.7 Ventura / arm64  OK    OK    WARNINGS    OK  UNNEEDED, same version is already published
Package 21/23HostnameOS / ArchINSTALLBUILDCHECKBUILD BIN
OrganismDbi 1.52.0  (landing page)
Bioconductor Package Maintainer
git_last_commit: bd13a8e
git_last_commit_date: 2025-10-29 10:12:00 -0500
nebbiolo2Linux (Ubuntu 24.04.3 LTS) / x86_64  OK    OK    OK  UNNEEDED, same version is already published
kjohnson3macOS 13.7.7 Ventura / arm64  OK    OK    OK    OK  UNNEEDED, same version is already published
Package 22/23HostnameOS / ArchINSTALLBUILDCHECKBUILD BIN
Streamer 1.56.0  (landing page)
Martin Morgan
git_last_commit: d98ca40
git_last_commit_date: 2025-10-29 10:08:21 -0500
nebbiolo2Linux (Ubuntu 24.04.3 LTS) / x86_64  OK    OK    OK  UNNEEDED, same version is already published
kjohnson3macOS 13.7.7 Ventura / arm64  OK    OK    OK    OK  UNNEEDED, same version is already published
Package 23/23HostnameOS / ArchINSTALLBUILDCHECKBUILD BIN
VariantFiltering 1.46.0  (landing page)
Robert Castelo
git_last_commit: 958023b
git_last_commit_date: 2025-10-29 10:19:08 -0500
nebbiolo2Linux (Ubuntu 24.04.3 LTS) / x86_64  OK    OK    OK  UNNEEDED, same version is already published
kjohnson3macOS 13.7.7 Ventura / arm64  OK    OK    OK    OK  UNNEEDED, same version is already published