| Back to Multiple platform build/check report for BioC 3.21: simplified long |
|
This page was generated on 2025-04-22 13:18 -0400 (Tue, 22 Apr 2025).
| Hostname | OS | Arch (*) | R version | Installed pkgs |
|---|---|---|---|---|
| nebbiolo1 | Linux (Ubuntu 24.04.1 LTS) | x86_64 | 4.5.0 RC (2025-04-04 r88126) -- "How About a Twenty-Six" | 4831 |
| palomino7 | Windows Server 2022 Datacenter | x64 | 4.5.0 RC (2025-04-04 r88126 ucrt) -- "How About a Twenty-Six" | 4573 |
| lconway | macOS 12.7.1 Monterey | x86_64 | 4.5.0 RC (2025-04-04 r88126) -- "How About a Twenty-Six" | 4599 |
| kjohnson3 | macOS 13.7.1 Ventura | arm64 | 4.5.0 RC (2025-04-04 r88126) -- "How About a Twenty-Six" | 4553 |
| kunpeng2 | Linux (openEuler 24.03 LTS) | aarch64 | R Under development (unstable) (2025-02-19 r87757) -- "Unsuffered Consequences" | 4570 |
| Click on any hostname to see more info about the system (e.g. compilers) (*) as reported by 'uname -p', except on Windows and Mac OS X | ||||
| Package 1648/2341 | Hostname | OS / Arch | INSTALL | BUILD | CHECK | BUILD BIN | ||||||||
| PureCN 2.14.0 (landing page) Markus Riester
| nebbiolo1 | Linux (Ubuntu 24.04.1 LTS) / x86_64 | OK | OK | OK | |||||||||
| palomino7 | Windows Server 2022 Datacenter / x64 | OK | OK | OK | OK | |||||||||
| lconway | macOS 12.7.1 Monterey / x86_64 | OK | OK | OK | OK | |||||||||
| kjohnson3 | macOS 13.7.1 Ventura / arm64 | OK | OK | OK | OK | |||||||||
| kunpeng2 | Linux (openEuler 24.03 LTS) / aarch64 | OK | OK | ERROR | ||||||||||
|
To the developers/maintainers of the PureCN package: - Allow up to 24 hours (and sometimes 48 hours) for your latest push to git@git.bioconductor.org:packages/PureCN.git to reflect on this report. See Troubleshooting Build Report for more information. - Use the following Renviron settings to reproduce errors and warnings. - If 'R CMD check' started to fail recently on the Linux builder(s) over a missing dependency, add the missing dependency to 'Suggests:' in your DESCRIPTION file. See Renviron.bioc for more information. |
| Package: PureCN |
| Version: 2.14.0 |
| Command: /Library/Frameworks/R.framework/Resources/bin/R CMD check --install=check:PureCN.install-out.txt --library=/Library/Frameworks/R.framework/Resources/library --no-vignettes --timings PureCN_2.14.0.tar.gz |
| StartedAt: 2025-04-21 21:02:56 -0400 (Mon, 21 Apr 2025) |
| EndedAt: 2025-04-21 21:08:17 -0400 (Mon, 21 Apr 2025) |
| EllapsedTime: 320.0 seconds |
| RetCode: 0 |
| Status: OK |
| CheckDir: PureCN.Rcheck |
| Warnings: 0 |
##############################################################################
##############################################################################
###
### Running command:
###
### /Library/Frameworks/R.framework/Resources/bin/R CMD check --install=check:PureCN.install-out.txt --library=/Library/Frameworks/R.framework/Resources/library --no-vignettes --timings PureCN_2.14.0.tar.gz
###
##############################################################################
##############################################################################
* using log directory ‘/Users/biocbuild/bbs-3.21-bioc/meat/PureCN.Rcheck’
* using R version 4.5.0 RC (2025-04-04 r88126)
* using platform: aarch64-apple-darwin20
* R was compiled by
Apple clang version 14.0.0 (clang-1400.0.29.202)
GNU Fortran (GCC) 14.2.0
* running under: macOS Ventura 13.7.1
* using session charset: UTF-8
* using option ‘--no-vignettes’
* checking for file ‘PureCN/DESCRIPTION’ ... OK
* checking extension type ... Package
* this is package ‘PureCN’ version ‘2.14.0’
* checking package namespace information ... OK
* checking package dependencies ... INFO
Package which this enhances but not available for checking: ‘genomicsdb’
* checking if this is a source package ... OK
* checking if there is a namespace ... OK
* checking for hidden files and directories ... OK
* checking for portable file names ... OK
* checking for sufficient/correct file permissions ... OK
* checking whether package ‘PureCN’ can be installed ... OK
* checking installed package size ... OK
* checking package directory ... OK
* checking ‘build’ directory ... OK
* checking DESCRIPTION meta-information ... OK
* checking top-level files ... OK
* checking for left-over files ... OK
* checking index information ... OK
* checking package subdirectories ... OK
* checking code files for non-ASCII characters ... OK
* checking R files for syntax errors ... OK
* checking whether the package can be loaded ... OK
* checking whether the package can be loaded with stated dependencies ... OK
* checking whether the package can be unloaded cleanly ... OK
* checking whether the namespace can be loaded with stated dependencies ... OK
* checking whether the namespace can be unloaded cleanly ... OK
* checking dependencies in R code ... OK
* checking S3 generic/method consistency ... OK
* checking replacement functions ... OK
* checking foreign function calls ... OK
* checking R code for possible problems ... OK
* checking Rd files ... OK
* checking Rd metadata ... OK
* checking Rd cross-references ... OK
* checking for missing documentation entries ... OK
* checking for code/documentation mismatches ... OK
* checking Rd \usage sections ... OK
* checking Rd contents ... OK
* checking for unstated dependencies in examples ... OK
* checking contents of ‘data’ directory ... OK
* checking data for non-ASCII characters ... OK
* checking data for ASCII and uncompressed saves ... OK
* checking sizes of PDF files under ‘inst/doc’ ... OK
* checking files in ‘vignettes’ ... OK
* checking examples ... OK
Examples with CPU (user + system) or elapsed time > 5s
user system elapsed
callAmplificationsInLowPurity 13.257 0.178 13.283
segmentationPSCBS 8.998 0.151 9.174
filterIntervals 7.669 0.211 7.550
runAbsoluteCN 6.333 0.154 6.512
segmentationHclust 5.135 0.103 5.240
* checking for unstated dependencies in ‘tests’ ... OK
* checking tests ...
Running ‘testthat.R’
OK
* checking for unstated dependencies in vignettes ... OK
* checking package vignettes ... OK
* checking running R code from vignettes ... SKIPPED
* checking re-building of vignette outputs ... SKIPPED
* checking PDF version of manual ... OK
* DONE
Status: OK
PureCN.Rcheck/00install.out
############################################################################## ############################################################################## ### ### Running command: ### ### /Library/Frameworks/R.framework/Resources/bin/R CMD INSTALL PureCN ### ############################################################################## ############################################################################## * installing to library ‘/Library/Frameworks/R.framework/Versions/4.5-arm64/Resources/library’ * installing *source* package ‘PureCN’ ... ** this is package ‘PureCN’ version ‘2.14.0’ ** using staged installation ** R ** data ** inst ** byte-compile and prepare package for lazy loading ** help *** installing help indices ** building package indices ** installing vignettes ** testing if installed package can be loaded from temporary location ** testing if installed package can be loaded from final location ** testing if installed package keeps a record of temporary installation path * DONE (PureCN)
PureCN.Rcheck/tests/testthat.Rout
R version 4.5.0 RC (2025-04-04 r88126) -- "How About a Twenty-Six"
Copyright (C) 2025 The R Foundation for Statistical Computing
Platform: aarch64-apple-darwin20
R is free software and comes with ABSOLUTELY NO WARRANTY.
You are welcome to redistribute it under certain conditions.
Type 'license()' or 'licence()' for distribution details.
R is a collaborative project with many contributors.
Type 'contributors()' for more information and
'citation()' on how to cite R or R packages in publications.
Type 'demo()' for some demos, 'help()' for on-line help, or
'help.start()' for an HTML browser interface to help.
Type 'q()' to quit R.
> library(testthat)
> library(PureCN)
Loading required package: DNAcopy
Loading required package: VariantAnnotation
Loading required package: BiocGenerics
Loading required package: generics
Attaching package: 'generics'
The following objects are masked from 'package:base':
as.difftime, as.factor, as.ordered, intersect, is.element, setdiff,
setequal, union
Attaching package: 'BiocGenerics'
The following objects are masked from 'package:stats':
IQR, mad, sd, var, xtabs
The following objects are masked from 'package:base':
Filter, Find, Map, Position, Reduce, anyDuplicated, aperm, append,
as.data.frame, basename, cbind, colnames, dirname, do.call,
duplicated, eval, evalq, get, grep, grepl, is.unsorted, lapply,
mapply, match, mget, order, paste, pmax, pmax.int, pmin, pmin.int,
rank, rbind, rownames, sapply, saveRDS, table, tapply, unique,
unsplit, which.max, which.min
Loading required package: MatrixGenerics
Loading required package: matrixStats
Attaching package: 'MatrixGenerics'
The following objects are masked from 'package:matrixStats':
colAlls, colAnyNAs, colAnys, colAvgsPerRowSet, colCollapse,
colCounts, colCummaxs, colCummins, colCumprods, colCumsums,
colDiffs, colIQRDiffs, colIQRs, colLogSumExps, colMadDiffs,
colMads, colMaxs, colMeans2, colMedians, colMins, colOrderStats,
colProds, colQuantiles, colRanges, colRanks, colSdDiffs, colSds,
colSums2, colTabulates, colVarDiffs, colVars, colWeightedMads,
colWeightedMeans, colWeightedMedians, colWeightedSds,
colWeightedVars, rowAlls, rowAnyNAs, rowAnys, rowAvgsPerColSet,
rowCollapse, rowCounts, rowCummaxs, rowCummins, rowCumprods,
rowCumsums, rowDiffs, rowIQRDiffs, rowIQRs, rowLogSumExps,
rowMadDiffs, rowMads, rowMaxs, rowMeans2, rowMedians, rowMins,
rowOrderStats, rowProds, rowQuantiles, rowRanges, rowRanks,
rowSdDiffs, rowSds, rowSums2, rowTabulates, rowVarDiffs, rowVars,
rowWeightedMads, rowWeightedMeans, rowWeightedMedians,
rowWeightedSds, rowWeightedVars
Loading required package: GenomeInfoDb
Loading required package: S4Vectors
Loading required package: stats4
Attaching package: 'S4Vectors'
The following object is masked from 'package:utils':
findMatches
The following objects are masked from 'package:base':
I, expand.grid, unname
Loading required package: IRanges
Loading required package: GenomicRanges
Loading required package: SummarizedExperiment
Loading required package: Biobase
Welcome to Bioconductor
Vignettes contain introductory material; view with
'browseVignettes()'. To cite Bioconductor, see
'citation("Biobase")', and for packages 'citation("pkgname")'.
Attaching package: 'Biobase'
The following object is masked from 'package:MatrixGenerics':
rowMedians
The following objects are masked from 'package:matrixStats':
anyMissing, rowMedians
Loading required package: Rsamtools
Loading required package: Biostrings
Loading required package: XVector
Attaching package: 'Biostrings'
The following object is masked from 'package:base':
strsplit
Attaching package: 'VariantAnnotation'
The following object is masked from 'package:base':
tabulate
>
> test_check("PureCN")
WARN [2025-04-21 21:06:08] Attempted adding gene symbols to intervals. Heuristics have been used to pick symbols for overlapping genes.
WARN [2025-04-21 21:06:08] Chromosome naming style of txdb file (UCSC) was different from interval file (Ensembl).
WARN [2025-04-21 21:06:10] Attempted adding gene symbols to intervals. Heuristics have been used to pick symbols for overlapping genes.
FATAL [2025-04-21 21:06:11] tumor.coverage.file and interval.file do not align.
FATAL [2025-04-21 21:06:11]
FATAL [2025-04-21 21:06:11] This is most likely a user error due to invalid input data or
FATAL [2025-04-21 21:06:11] parameters (PureCN 2.14.0).
WARN [2025-04-21 21:06:11] Cannot find all contig lengths while exporting interval file.
INFO [2025-04-21 21:06:11] Processing seq1:1-21 (1/3)...
INFO [2025-04-21 21:06:11] Processing seq1:1227-1247 (2/3)...
INFO [2025-04-21 21:06:11] Processing seq2:594-614 (3/3)...
WARN [2025-04-21 21:06:12] Large potential mis-calibration of on- and off-target log2 ratios: 0.26
FATAL [2025-04-21 21:06:12] Need either f or purity and ploidy.
FATAL [2025-04-21 21:06:12]
FATAL [2025-04-21 21:06:12] This is most likely a user error due to invalid input data or
FATAL [2025-04-21 21:06:12] parameters (PureCN 2.14.0).
FATAL [2025-04-21 21:06:12] f not in expected range.
FATAL [2025-04-21 21:06:12]
FATAL [2025-04-21 21:06:12] This is most likely a user error due to invalid input data or
FATAL [2025-04-21 21:06:12] parameters (PureCN 2.14.0).
FATAL [2025-04-21 21:06:12] coverage not in expected range (>=2)
FATAL [2025-04-21 21:06:12]
FATAL [2025-04-21 21:06:12] This is most likely a user error due to invalid input data or
FATAL [2025-04-21 21:06:12] parameters (PureCN 2.14.0).
FATAL [2025-04-21 21:06:12] purity not in expected range.
FATAL [2025-04-21 21:06:12]
FATAL [2025-04-21 21:06:12] This is most likely a user error due to invalid input data or
FATAL [2025-04-21 21:06:12] parameters (PureCN 2.14.0).
FATAL [2025-04-21 21:06:12] ploidy not in expected range.
FATAL [2025-04-21 21:06:12]
FATAL [2025-04-21 21:06:12] This is most likely a user error due to invalid input data or
FATAL [2025-04-21 21:06:12] parameters (PureCN 2.14.0).
FATAL [2025-04-21 21:06:12] cell.fraction not in expected range.
FATAL [2025-04-21 21:06:12]
FATAL [2025-04-21 21:06:12] This is most likely a user error due to invalid input data or
FATAL [2025-04-21 21:06:12] parameters (PureCN 2.14.0).
INFO [2025-04-21 21:06:13] 576 on-target bins with low coverage in all samples.
WARN [2025-04-21 21:06:13] You are likely not using the correct baits file!
WARN [2025-04-21 21:06:13] Allosome coverage missing, cannot determine sex.
WARN [2025-04-21 21:06:13] Allosome coverage missing, cannot determine sex.
INFO [2025-04-21 21:06:13] Processing on-target regions...
INFO [2025-04-21 21:06:13] Removing 930 intervals with low coverage in normalDB.
INFO [2025-04-21 21:06:13] Removing 1 intervals with zero coverage in more than 3% of normalDB.
INFO [2025-04-21 21:06:13] Tumor/normal noise ratio: 19.041
WARN [2025-04-21 21:06:13] Extensive noise in tumor compared to normals.
INFO [2025-04-21 21:06:28] Tumor/normal noise ratio: 19.041
WARN [2025-04-21 21:06:28] Extensive noise in tumor compared to normals.
INFO [2025-04-21 21:06:30] Using BiocParallel for parallel optimization.
FATAL [2025-04-21 21:06:35] pvalue.cutoff not within expected range or format.
FATAL [2025-04-21 21:06:35]
FATAL [2025-04-21 21:06:35] This is most likely a user error due to invalid input data or
FATAL [2025-04-21 21:06:35] parameters (PureCN 2.14.0).
FATAL [2025-04-21 21:06:35] pvalue.cutoff not within expected range or format.
FATAL [2025-04-21 21:06:35]
FATAL [2025-04-21 21:06:35] This is most likely a user error due to invalid input data or
FATAL [2025-04-21 21:06:35] parameters (PureCN 2.14.0).
FATAL [2025-04-21 21:06:35] percentile.cutoff not in expected range (0 to 100).
FATAL [2025-04-21 21:06:35]
FATAL [2025-04-21 21:06:35] This is most likely a user error due to invalid input data or
FATAL [2025-04-21 21:06:35] parameters (PureCN 2.14.0).
FATAL [2025-04-21 21:06:35] percentile.cutoff not in expected range (0 to 100).
FATAL [2025-04-21 21:06:35]
FATAL [2025-04-21 21:06:35] This is most likely a user error due to invalid input data or
FATAL [2025-04-21 21:06:35] parameters (PureCN 2.14.0).
FATAL [2025-04-21 21:06:35] purity not within expected range or format.
FATAL [2025-04-21 21:06:35]
FATAL [2025-04-21 21:06:35] This is most likely a user error due to invalid input data or
FATAL [2025-04-21 21:06:35] parameters (PureCN 2.14.0).
FATAL [2025-04-21 21:06:35] purity not within expected range or format.
FATAL [2025-04-21 21:06:35]
FATAL [2025-04-21 21:06:35] This is most likely a user error due to invalid input data or
FATAL [2025-04-21 21:06:35] parameters (PureCN 2.14.0).
INFO [2025-04-21 21:06:35] ------------------------------------------------------------
INFO [2025-04-21 21:06:35] PureCN 2.14.0
INFO [2025-04-21 21:06:35] ------------------------------------------------------------
INFO [2025-04-21 21:06:35] Loading coverage files...
INFO [2025-04-21 21:06:35] Mean target coverages: 112X (tumor) 99X (normal).
WARN [2025-04-21 21:06:35] Allosome coverage missing, cannot determine sex.
WARN [2025-04-21 21:06:35] Allosome coverage missing, cannot determine sex.
INFO [2025-04-21 21:06:35] Removing 228 intervals with missing log.ratio.
INFO [2025-04-21 21:06:35] Removing 22 small (< 5bp) intervals.
INFO [2025-04-21 21:06:35] Removing 19 intervals with low total coverage in normal (< 150.00 reads).
WARN [2025-04-21 21:06:35] No normalDB provided. Provide one for better results.
INFO [2025-04-21 21:06:35] Removing 1724 low count (< 100 total reads) intervals.
INFO [2025-04-21 21:06:35] Removing 6 low coverage (< 15.0000X) intervals.
INFO [2025-04-21 21:06:35] Using 8050 intervals (8050 on-target, 0 off-target).
INFO [2025-04-21 21:06:35] No off-target intervals. If this is hybrid-capture data, consider adding them.
INFO [2025-04-21 21:06:35] No interval.file provided. Cannot check for any GC-biases.
INFO [2025-04-21 21:06:35] Loading VCF...
INFO [2025-04-21 21:06:35] Found 127 variants in VCF file.
INFO [2025-04-21 21:06:36] 127 (100.0%) variants annotated as likely germline (DB INFO flag).
INFO [2025-04-21 21:06:36] LIB-02240e4 is tumor in VCF file.
INFO [2025-04-21 21:06:36] No homozygous variants in VCF, provide unfiltered VCF.
INFO [2025-04-21 21:06:36] Removing 1 non heterozygous (in matched normal) germline SNPs.
INFO [2025-04-21 21:06:36] Removing 0 low quality variants with non-offset BQ < 25.
INFO [2025-04-21 21:06:36] Base quality scores range from 29 to 35 (offset by 1)
INFO [2025-04-21 21:06:36] Minimum number of supporting reads ranges from 2 to 5, depending on coverage and BQS.
INFO [2025-04-21 21:06:36] Removing 1 variants with AF < 0.030 or AF >= 1.000 or insufficient supporting reads or depth < 15.
INFO [2025-04-21 21:06:36] Total size of targeted genomic region: 1.53Mb (2.33Mb with 50bp padding).
INFO [2025-04-21 21:06:36] 1.2% of targets contain variants.
INFO [2025-04-21 21:06:36] Removing 4 variants outside intervals.
INFO [2025-04-21 21:06:36] Found SOMATIC annotation in VCF.
INFO [2025-04-21 21:06:36] Setting somatic prior probabilities for somatic variants to 0.999000 or to 0.000100 otherwise.
INFO [2025-04-21 21:06:36] Found SOMATIC annotation in VCF. Setting mapping bias to 0.972.
INFO [2025-04-21 21:06:36] Excluding 0 novel or poor quality variants from segmentation.
INFO [2025-04-21 21:06:36] Sample sex: ?
INFO [2025-04-21 21:06:36] Segmenting data...
INFO [2025-04-21 21:06:36] Loading pre-computed boundaries for DNAcopy...
INFO [2025-04-21 21:06:36] Setting undo.SD parameter to 1.000000.
INFO [2025-04-21 21:06:36] Setting prune.hclust.h parameter to 0.200000.
INFO [2025-04-21 21:06:36] Found 59 segments with median size of 17.67Mb.
INFO [2025-04-21 21:06:36] Using 121 variants.
INFO [2025-04-21 21:06:36] Mean standard deviation of log-ratios: 0.34 (MAPD: 0.30)
INFO [2025-04-21 21:06:36] 2D-grid search of purity and ploidy...
INFO [2025-04-21 21:06:37] Local optima: 0.63/1.9, 0.5/2
INFO [2025-04-21 21:06:37] Testing local optimum 1/2 at purity 0.63 and total ploidy 1.90...
INFO [2025-04-21 21:06:37] Testing local optimum 2/2 at purity 0.50 and total ploidy 2.00...
INFO [2025-04-21 21:06:38] Skipping 1 solutions that converged to the same optima.
INFO [2025-04-21 21:06:38] Fitting variants with beta model for local optimum 1/2...
INFO [2025-04-21 21:06:38] Fitting variants for purity 0.65, tumor ploidy 1.75 and contamination 0.01.
INFO [2025-04-21 21:06:39] Optimized purity: 0.65
INFO [2025-04-21 21:06:39] Done.
INFO [2025-04-21 21:06:39] ------------------------------------------------------------
INFO [2025-04-21 21:06:39] Estimating callable regions.
FATAL [2025-04-21 21:06:39] exclude not a GRanges object.
FATAL [2025-04-21 21:06:39]
FATAL [2025-04-21 21:06:39] This is most likely a user error due to invalid input data or
FATAL [2025-04-21 21:06:39] parameters (PureCN 2.14.0).
FATAL [2025-04-21 21:06:39] callable not a GRanges object.
FATAL [2025-04-21 21:06:39]
FATAL [2025-04-21 21:06:39] This is most likely a user error due to invalid input data or
FATAL [2025-04-21 21:06:39] parameters (PureCN 2.14.0).
WARN [2025-04-21 21:06:42] tumor.coverage.file and interval.file do not align.
INFO [2025-04-21 21:06:42] No Gene column in interval.file. You won't get gene-level calls.
FATAL [2025-04-21 21:06:43] No gc_bias column in interval.file.
FATAL [2025-04-21 21:06:43]
FATAL [2025-04-21 21:06:43] This is most likely a user error due to invalid input data or
FATAL [2025-04-21 21:06:43] parameters (PureCN 2.14.0).
FATAL [2025-04-21 21:06:43] Provided coverage is zero, most likely due to a corrupt BAM file.
FATAL [2025-04-21 21:06:43]
FATAL [2025-04-21 21:06:43] This is most likely a user error due to invalid input data or
FATAL [2025-04-21 21:06:43] parameters (PureCN 2.14.0).
INFO [2025-04-21 21:06:44] No reptiming column in interval.file.
INFO [2025-04-21 21:06:45] Reading /var/folders/r0/l4fjk6cj5xj0j3brt4bplpl40000gt/T//RtmpXjputO/file164e2b55a80a.rds...
INFO [2025-04-21 21:06:45] Reading /var/folders/r0/l4fjk6cj5xj0j3brt4bplpl40000gt/T//RtmpXjputO/file164e2b55a80a.rds...
INFO [2025-04-21 21:06:45] Reading /var/folders/r0/l4fjk6cj5xj0j3brt4bplpl40000gt/T//RtmpXjputO/file164e2b55a80a.rds...
INFO [2025-04-21 21:06:45] Reading /var/folders/r0/l4fjk6cj5xj0j3brt4bplpl40000gt/T//RtmpXjputO/file164e2b55a80a.rds...
INFO [2025-04-21 21:06:45] Reading /var/folders/r0/l4fjk6cj5xj0j3brt4bplpl40000gt/T//RtmpXjputO/file164e2b55a80a.rds...
INFO [2025-04-21 21:06:45] Reading /var/folders/r0/l4fjk6cj5xj0j3brt4bplpl40000gt/T//RtmpXjputO/file164e2b55a80a.rds...
FATAL [2025-04-21 21:06:45] Purity or Ploidy not numeric or in expected range.
FATAL [2025-04-21 21:06:45]
FATAL [2025-04-21 21:06:45] This is most likely a user error due to invalid input data or
FATAL [2025-04-21 21:06:45] parameters (PureCN 2.14.0).
INFO [2025-04-21 21:06:45] Reading /var/folders/r0/l4fjk6cj5xj0j3brt4bplpl40000gt/T//RtmpXjputO/file164e2b55a80a.rds...
INFO [2025-04-21 21:06:45] Reading /var/folders/r0/l4fjk6cj5xj0j3brt4bplpl40000gt/T//RtmpXjputO/file164e2b55a80a.rds...
FATAL [2025-04-21 21:06:45] 'Failed' column in
FATAL [2025-04-21 21:06:45] /var/folders/r0/l4fjk6cj5xj0j3brt4bplpl40000gt/T//RtmpXjputO/file164e2b55a80a.csv
FATAL [2025-04-21 21:06:45] not logical(1).
FATAL [2025-04-21 21:06:45]
FATAL [2025-04-21 21:06:45] This is most likely a user error due to invalid input data or
FATAL [2025-04-21 21:06:45] parameters (PureCN 2.14.0).
INFO [2025-04-21 21:06:46] 576 on-target bins with low coverage in all samples.
WARN [2025-04-21 21:06:46] You are likely not using the correct baits file!
WARN [2025-04-21 21:06:46] Allosome coverage missing, cannot determine sex.
WARN [2025-04-21 21:06:46] Allosome coverage missing, cannot determine sex.
INFO [2025-04-21 21:06:46] Processing on-target regions...
INFO [2025-04-21 21:06:46] Removing 930 intervals with low coverage in normalDB.
INFO [2025-04-21 21:06:46] Removing 1 intervals with zero coverage in more than 3% of normalDB.
INFO [2025-04-21 21:06:47] 576 on-target bins with low coverage in all samples.
WARN [2025-04-21 21:06:47] You are likely not using the correct baits file!
WARN [2025-04-21 21:06:47] Allosome coverage missing, cannot determine sex.
WARN [2025-04-21 21:06:47] Allosome coverage missing, cannot determine sex.
INFO [2025-04-21 21:06:47] Processing on-target regions...
INFO [2025-04-21 21:06:48] Removing 930 intervals with low coverage in normalDB.
INFO [2025-04-21 21:06:48] Removing 1 intervals with zero coverage in more than 3% of normalDB.
INFO [2025-04-21 21:06:48] 576 on-target bins with low coverage in all samples.
WARN [2025-04-21 21:06:48] You are likely not using the correct baits file!
WARN [2025-04-21 21:06:48] Allosome coverage missing, cannot determine sex.
WARN [2025-04-21 21:06:48] Allosome coverage missing, cannot determine sex.
INFO [2025-04-21 21:06:48] Processing on-target regions...
INFO [2025-04-21 21:06:48] Removing 930 intervals with low coverage in normalDB.
INFO [2025-04-21 21:06:48] Removing 1 intervals with zero coverage in more than 3% of normalDB.
WARN [2025-04-21 21:06:49] Allosome coverage missing, cannot determine sex.
INFO [2025-04-21 21:06:49] Sample sex: NA
WARN [2025-04-21 21:06:49] Allosome coverage missing, cannot determine sex.
INFO [2025-04-21 21:06:49] Sample sex: NA
INFO [2025-04-21 21:06:49] 576 on-target bins with low coverage in all samples.
WARN [2025-04-21 21:06:49] You are likely not using the correct baits file!
WARN [2025-04-21 21:06:49] Allosome coverage missing, cannot determine sex.
WARN [2025-04-21 21:06:49] Allosome coverage missing, cannot determine sex.
FATAL [2025-04-21 21:06:49] Length of normal.coverage.files and sex different
FATAL [2025-04-21 21:06:49]
FATAL [2025-04-21 21:06:49] This is most likely a user error due to invalid input data or
FATAL [2025-04-21 21:06:49] parameters (PureCN 2.14.0).
WARN [2025-04-21 21:06:51] Target intervals were not sorted.
INFO [2025-04-21 21:06:51] 560 on-target bins with low coverage in all samples.
WARN [2025-04-21 21:06:51] You are likely not using the correct baits file!
WARN [2025-04-21 21:06:51] Allosome coverage missing, cannot determine sex.
WARN [2025-04-21 21:06:51] Allosome coverage missing, cannot determine sex.
WARN [2025-04-21 21:06:51] Allosome coverage missing, cannot determine sex.
INFO [2025-04-21 21:06:51] Processing on-target regions...
INFO [2025-04-21 21:06:51] Removing 978 intervals with low coverage in normalDB.
INFO [2025-04-21 21:06:51] Removing 11 intervals with zero coverage in more than 3% of normalDB.
FATAL [2025-04-21 21:06:52] tumor.coverage.file and normalDB do not align.
FATAL [2025-04-21 21:06:52]
FATAL [2025-04-21 21:06:52] This is most likely a user error due to invalid input data or
FATAL [2025-04-21 21:06:52] parameters (PureCN 2.14.0).
FATAL [2025-04-21 21:06:52] At least 2 normal.coverage.files required.
FATAL [2025-04-21 21:06:52]
FATAL [2025-04-21 21:06:52] This is most likely a user error due to invalid input data or
FATAL [2025-04-21 21:06:52] parameters (PureCN 2.14.0).
INFO [2025-04-21 21:06:52] ------------------------------------------------------------
INFO [2025-04-21 21:06:52] PureCN 2.14.0
INFO [2025-04-21 21:06:52] ------------------------------------------------------------
INFO [2025-04-21 21:06:52] Loading coverage files...
INFO [2025-04-21 21:06:53] Mean target coverages: 112X (tumor) 99X (normal).
WARN [2025-04-21 21:06:53] Allosome coverage missing, cannot determine sex.
WARN [2025-04-21 21:06:53] Allosome coverage missing, cannot determine sex.
INFO [2025-04-21 21:06:53] Removing 228 intervals with missing log.ratio.
FATAL [2025-04-21 21:06:53] normalDB incompatible with this PureCN version. Please re-run
FATAL [2025-04-21 21:06:53] NormalDB.R.
FATAL [2025-04-21 21:06:53]
FATAL [2025-04-21 21:06:53] This is most likely a user error due to invalid input data or
FATAL [2025-04-21 21:06:53] parameters (PureCN 2.14.0).
FATAL [2025-04-21 21:06:53] normalDB incompatible with this PureCN version. Please re-run
FATAL [2025-04-21 21:06:53] NormalDB.R.
FATAL [2025-04-21 21:06:53]
FATAL [2025-04-21 21:06:53] This is most likely a user error due to invalid input data or
FATAL [2025-04-21 21:06:53] parameters (PureCN 2.14.0).
FATAL [2025-04-21 21:06:53] normal.coverage.files with _coverage.txt and _loess.txt suffix
FATAL [2025-04-21 21:06:53] provided. Provide either only GC-normalized or raw coverage files!
FATAL [2025-04-21 21:06:53]
FATAL [2025-04-21 21:06:53] This is most likely a user error due to invalid input data or
FATAL [2025-04-21 21:06:53] parameters (PureCN 2.14.0).
INFO [2025-04-21 21:06:53] Removing 22 non heterozygous (in matched normal) germline SNPs.
INFO [2025-04-21 21:06:53] Removing 19 low quality variants with non-offset BQ < 25.
INFO [2025-04-21 21:06:53] Base quality scores range from 24 to 35 (offset by 1)
INFO [2025-04-21 21:06:53] Minimum number of supporting reads ranges from 2 to 9, depending on coverage and BQS.
INFO [2025-04-21 21:06:53] Initial testing for significant sample cross-contamination: unlikely
INFO [2025-04-21 21:06:53] Removing 45 variants with AF < 0.030 or AF >= 1.000 or insufficient supporting reads or depth < 15.
INFO [2025-04-21 21:06:53] Removing 22 non heterozygous (in matched normal) germline SNPs.
INFO [2025-04-21 21:06:53] Removing 19 low quality variants with non-offset BQ < 25.
INFO [2025-04-21 21:06:53] Base quality scores range from 24 to 35 (offset by 1)
INFO [2025-04-21 21:06:53] Minimum number of supporting reads ranges from 2 to 9, depending on coverage and BQS.
INFO [2025-04-21 21:06:53] Initial testing for significant sample cross-contamination: unlikely
INFO [2025-04-21 21:06:53] Removing 45 variants with AF < 0.030 or AF >= 1.000 or insufficient supporting reads or depth < 15.
INFO [2025-04-21 21:06:53] Removing 6 blacklisted variants.
INFO [2025-04-21 21:06:53] Removing 22 non heterozygous (in matched normal) germline SNPs.
INFO [2025-04-21 21:06:53] Removing 19 low quality variants with non-offset BQ < 25.
INFO [2025-04-21 21:06:54] Base quality scores range from 24 to 35 (offset by 1)
INFO [2025-04-21 21:06:54] Minimum number of supporting reads ranges from 2 to 9, depending on coverage and BQS.
INFO [2025-04-21 21:06:54] Initial testing for significant sample cross-contamination: unlikely
INFO [2025-04-21 21:06:54] Removing 45 variants with AF < 0.030 or AF >= 1.000 or insufficient supporting reads or depth < 15.
WARN [2025-04-21 21:06:54] MuTect stats file lacks contig and position columns.
INFO [2025-04-21 21:06:54] Removing 22 non heterozygous (in matched normal) germline SNPs.
INFO [2025-04-21 21:06:54] Removing 19 low quality variants with non-offset BQ < 25.
INFO [2025-04-21 21:06:54] Base quality scores range from 24 to 35 (offset by 1)
INFO [2025-04-21 21:06:54] Minimum number of supporting reads ranges from 2 to 9, depending on coverage and BQS.
INFO [2025-04-21 21:06:54] Initial testing for significant sample cross-contamination: unlikely
INFO [2025-04-21 21:06:54] Removing 45 variants with AF < 0.030 or AF >= 1.000 or insufficient supporting reads or depth < 15.
WARN [2025-04-21 21:06:54] MuTect stats file and VCF file do not align perfectly. Will remove 2325 unmatched variants.
WARN [2025-04-21 21:06:54] MuTect stats file lacks failure_reasons column. Keeping all variants listed in stats file.
INFO [2025-04-21 21:06:54] Removing 0 non heterozygous (in matched normal) germline SNPs.
INFO [2025-04-21 21:06:54] Removing 0 low quality variants with non-offset BQ < 25.
INFO [2025-04-21 21:06:54] Base quality scores range from 31 to 33 (offset by 1)
INFO [2025-04-21 21:06:54] Minimum number of supporting reads ranges from 3 to 4, depending on coverage and BQS.
INFO [2025-04-21 21:06:54] Removing 0 variants with AF < 0.030 or AF >= 1.000 or insufficient supporting reads or depth < 15.
INFO [2025-04-21 21:06:54] Removing 22 non heterozygous (in matched normal) germline SNPs.
INFO [2025-04-21 21:06:54] Base quality scores range from 7 to 35 (offset by 1)
INFO [2025-04-21 21:06:54] Minimum number of supporting reads ranges from 1 to 41, depending on coverage and BQS.
INFO [2025-04-21 21:06:54] Initial testing for significant sample cross-contamination: unlikely
INFO [2025-04-21 21:06:54] Removing 49 variants with AF < 0.030 or AF >= 1.000 or insufficient supporting reads or depth < 15.
INFO [2025-04-21 21:06:54] Removing 22 non heterozygous (in matched normal) germline SNPs.
INFO [2025-04-21 21:06:54] Base quality scores range from 7 to 35 (offset by 1)
INFO [2025-04-21 21:06:54] Minimum number of supporting reads ranges from 1 to 41, depending on coverage and BQS.
INFO [2025-04-21 21:06:55] Initial testing for significant sample cross-contamination: unlikely
INFO [2025-04-21 21:06:55] Removing 49 variants with AF < 0.030 or AF >= 1.000 or insufficient supporting reads or depth < 15.
INFO [2025-04-21 21:06:55] Removing 22 non heterozygous (in matched normal) germline SNPs.
WARN [2025-04-21 21:06:55] Many variants removed by min.base.quality (50) filter. You might want to lower the cutoff.
FATAL [2025-04-21 21:06:55] No variants passed filter BQ.
FATAL [2025-04-21 21:06:55]
FATAL [2025-04-21 21:06:55] This is most likely a user error due to invalid input data or
FATAL [2025-04-21 21:06:55] parameters (PureCN 2.14.0).
INFO [2025-04-21 21:06:55] Found 11 variants in VCF file.
WARN [2025-04-21 21:06:55] vcf.file has no DB info field for membership in germline databases. Found and used valid population allele frequency > 0.001000 instead.
INFO [2025-04-21 21:06:55] 1 (9.1%) variants annotated as likely germline (DB INFO flag).
INFO [2025-04-21 21:06:55] Found 11 variants in VCF file.
WARN [2025-04-21 21:06:56] vcf.file has no DB info field for membership in germline databases. Found and used valid population allele frequency > 0.001000 instead.
INFO [2025-04-21 21:06:56] 1 (9.1%) variants annotated as likely germline (DB INFO flag).
INFO [2025-04-21 21:06:56] Found 11 variants in VCF file.
WARN [2025-04-21 21:06:56] vcf.file has no DB or POP_AF info field for membership in germline databases. Guessing it based on available dbSNP ID.
INFO [2025-04-21 21:06:56] 1 (9.1%) variants annotated as likely germline (DB INFO flag).
INFO [2025-04-21 21:06:56] Found 1000 variants in VCF file.
INFO [2025-04-21 21:06:56] Removing 2 triallelic sites.
WARN [2025-04-21 21:06:56] Having trouble guessing SOMATIC status...
WARN [2025-04-21 21:06:56] DP FORMAT field contains NAs. Removing 44 variants.
INFO [2025-04-21 21:06:56] 954 (100.0%) variants annotated as likely germline (DB INFO flag).
INFO [2025-04-21 21:06:57] Found 12 variants in VCF file.
INFO [2025-04-21 21:06:57] Removing 1 triallelic sites.
WARN [2025-04-21 21:06:57] DP FORMAT field contains NAs. Removing 1 variants.
WARN [2025-04-21 21:06:57] vcf.file has no DB info field for membership in germline databases. Found and used somatic status instead.
INFO [2025-04-21 21:06:57] 8 (80.0%) variants annotated as likely germline (DB INFO flag).
WARN [2025-04-21 21:06:57] BQ FORMAT field contains NAs.
INFO [2025-04-21 21:06:57] Found 2331 variants in VCF file.
INFO [2025-04-21 21:06:57] 2282 (97.9%) variants annotated as likely germline (DB INFO flag).
INFO [2025-04-21 21:06:57] Found 2331 variants in VCF file.
INFO [2025-04-21 21:06:57] 2282 (97.9%) variants annotated as likely germline (DB INFO flag).
WARN [2025-04-21 21:06:57] Did not find base quality scores, will use global error rate of 0.0010 instead.
INFO [2025-04-21 21:06:57] Removing 21 low quality variants with non-offset BQ < 25.
INFO [2025-04-21 21:06:57] Base quality scores range from 24 to 35 (offset by 1)
INFO [2025-04-21 21:06:57] Initial testing for significant sample cross-contamination: unlikely
INFO [2025-04-21 21:06:57] Removing 89 variants with AF < 0.030 or AF >= 0.970 or insufficient supporting reads or depth < 15.
INFO [2025-04-21 21:06:57] Found 2331 variants in VCF file.
INFO [2025-04-21 21:06:57] 2282 (97.9%) variants annotated as likely germline (DB INFO flag).
WARN [2025-04-21 21:06:57] BQ FORMAT field contains NAs.
WARN [2025-04-21 21:06:58] Allosome coverage missing, cannot determine sex.
WARN [2025-04-21 21:06:58] Allosome coverage missing, cannot determine sex.
INFO [2025-04-21 21:06:58] Mean coverages: chrX: 108.58, chrY: 108.58, chr1-22: 104.87.
INFO [2025-04-21 21:06:58] Mean coverages: chrX: 108.58, chrY: 2.17, chr1-22: 104.87.
INFO [2025-04-21 21:06:58] Mean coverages: chrX: 108.58, chrY: 5.17, chr1-22: 104.87.
INFO [2025-04-21 21:06:58] No homozygous variants in VCF, provide unfiltered VCF.
INFO [2025-04-21 21:06:58] No germline variants in VCF.
FATAL [2025-04-21 21:06:58] No solution with id hello
FATAL [2025-04-21 21:06:58]
FATAL [2025-04-21 21:06:58] This is most likely a user error due to invalid input data or
FATAL [2025-04-21 21:06:58] parameters (PureCN 2.14.0).
FATAL [2025-04-21 21:06:58] No solution with id 100
FATAL [2025-04-21 21:06:58]
FATAL [2025-04-21 21:06:58] This is most likely a user error due to invalid input data or
FATAL [2025-04-21 21:06:58] parameters (PureCN 2.14.0).
FATAL [2025-04-21 21:06:59] all.data and w have different lengths.
FATAL [2025-04-21 21:06:59]
FATAL [2025-04-21 21:06:59] This is most likely a user error due to invalid input data or
FATAL [2025-04-21 21:06:59] parameters (PureCN 2.14.0).
INFO [2025-04-21 21:06:59] Splitting 5 large targets to an average width of 400.
WARN [2025-04-21 21:06:59] No mappability scores provided.
WARN [2025-04-21 21:06:59] No reptiming scores provided.
INFO [2025-04-21 21:06:59] Calculating GC-content...
INFO [2025-04-21 21:06:59] Splitting 5 large targets to an average width of 400.
WARN [2025-04-21 21:06:59] No mappability scores provided.
WARN [2025-04-21 21:06:59] No reptiming scores provided.
INFO [2025-04-21 21:06:59] Calculating GC-content...
INFO [2025-04-21 21:06:59] Splitting 5 large targets to an average width of 400.
INFO [2025-04-21 21:06:59] Removing 1 targets overlapping with exclude.
WARN [2025-04-21 21:06:59] No mappability scores provided.
WARN [2025-04-21 21:06:59] No reptiming scores provided.
INFO [2025-04-21 21:06:59] Calculating GC-content...
WARN [2025-04-21 21:06:59] Found small target regions (< 100bp). Will resize them.
INFO [2025-04-21 21:06:59] Splitting 5 large targets to an average width of 400.
FATAL [2025-04-21 21:06:59] off.target.padding must be negative.
FATAL [2025-04-21 21:06:59]
FATAL [2025-04-21 21:06:59] This is most likely a user error due to invalid input data or
FATAL [2025-04-21 21:06:59] parameters (PureCN 2.14.0).
FATAL [2025-04-21 21:06:59] Interval coordinates should start at 1, not at 0
FATAL [2025-04-21 21:06:59]
FATAL [2025-04-21 21:06:59] This is most likely a user error due to invalid input data or
FATAL [2025-04-21 21:06:59] parameters (PureCN 2.14.0).
WARN [2025-04-21 21:06:59] Found small target regions (< 100bp). Will resize them.
INFO [2025-04-21 21:06:59] Splitting 5 large targets to an average width of 400.
FATAL [2025-04-21 21:06:59] No off-target regions after filtering for mappability and
FATAL [2025-04-21 21:06:59] off.target.padding
FATAL [2025-04-21 21:06:59]
FATAL [2025-04-21 21:06:59] This is most likely a user error due to invalid input data or
FATAL [2025-04-21 21:06:59] parameters (PureCN 2.14.0).
WARN [2025-04-21 21:06:59] Found small target regions (< 100bp). Will resize them.
INFO [2025-04-21 21:06:59] Splitting 5 large targets to an average width of 400.
WARN [2025-04-21 21:06:59] No mappability scores provided.
INFO [2025-04-21 21:07:00] Calculating GC-content...
WARN [2025-04-21 21:07:00] Found small target regions (< 100bp). Will resize them.
INFO [2025-04-21 21:07:00] Averaging reptiming into bins of size 200...
INFO [2025-04-21 21:07:00] Splitting 5 large targets to an average width of 400.
WARN [2025-04-21 21:07:00] No mappability scores provided.
INFO [2025-04-21 21:07:00] Calculating GC-content...
WARN [2025-04-21 21:07:00] Found small target regions (< 100bp). Will resize them.
INFO [2025-04-21 21:07:00] Splitting 6 large targets to an average width of 200.
WARN [2025-04-21 21:07:00] No mappability scores provided.
WARN [2025-04-21 21:07:00] No reptiming scores provided.
INFO [2025-04-21 21:07:00] Calculating GC-content...
WARN [2025-04-21 21:07:00] Found small target regions (< 100bp). Will resize them.
INFO [2025-04-21 21:07:00] Splitting 5 large targets to an average width of 400.
WARN [2025-04-21 21:07:00] No mappability scores provided.
WARN [2025-04-21 21:07:00] No reptiming scores provided.
INFO [2025-04-21 21:07:00] Calculating GC-content...
INFO [2025-04-21 21:07:00] Splitting 5 large targets to an average width of 400.
INFO [2025-04-21 21:07:00] Tiling off-target regions to an average width of 200000.
WARN [2025-04-21 21:07:00] No mappability scores provided.
WARN [2025-04-21 21:07:00] No reptiming scores provided.
INFO [2025-04-21 21:07:00] Calculating GC-content...
WARN [2025-04-21 21:07:00] Intervals contain off-target regions. Will not change intervals.
WARN [2025-04-21 21:07:00] No mappability scores provided.
WARN [2025-04-21 21:07:00] No reptiming scores provided.
INFO [2025-04-21 21:07:00] Calculating GC-content...
INFO [2025-04-21 21:07:00] Splitting 5 large targets to an average width of 400.
WARN [2025-04-21 21:07:00] No reptiming scores provided.
INFO [2025-04-21 21:07:00] Calculating GC-content...
WARN [2025-04-21 21:07:00] Found small target regions (< 100bp). Will resize them.
INFO [2025-04-21 21:07:00] Splitting 5 large targets to an average width of 400.
WARN [2025-04-21 21:07:00] No reptiming scores provided.
INFO [2025-04-21 21:07:00] Calculating GC-content...
WARN [2025-04-21 21:07:01] Found small target regions (< 100bp). Will resize them.
INFO [2025-04-21 21:07:01] Splitting 5 large targets to an average width of 400.
WARN [2025-04-21 21:07:01] 1 intervals without mappability score (1 on-target).
INFO [2025-04-21 21:07:01] Removing 1 intervals with low mappability score (<0.60).
WARN [2025-04-21 21:07:01] No reptiming scores provided.
INFO [2025-04-21 21:07:01] Calculating GC-content...
WARN [2025-04-21 21:07:01] Found small target regions (< 100bp). Will resize them.
INFO [2025-04-21 21:07:01] Splitting 5 large targets to an average width of 400.
INFO [2025-04-21 21:07:01] Tiling off-target regions to an average width of 200000.
WARN [2025-04-21 21:07:01] No reptiming scores provided.
INFO [2025-04-21 21:07:01] Calculating GC-content...
INFO [2025-04-21 21:07:01] Splitting 5 large targets to an average width of 400.
WARN [2025-04-21 21:07:01] No mappability scores provided.
WARN [2025-04-21 21:07:01] No reptiming scores provided.
INFO [2025-04-21 21:07:01] Calculating GC-content...
WARN [2025-04-21 21:07:01] Chromosome naming style of interval file (Ensembl) was different from reference (UCSC).
INFO [2025-04-21 21:07:01] Splitting 5 large targets to an average width of 400.
WARN [2025-04-21 21:07:01] No mappability scores provided.
WARN [2025-04-21 21:07:01] No reptiming scores provided.
INFO [2025-04-21 21:07:01] Calculating GC-content...
FATAL [2025-04-21 21:07:01] Chromosome naming style of interval file unknown, should be UCSC.
FATAL [2025-04-21 21:07:01]
FATAL [2025-04-21 21:07:01] This is most likely a user error due to invalid input data or
FATAL [2025-04-21 21:07:01] parameters (PureCN 2.14.0).
WARN [2025-04-21 21:07:01] Chromosome naming style of interval file (Ensembl) was different from reference (UCSC).
WARN [2025-04-21 21:07:01] Chromosome naming style of mappability file (Ensembl) was different from reference (UCSC).
INFO [2025-04-21 21:07:01] Splitting 5 large targets to an average width of 400.
WARN [2025-04-21 21:07:01] No reptiming scores provided.
INFO [2025-04-21 21:07:01] Calculating GC-content...
WARN [2025-04-21 21:07:01] Found small target regions (< 60bp). Will resize them.
INFO [2025-04-21 21:07:01] Splitting 5 large targets to an average width of 400.
WARN [2025-04-21 21:07:01] No mappability scores provided.
WARN [2025-04-21 21:07:01] No reptiming scores provided.
INFO [2025-04-21 21:07:01] Calculating GC-content...
WARN [2025-04-21 21:07:02] Found small target regions (< 60bp). Will drop them.
INFO [2025-04-21 21:07:02] Splitting 4 large targets to an average width of 400.
WARN [2025-04-21 21:07:02] No mappability scores provided.
WARN [2025-04-21 21:07:02] No reptiming scores provided.
INFO [2025-04-21 21:07:02] Calculating GC-content...
WARN [2025-04-21 21:07:02] Found small target regions (< 200bp). Will resize them.
INFO [2025-04-21 21:07:02] Splitting 5 large targets to an average width of 400.
WARN [2025-04-21 21:07:02] No mappability scores provided.
WARN [2025-04-21 21:07:02] No reptiming scores provided.
INFO [2025-04-21 21:07:02] Calculating GC-content...
INFO [2025-04-21 21:07:02] Found 20 variants in VCF file.
INFO [2025-04-21 21:07:02] 20 (100.0%) variants annotated as likely germline (DB INFO flag).
WARN [2025-04-21 21:07:02] Did not find base quality scores, will use global error rate of 0.0010 instead.
Error in read.table(file = file, header = header, sep = sep, quote = quote, :
no lines available in input
FATAL [2025-04-21 21:07:02] Error reading AllelicCountsFile
FATAL [2025-04-21 21:07:02] /Library/Frameworks/R.framework/Versions/4.5-arm64/Resources/library/PureCN/extdata/example_allelic_counts_empty.tsv
FATAL [2025-04-21 21:07:02]
FATAL [2025-04-21 21:07:02] This is most likely a user error due to invalid input data or
FATAL [2025-04-21 21:07:02] parameters (PureCN 2.14.0).
INFO [2025-04-21 21:07:02] Found 127 variants in VCF file.
INFO [2025-04-21 21:07:02] 127 (100.0%) variants annotated as likely germline (DB INFO flag).
WARN [2025-04-21 21:07:02] Did not find base quality scores, will use global error rate of 0.0010 instead.
INFO [2025-04-21 21:07:02] ------------------------------------------------------------
INFO [2025-04-21 21:07:02] PureCN 2.14.0
INFO [2025-04-21 21:07:02] ------------------------------------------------------------
INFO [2025-04-21 21:07:02] Loading coverage files...
INFO [2025-04-21 21:07:02] Mean target coverages: 112X (tumor) 99X (normal).
WARN [2025-04-21 21:07:03] Allosome coverage missing, cannot determine sex.
WARN [2025-04-21 21:07:03] Allosome coverage missing, cannot determine sex.
INFO [2025-04-21 21:07:03] Removing 228 intervals with missing log.ratio.
INFO [2025-04-21 21:07:03] Removing 22 small (< 5bp) intervals.
INFO [2025-04-21 21:07:03] Removing 19 intervals with low total coverage in normal (< 150.00 reads).
WARN [2025-04-21 21:07:03] No normalDB provided. Provide one for better results.
INFO [2025-04-21 21:07:03] Removing 1724 low count (< 100 total reads) intervals.
INFO [2025-04-21 21:07:03] Removing 6 low coverage (< 15.0000X) intervals.
INFO [2025-04-21 21:07:03] Using 8050 intervals (8050 on-target, 0 off-target).
INFO [2025-04-21 21:07:03] No off-target intervals. If this is hybrid-capture data, consider adding them.
INFO [2025-04-21 21:07:03] No interval.file provided. Cannot check for any GC-biases.
INFO [2025-04-21 21:07:03] Loading VCF...
INFO [2025-04-21 21:07:03] Found 127 variants in VCF file.
INFO [2025-04-21 21:07:03] 127 (100.0%) variants annotated as likely germline (DB INFO flag).
INFO [2025-04-21 21:07:03] LIB-02240e4 is tumor in VCF file.
INFO [2025-04-21 21:07:03] No homozygous variants in VCF, provide unfiltered VCF.
INFO [2025-04-21 21:07:03] Removing 1 non heterozygous (in matched normal) germline SNPs.
INFO [2025-04-21 21:07:03] Removing 0 low quality variants with non-offset BQ < 25.
INFO [2025-04-21 21:07:03] Base quality scores range from 29 to 35 (offset by 1)
INFO [2025-04-21 21:07:03] Minimum number of supporting reads ranges from 2 to 5, depending on coverage and BQS.
INFO [2025-04-21 21:07:03] Removing 1 variants with AF < 0.030 or AF >= 1.000 or insufficient supporting reads or depth < 15.
INFO [2025-04-21 21:07:03] Total size of targeted genomic region: 1.53Mb (2.33Mb with 50bp padding).
INFO [2025-04-21 21:07:03] 1.2% of targets contain variants.
INFO [2025-04-21 21:07:03] Removing 4 variants outside intervals.
INFO [2025-04-21 21:07:03] Found SOMATIC annotation in VCF.
INFO [2025-04-21 21:07:03] Setting somatic prior probabilities for somatic variants to 0.999000 or to 0.000100 otherwise.
INFO [2025-04-21 21:07:03] Found SOMATIC annotation in VCF. Setting mapping bias to 0.972.
INFO [2025-04-21 21:07:03] Excluding 0 novel or poor quality variants from segmentation.
INFO [2025-04-21 21:07:03] Sample sex: ?
INFO [2025-04-21 21:07:03] Segmenting data...
INFO [2025-04-21 21:07:03] Loading pre-computed boundaries for DNAcopy...
INFO [2025-04-21 21:07:03] Setting undo.SD parameter to 1.000000.
INFO [2025-04-21 21:07:03] Setting prune.hclust.h parameter to 0.200000.
INFO [2025-04-21 21:07:03] Found 59 segments with median size of 17.67Mb.
INFO [2025-04-21 21:07:03] Using 121 variants.
INFO [2025-04-21 21:07:03] Mean standard deviation of log-ratios: 0.34 (MAPD: 0.30)
INFO [2025-04-21 21:07:03] 2D-grid search of purity and ploidy...
INFO [2025-04-21 21:07:03] Local optima: 0.65/1.8, 0.52/2
INFO [2025-04-21 21:07:03] Testing local optimum 1/2 at purity 0.65 and total ploidy 1.80...
INFO [2025-04-21 21:07:04] Testing local optimum 2/2 at purity 0.52 and total ploidy 2.00...
INFO [2025-04-21 21:07:04] Skipping 1 solutions that converged to the same optima.
INFO [2025-04-21 21:07:04] Fitting variants with beta model for local optimum 1/2...
INFO [2025-04-21 21:07:04] Fitting variants for purity 0.65, tumor ploidy 1.75 and contamination 0.01.
INFO [2025-04-21 21:07:05] Optimized purity: 0.65
INFO [2025-04-21 21:07:05] Done.
INFO [2025-04-21 21:07:05] ------------------------------------------------------------
FATAL [2025-04-21 21:07:06] log.ratio NULL in .writeLogRatioFileGATK4
FATAL [2025-04-21 21:07:06]
FATAL [2025-04-21 21:07:06] This runtime error might be caused by invalid input data or parameters.
FATAL [2025-04-21 21:07:06] Please report bug (PureCN 2.14.0).
INFO [2025-04-21 21:07:06] Loaded provided segmentation file example_seg.txt (format DNAcopy).
INFO [2025-04-21 21:07:06] Re-centering provided segment means (offset -0.0033).
INFO [2025-04-21 21:07:06] Loaded provided segmentation file example_gatk4_modelfinal.seg.gz (format GATK4).
WARN [2025-04-21 21:07:06] Expecting numeric chromosome names in seg.file, assuming file is properly sorted.
INFO [2025-04-21 21:07:06] Re-centering provided segment means (offset -0.0037).
INFO [2025-04-21 21:07:06] 576 on-target bins with low coverage in all samples.
WARN [2025-04-21 21:07:06] You are likely not using the correct baits file!
WARN [2025-04-21 21:07:06] Allosome coverage missing, cannot determine sex.
WARN [2025-04-21 21:07:06] Allosome coverage missing, cannot determine sex.
INFO [2025-04-21 21:07:06] Processing on-target regions...
INFO [2025-04-21 21:07:06] Removing 930 intervals with low coverage in normalDB.
INFO [2025-04-21 21:07:06] Removing 1 intervals with zero coverage in more than 3% of normalDB.
INFO [2025-04-21 21:07:07] ------------------------------------------------------------
INFO [2025-04-21 21:07:07] PureCN 2.14.0
INFO [2025-04-21 21:07:07] ------------------------------------------------------------
INFO [2025-04-21 21:07:07] Using BiocParallel for parallel optimization.
INFO [2025-04-21 21:07:07] Loading coverage files...
INFO [2025-04-21 21:07:07] Mean target coverages: 112X (tumor) 99X (normal).
WARN [2025-04-21 21:07:07] Allosome coverage missing, cannot determine sex.
WARN [2025-04-21 21:07:07] Allosome coverage missing, cannot determine sex.
INFO [2025-04-21 21:07:07] Removing 228 intervals with missing log.ratio.
INFO [2025-04-21 21:07:07] Removing 705 intervals excluded in normalDB.
INFO [2025-04-21 21:07:07] normalDB provided. Setting minimum coverage for segmentation to 0.0015X.
INFO [2025-04-21 21:07:07] Removing 1066 low count (< 100 total reads) intervals.
INFO [2025-04-21 21:07:07] Using 8050 intervals (8050 on-target, 0 off-target).
INFO [2025-04-21 21:07:07] No off-target intervals. If this is hybrid-capture data, consider adding them.
INFO [2025-04-21 21:07:07] No interval.file provided. Cannot check for any GC-biases.
INFO [2025-04-21 21:07:07] Sample sex: ?
INFO [2025-04-21 21:07:07] Segmenting data...
INFO [2025-04-21 21:07:07] Interval weights found, will use weighted CBS.
INFO [2025-04-21 21:07:07] Loading pre-computed boundaries for DNAcopy...
INFO [2025-04-21 21:07:07] Setting undo.SD parameter to 1.000000.
Setting multi-figure configuration
INFO [2025-04-21 21:07:08] Found 52 segments with median size of 29.35Mb.
INFO [2025-04-21 21:07:08] Mean standard deviation of log-ratios: 0.34 (MAPD: 0.30)
INFO [2025-04-21 21:07:08] 2D-grid search of purity and ploidy...
INFO [2025-04-21 21:07:08] Local optima: 0.65/1.8, 0.52/2
INFO [2025-04-21 21:07:08] Skipping 1 solutions that converged to the same optima.
INFO [2025-04-21 21:07:08] Done.
INFO [2025-04-21 21:07:08] ------------------------------------------------------------
INFO [2025-04-21 21:07:08] Reading /var/folders/r0/l4fjk6cj5xj0j3brt4bplpl40000gt/T//RtmpXjputO/file164e4c629d4b.rds...
FATAL [2025-04-21 21:07:08] runAbsoluteCN was run without a VCF file.
FATAL [2025-04-21 21:07:08]
FATAL [2025-04-21 21:07:08] This is most likely a user error due to invalid input data or
FATAL [2025-04-21 21:07:08] parameters (PureCN 2.14.0).
FATAL [2025-04-21 21:07:08] runAbsoluteCN was run without a VCF file.
FATAL [2025-04-21 21:07:08]
FATAL [2025-04-21 21:07:08] This is most likely a user error due to invalid input data or
FATAL [2025-04-21 21:07:08] parameters (PureCN 2.14.0).
INFO [2025-04-21 21:07:08] ------------------------------------------------------------
INFO [2025-04-21 21:07:08] PureCN 2.14.0
INFO [2025-04-21 21:07:08] ------------------------------------------------------------
INFO [2025-04-21 21:07:08] Loading coverage files...
INFO [2025-04-21 21:07:09] Mean target coverages: 112X (tumor) 99X (normal).
WARN [2025-04-21 21:07:09] Allosome coverage missing, cannot determine sex.
WARN [2025-04-21 21:07:09] Allosome coverage missing, cannot determine sex.
INFO [2025-04-21 21:07:09] Removing 228 intervals with missing log.ratio.
INFO [2025-04-21 21:07:09] Removing 705 intervals excluded in normalDB.
INFO [2025-04-21 21:07:09] normalDB provided. Setting minimum coverage for segmentation to 0.0015X.
INFO [2025-04-21 21:07:09] Removing 1066 low count (< 100 total reads) intervals.
INFO [2025-04-21 21:07:09] Using 8050 intervals (8050 on-target, 0 off-target).
INFO [2025-04-21 21:07:09] No off-target intervals. If this is hybrid-capture data, consider adding them.
INFO [2025-04-21 21:07:09] No interval.file provided. Cannot check for any GC-biases.
INFO [2025-04-21 21:07:09] Sample sex: ?
INFO [2025-04-21 21:07:09] Segmenting data...
INFO [2025-04-21 21:07:09] Interval weights found, will use weighted PSCBS.
FATAL [2025-04-21 21:07:09] segmentationPSCBS requires VCF file.
FATAL [2025-04-21 21:07:09]
FATAL [2025-04-21 21:07:09] This is most likely a user error due to invalid input data or
FATAL [2025-04-21 21:07:09] parameters (PureCN 2.14.0).
INFO [2025-04-21 21:07:11] ------------------------------------------------------------
INFO [2025-04-21 21:07:11] PureCN 2.14.0
INFO [2025-04-21 21:07:11] ------------------------------------------------------------
INFO [2025-04-21 21:07:11] Loading coverage files...
FATAL [2025-04-21 21:07:11] Need a normal coverage file if log.ratio and seg.file are not provided.
FATAL [2025-04-21 21:07:11]
FATAL [2025-04-21 21:07:11] This is most likely a user error due to invalid input data or
FATAL [2025-04-21 21:07:11] parameters (PureCN 2.14.0).
INFO [2025-04-21 21:07:11] ------------------------------------------------------------
INFO [2025-04-21 21:07:11] PureCN 2.14.0
INFO [2025-04-21 21:07:11] ------------------------------------------------------------
FATAL [2025-04-21 21:07:11] min.ploidy or max.ploidy not within expected range.
FATAL [2025-04-21 21:07:11]
FATAL [2025-04-21 21:07:11] This is most likely a user error due to invalid input data or
FATAL [2025-04-21 21:07:11] parameters (PureCN 2.14.0).
INFO [2025-04-21 21:07:11] ------------------------------------------------------------
INFO [2025-04-21 21:07:11] PureCN 2.14.0
INFO [2025-04-21 21:07:11] ------------------------------------------------------------
FATAL [2025-04-21 21:07:11] min.ploidy or max.ploidy not within expected range.
FATAL [2025-04-21 21:07:11]
FATAL [2025-04-21 21:07:11] This is most likely a user error due to invalid input data or
FATAL [2025-04-21 21:07:11] parameters (PureCN 2.14.0).
INFO [2025-04-21 21:07:11] ------------------------------------------------------------
INFO [2025-04-21 21:07:11] PureCN 2.14.0
INFO [2025-04-21 21:07:11] ------------------------------------------------------------
INFO [2025-04-21 21:07:11] ------------------------------------------------------------
INFO [2025-04-21 21:07:11] PureCN 2.14.0
INFO [2025-04-21 21:07:11] ------------------------------------------------------------
INFO [2025-04-21 21:07:11] ------------------------------------------------------------
INFO [2025-04-21 21:07:11] PureCN 2.14.0
INFO [2025-04-21 21:07:11] ------------------------------------------------------------
FATAL [2025-04-21 21:07:11] test.num.copy not within expected range.
FATAL [2025-04-21 21:07:11]
FATAL [2025-04-21 21:07:11] This is most likely a user error due to invalid input data or
FATAL [2025-04-21 21:07:11] parameters (PureCN 2.14.0).
INFO [2025-04-21 21:07:11] ------------------------------------------------------------
INFO [2025-04-21 21:07:11] PureCN 2.14.0
INFO [2025-04-21 21:07:11] ------------------------------------------------------------
WARN [2025-04-21 21:07:11] test.num.copy outside recommended range.
FATAL [2025-04-21 21:07:11] max.non.clonal not within expected range or format.
FATAL [2025-04-21 21:07:11]
FATAL [2025-04-21 21:07:11] This is most likely a user error due to invalid input data or
FATAL [2025-04-21 21:07:11] parameters (PureCN 2.14.0).
INFO [2025-04-21 21:07:11] ------------------------------------------------------------
INFO [2025-04-21 21:07:11] PureCN 2.14.0
INFO [2025-04-21 21:07:11] ------------------------------------------------------------
WARN [2025-04-21 21:07:11] test.num.copy outside recommended range.
FATAL [2025-04-21 21:07:11] max.non.clonal not within expected range or format.
FATAL [2025-04-21 21:07:11]
FATAL [2025-04-21 21:07:11] This is most likely a user error due to invalid input data or
FATAL [2025-04-21 21:07:11] parameters (PureCN 2.14.0).
INFO [2025-04-21 21:07:11] ------------------------------------------------------------
INFO [2025-04-21 21:07:11] PureCN 2.14.0
INFO [2025-04-21 21:07:11] ------------------------------------------------------------
FATAL [2025-04-21 21:07:11] test.purity not within expected range.
FATAL [2025-04-21 21:07:11]
FATAL [2025-04-21 21:07:11] This is most likely a user error due to invalid input data or
FATAL [2025-04-21 21:07:11] parameters (PureCN 2.14.0).
INFO [2025-04-21 21:07:11] ------------------------------------------------------------
INFO [2025-04-21 21:07:11] PureCN 2.14.0
INFO [2025-04-21 21:07:11] ------------------------------------------------------------
INFO [2025-04-21 21:07:11] Loading coverage files...
FATAL [2025-04-21 21:07:11] Tumor and normal are identical. This won't give any meaningful results
FATAL [2025-04-21 21:07:11] and I'm stopping here.
FATAL [2025-04-21 21:07:11]
FATAL [2025-04-21 21:07:11] This is most likely a user error due to invalid input data or
FATAL [2025-04-21 21:07:11] parameters (PureCN 2.14.0).
INFO [2025-04-21 21:07:11] ------------------------------------------------------------
INFO [2025-04-21 21:07:11] PureCN 2.14.0
INFO [2025-04-21 21:07:11] ------------------------------------------------------------
INFO [2025-04-21 21:07:11] Loading coverage files...
FATAL [2025-04-21 21:07:12] Length of log.ratio different from tumor coverage.
FATAL [2025-04-21 21:07:12]
FATAL [2025-04-21 21:07:12] This is most likely a user error due to invalid input data or
FATAL [2025-04-21 21:07:12] parameters (PureCN 2.14.0).
INFO [2025-04-21 21:07:12] ------------------------------------------------------------
INFO [2025-04-21 21:07:12] PureCN 2.14.0
INFO [2025-04-21 21:07:12] ------------------------------------------------------------
FATAL [2025-04-21 21:07:12] prior.purity must have the same length as test.purity.
FATAL [2025-04-21 21:07:12]
FATAL [2025-04-21 21:07:12] This is most likely a user error due to invalid input data or
FATAL [2025-04-21 21:07:12] parameters (PureCN 2.14.0).
INFO [2025-04-21 21:07:12] ------------------------------------------------------------
INFO [2025-04-21 21:07:12] PureCN 2.14.0
INFO [2025-04-21 21:07:12] ------------------------------------------------------------
FATAL [2025-04-21 21:07:12] min.gof not within expected range or format.
FATAL [2025-04-21 21:07:12]
FATAL [2025-04-21 21:07:12] This is most likely a user error due to invalid input data or
FATAL [2025-04-21 21:07:12] parameters (PureCN 2.14.0).
INFO [2025-04-21 21:07:12] ------------------------------------------------------------
INFO [2025-04-21 21:07:12] PureCN 2.14.0
INFO [2025-04-21 21:07:12] ------------------------------------------------------------
FATAL [2025-04-21 21:07:12] prior.purity not within expected range or format.
FATAL [2025-04-21 21:07:12]
FATAL [2025-04-21 21:07:12] This is most likely a user error due to invalid input data or
FATAL [2025-04-21 21:07:12] parameters (PureCN 2.14.0).
INFO [2025-04-21 21:07:12] ------------------------------------------------------------
INFO [2025-04-21 21:07:12] PureCN 2.14.0
INFO [2025-04-21 21:07:12] ------------------------------------------------------------
FATAL [2025-04-21 21:07:12] prior.purity must add to 1. Sum is 1.5
FATAL [2025-04-21 21:07:12]
FATAL [2025-04-21 21:07:12] This is most likely a user error due to invalid input data or
FATAL [2025-04-21 21:07:12] parameters (PureCN 2.14.0).
INFO [2025-04-21 21:07:12] ------------------------------------------------------------
INFO [2025-04-21 21:07:12] PureCN 2.14.0
INFO [2025-04-21 21:07:12] ------------------------------------------------------------
FATAL [2025-04-21 21:07:12] max.homozygous.loss not within expected range or format.
FATAL [2025-04-21 21:07:12]
FATAL [2025-04-21 21:07:12] This is most likely a user error due to invalid input data or
FATAL [2025-04-21 21:07:12] parameters (PureCN 2.14.0).
INFO [2025-04-21 21:07:12] ------------------------------------------------------------
INFO [2025-04-21 21:07:12] PureCN 2.14.0
INFO [2025-04-21 21:07:12] ------------------------------------------------------------
FATAL [2025-04-21 21:07:12] prior.K not within expected range or format.
FATAL [2025-04-21 21:07:12]
FATAL [2025-04-21 21:07:12] This is most likely a user error due to invalid input data or
FATAL [2025-04-21 21:07:12] parameters (PureCN 2.14.0).
INFO [2025-04-21 21:07:12] ------------------------------------------------------------
INFO [2025-04-21 21:07:12] PureCN 2.14.0
INFO [2025-04-21 21:07:12] ------------------------------------------------------------
FATAL [2025-04-21 21:07:12] prior.contamination not within expected range or format.
FATAL [2025-04-21 21:07:12]
FATAL [2025-04-21 21:07:12] This is most likely a user error due to invalid input data or
FATAL [2025-04-21 21:07:12] parameters (PureCN 2.14.0).
INFO [2025-04-21 21:07:12] ------------------------------------------------------------
INFO [2025-04-21 21:07:12] PureCN 2.14.0
INFO [2025-04-21 21:07:12] ------------------------------------------------------------
FATAL [2025-04-21 21:07:12] Iterations not in the expected range from 10 to 250.
FATAL [2025-04-21 21:07:12]
FATAL [2025-04-21 21:07:12] This is most likely a user error due to invalid input data or
FATAL [2025-04-21 21:07:12] parameters (PureCN 2.14.0).
INFO [2025-04-21 21:07:12] ------------------------------------------------------------
INFO [2025-04-21 21:07:12] PureCN 2.14.0
INFO [2025-04-21 21:07:12] ------------------------------------------------------------
FATAL [2025-04-21 21:07:12] Iterations not in the expected range from 10 to 250.
FATAL [2025-04-21 21:07:12]
FATAL [2025-04-21 21:07:12] This is most likely a user error due to invalid input data or
FATAL [2025-04-21 21:07:12] parameters (PureCN 2.14.0).
INFO [2025-04-21 21:07:12] ------------------------------------------------------------
INFO [2025-04-21 21:07:12] PureCN 2.14.0
INFO [2025-04-21 21:07:12] ------------------------------------------------------------
INFO [2025-04-21 21:07:12] Loading coverage files...
FATAL [2025-04-21 21:07:12] Missing tumor.coverage.file requires seg.file or log.ratio and
FATAL [2025-04-21 21:07:12] interval.file.
FATAL [2025-04-21 21:07:12]
FATAL [2025-04-21 21:07:12] This is most likely a user error due to invalid input data or
FATAL [2025-04-21 21:07:12] parameters (PureCN 2.14.0).
INFO [2025-04-21 21:07:12] ------------------------------------------------------------
INFO [2025-04-21 21:07:12] PureCN 2.14.0
INFO [2025-04-21 21:07:12] ------------------------------------------------------------
INFO [2025-04-21 21:07:12] ------------------------------------------------------------
INFO [2025-04-21 21:07:12] PureCN 2.14.0
INFO [2025-04-21 21:07:12] ------------------------------------------------------------
INFO [2025-04-21 21:07:12] Loading coverage files...
FATAL [2025-04-21 21:07:12] Interval files in normal and tumor different.
FATAL [2025-04-21 21:07:12]
FATAL [2025-04-21 21:07:12] This is most likely a user error due to invalid input data or
FATAL [2025-04-21 21:07:12] parameters (PureCN 2.14.0).
INFO [2025-04-21 21:07:12] ------------------------------------------------------------
INFO [2025-04-21 21:07:12] PureCN 2.14.0
INFO [2025-04-21 21:07:12] ------------------------------------------------------------
INFO [2025-04-21 21:07:12] Loading coverage files...
INFO [2025-04-21 21:07:12] Mean target coverages: 0X (tumor) 99X (normal).
WARN [2025-04-21 21:07:12] Large difference in coverage of tumor and normal.
FATAL [2025-04-21 21:07:12] No finite intervals.
FATAL [2025-04-21 21:07:12]
FATAL [2025-04-21 21:07:12] This is most likely a user error due to invalid input data or
FATAL [2025-04-21 21:07:12] parameters (PureCN 2.14.0).
INFO [2025-04-21 21:07:12] ------------------------------------------------------------
INFO [2025-04-21 21:07:12] PureCN 2.14.0
INFO [2025-04-21 21:07:12] ------------------------------------------------------------
INFO [2025-04-21 21:07:12] Loading coverage files...
INFO [2025-04-21 21:07:13] Mean target coverages: 112X (tumor) 99X (normal).
WARN [2025-04-21 21:07:13] Allosome coverage missing, cannot determine sex.
WARN [2025-04-21 21:07:13] Allosome coverage missing, cannot determine sex.
INFO [2025-04-21 21:07:13] Removing 228 intervals with missing log.ratio.
INFO [2025-04-21 21:07:13] Removing 22 small (< 5bp) intervals.
INFO [2025-04-21 21:07:13] Removing 19 intervals with low total coverage in normal (< 150.00 reads).
WARN [2025-04-21 21:07:13] No normalDB provided. Provide one for better results.
INFO [2025-04-21 21:07:13] Removing 1724 low count (< 100 total reads) intervals.
INFO [2025-04-21 21:07:13] Removing 6 low coverage (< 15.0000X) intervals.
INFO [2025-04-21 21:07:13] Using 8050 intervals (8050 on-target, 0 off-target).
INFO [2025-04-21 21:07:13] No off-target intervals. If this is hybrid-capture data, consider adding them.
INFO [2025-04-21 21:07:13] No interval.file provided. Cannot check for any GC-biases.
INFO [2025-04-21 21:07:13] Loading VCF...
INFO [2025-04-21 21:07:13] Found 127 variants in VCF file.
INFO [2025-04-21 21:07:13] 127 (100.0%) variants annotated as likely germline (DB INFO flag).
INFO [2025-04-21 21:07:13] LIB-02240e4 is tumor in VCF file.
INFO [2025-04-21 21:07:13] No homozygous variants in VCF, provide unfiltered VCF.
INFO [2025-04-21 21:07:13] Removing 1 non heterozygous (in matched normal) germline SNPs.
INFO [2025-04-21 21:07:13] Removing 0 low quality variants with non-offset BQ < 25.
INFO [2025-04-21 21:07:13] Base quality scores range from 29 to 35 (offset by 1)
INFO [2025-04-21 21:07:13] Minimum number of supporting reads ranges from 2 to 5, depending on coverage and BQS.
INFO [2025-04-21 21:07:13] Removing 1 variants with AF < 0.030 or AF >= 1.000 or insufficient supporting reads or depth < 15.
Error in FileForFormat(resource(con), fileFormat(con)) :
Format 'txt' unsupported
In addition: Warning messages:
1: In for (i in seq_len(n)) { :
closing unused connection 4 (/Library/Frameworks/R.framework/Versions/4.5-arm64/Resources/library/PureCN/extdata/example_allelic_counts_empty.tsv)
2: In UseMethod("mean") :
closing unused connection 5 (/var/folders/r0/l4fjk6cj5xj0j3brt4bplpl40000gt/T//RtmpXjputO/file164e180de0c0.tsv)
3: In UseMethod("mean") :
closing unused connection 4 (/Library/Frameworks/R.framework/Versions/4.5-arm64/Resources/library/PureCN/extdata/example_gatk4_denoised_cr.tsv.gz)
FATAL [2025-04-21 21:07:13] Could not import snp.blacklist
FATAL [2025-04-21 21:07:13] /Library/Frameworks/R.framework/Versions/4.5-arm64/Resources/library/PureCN/extdata/example_normal.txt.gz:Error
FATAL [2025-04-21 21:07:13] in FileForFormat(resource(con), fileFormat(con)) : Format 'txt'
FATAL [2025-04-21 21:07:13] unsupported
FATAL [2025-04-21 21:07:13]
FATAL [2025-04-21 21:07:13] This is most likely a user error due to invalid input data or
FATAL [2025-04-21 21:07:13] parameters (PureCN 2.14.0).
INFO [2025-04-21 21:07:13] ------------------------------------------------------------
INFO [2025-04-21 21:07:13] PureCN 2.14.0
INFO [2025-04-21 21:07:13] ------------------------------------------------------------
INFO [2025-04-21 21:07:13] Loading coverage files...
INFO [2025-04-21 21:07:13] Mean target coverages: 112X (tumor) 99X (normal).
WARN [2025-04-21 21:07:13] Allosome coverage missing, cannot determine sex.
WARN [2025-04-21 21:07:13] Allosome coverage missing, cannot determine sex.
INFO [2025-04-21 21:07:13] Removing 228 intervals with missing log.ratio.
INFO [2025-04-21 21:07:13] Removing 22 small (< 5bp) intervals.
INFO [2025-04-21 21:07:13] Removing 19 intervals with low total coverage in normal (< 150.00 reads).
WARN [2025-04-21 21:07:13] No normalDB provided. Provide one for better results.
INFO [2025-04-21 21:07:13] Removing 233 low coverage (< 15.0000X) intervals.
INFO [2025-04-21 21:07:13] Using 9547 intervals (9547 on-target, 0 off-target).
INFO [2025-04-21 21:07:13] No off-target intervals. If this is hybrid-capture data, consider adding them.
INFO [2025-04-21 21:07:13] No interval.file provided. Cannot check for any GC-biases.
INFO [2025-04-21 21:07:13] Loading VCF...
INFO [2025-04-21 21:07:13] Found 127 variants in VCF file.
INFO [2025-04-21 21:07:13] 127 (100.0%) variants annotated as likely germline (DB INFO flag).
INFO [2025-04-21 21:07:14] LIB-02240e4 is tumor in VCF file.
INFO [2025-04-21 21:07:14] No homozygous variants in VCF, provide unfiltered VCF.
INFO [2025-04-21 21:07:14] Removing 1 non heterozygous (in matched normal) germline SNPs.
INFO [2025-04-21 21:07:14] Removing 0 low quality variants with non-offset BQ < 25.
INFO [2025-04-21 21:07:14] Base quality scores range from 29 to 35 (offset by 1)
INFO [2025-04-21 21:07:14] Minimum number of supporting reads ranges from 2 to 5, depending on coverage and BQS.
INFO [2025-04-21 21:07:14] Removing 1 variants with AF < 0.030 or AF >= 1.000 or insufficient supporting reads or depth < 15.
INFO [2025-04-21 21:07:14] Total size of targeted genomic region: 1.63Mb (2.58Mb with 50bp padding).
INFO [2025-04-21 21:07:14] 1.0% of targets contain variants.
INFO [2025-04-21 21:07:14] Removing 2 variants outside intervals.
INFO [2025-04-21 21:07:14] Found SOMATIC annotation in VCF.
INFO [2025-04-21 21:07:14] Setting somatic prior probabilities for somatic variants to 0.999000 or to 0.000100 otherwise.
INFO [2025-04-21 21:07:14] Found SOMATIC annotation in VCF. Setting mapping bias to 0.973.
INFO [2025-04-21 21:07:14] Excluding 0 novel or poor quality variants from segmentation.
INFO [2025-04-21 21:07:14] Sample sex: ?
INFO [2025-04-21 21:07:14] Segmenting data...
INFO [2025-04-21 21:07:14] Loading pre-computed boundaries for DNAcopy...
INFO [2025-04-21 21:07:14] Setting undo.SD parameter to 1.000000.
INFO [2025-04-21 21:07:14] Setting prune.hclust.h parameter to 0.200000.
INFO [2025-04-21 21:07:14] Found 54 segments with median size of 24.88Mb.
INFO [2025-04-21 21:07:14] Using 123 variants.
INFO [2025-04-21 21:07:14] Mean standard deviation of log-ratios: 0.37 (MAPD: 0.32)
INFO [2025-04-21 21:07:14] 2D-grid search of purity and ploidy...
INFO [2025-04-21 21:07:15] Local optima: 0.62/1.9, 0.3/1.9, 0.32/2
INFO [2025-04-21 21:07:15] Testing local optimum 1/3 at purity 0.62 and total ploidy 1.90...
INFO [2025-04-21 21:07:15] Testing local optimum 2/3 at purity 0.30 and total ploidy 1.90...
INFO [2025-04-21 21:07:15] Recalibrating log-ratios...
INFO [2025-04-21 21:07:15] Testing local optimum 2/3 at purity 0.30 and total ploidy 1.90...
INFO [2025-04-21 21:07:15] Recalibrating log-ratios...
INFO [2025-04-21 21:07:15] Testing local optimum 2/3 at purity 0.30 and total ploidy 1.90...
INFO [2025-04-21 21:07:15] Recalibrating log-ratios...
INFO [2025-04-21 21:07:15] Testing local optimum 2/3 at purity 0.30 and total ploidy 1.90...
INFO [2025-04-21 21:07:15] Testing local optimum 3/3 at purity 0.32 and total ploidy 2.00...
INFO [2025-04-21 21:07:16] Recalibrating log-ratios...
INFO [2025-04-21 21:07:16] Testing local optimum 3/3 at purity 0.32 and total ploidy 2.00...
INFO [2025-04-21 21:07:16] Recalibrating log-ratios...
INFO [2025-04-21 21:07:16] Testing local optimum 3/3 at purity 0.32 and total ploidy 2.00...
INFO [2025-04-21 21:07:16] Recalibrating log-ratios...
INFO [2025-04-21 21:07:16] Testing local optimum 3/3 at purity 0.32 and total ploidy 2.00...
INFO [2025-04-21 21:07:16] Skipping 1 solutions that converged to the same optima.
INFO [2025-04-21 21:07:16] Skipping 1 solutions exceeding max.non.clonal (0.20): 0.3/1.9 (purity/tumor ploidy)
INFO [2025-04-21 21:07:16] Fitting variants with beta model for local optimum 1/3...
INFO [2025-04-21 21:07:16] Fitting variants for purity 0.65, tumor ploidy 1.74 and contamination 0.01.
INFO [2025-04-21 21:07:17] Optimized purity: 0.65
INFO [2025-04-21 21:07:17] Done.
INFO [2025-04-21 21:07:17] ------------------------------------------------------------
INFO [2025-04-21 21:07:17] ------------------------------------------------------------
INFO [2025-04-21 21:07:17] PureCN 2.14.0
INFO [2025-04-21 21:07:17] ------------------------------------------------------------
INFO [2025-04-21 21:07:17] Loading coverage files...
INFO [2025-04-21 21:07:17] Mean target coverages: 112X (tumor) 99X (normal).
WARN [2025-04-21 21:07:17] Allosome coverage missing, cannot determine sex.
WARN [2025-04-21 21:07:17] Allosome coverage missing, cannot determine sex.
INFO [2025-04-21 21:07:17] Removing 228 intervals with missing log.ratio.
INFO [2025-04-21 21:07:17] Removing 22 small (< 5bp) intervals.
INFO [2025-04-21 21:07:17] Removing 19 intervals with low total coverage in normal (< 150.00 reads).
WARN [2025-04-21 21:07:17] No normalDB provided. Provide one for better results.
INFO [2025-04-21 21:07:17] Removing 1724 low count (< 100 total reads) intervals.
INFO [2025-04-21 21:07:17] Removing 6 low coverage (< 15.0000X) intervals.
INFO [2025-04-21 21:07:17] Using 8050 intervals (8050 on-target, 0 off-target).
INFO [2025-04-21 21:07:17] No off-target intervals. If this is hybrid-capture data, consider adding them.
INFO [2025-04-21 21:07:17] No interval.file provided. Cannot check for any GC-biases.
INFO [2025-04-21 21:07:17] Loading VCF...
INFO [2025-04-21 21:07:17] Found 127 variants in VCF file.
WARN [2025-04-21 21:07:17] DP FORMAT field contains NAs. Removing 3 variants.
WARN [2025-04-21 21:07:17] DB INFO flag contains NAs
INFO [2025-04-21 21:07:17] 119 (96.0%) variants annotated as likely germline (DB INFO flag).
INFO [2025-04-21 21:07:17] LIB-02240e4 is tumor in VCF file.
INFO [2025-04-21 21:07:17] No homozygous variants in VCF, provide unfiltered VCF.
INFO [2025-04-21 21:07:17] Removing 0 low quality variants with non-offset BQ < 25.
INFO [2025-04-21 21:07:17] Base quality scores range from 29 to 35 (offset by 1)
INFO [2025-04-21 21:07:18] Minimum number of supporting reads ranges from 2 to 5, depending on coverage and BQS.
INFO [2025-04-21 21:07:18] Removing 1 variants with AF < 0.030 or AF >= 0.970 or insufficient supporting reads or depth < 15.
INFO [2025-04-21 21:07:18] Total size of targeted genomic region: 1.53Mb (2.33Mb with 50bp padding).
INFO [2025-04-21 21:07:18] 1.2% of targets contain variants.
INFO [2025-04-21 21:07:18] Setting somatic prior probabilities for likely germline hits to 0.000500 or to 0.500000 otherwise.
INFO [2025-04-21 21:07:18] Excluding 5 novel or poor quality variants from segmentation.
INFO [2025-04-21 21:07:18] Sample sex: ?
INFO [2025-04-21 21:07:18] Segmenting data...
INFO [2025-04-21 21:07:18] Loading pre-computed boundaries for DNAcopy...
INFO [2025-04-21 21:07:18] Setting undo.SD parameter to 1.000000.
Setting multi-figure configuration
INFO [2025-04-21 21:07:18] Setting prune.hclust.h parameter to 0.200000.
INFO [2025-04-21 21:07:18] Found 59 segments with median size of 17.67Mb.
INFO [2025-04-21 21:07:18] Using 123 variants.
INFO [2025-04-21 21:07:18] Mean standard deviation of log-ratios: 0.34 (MAPD: 0.30)
INFO [2025-04-21 21:07:18] 2D-grid search of purity and ploidy...
INFO [2025-04-21 21:07:19] Local optima: 0.62/1.9, 0.3/1.9, 0.32/2
INFO [2025-04-21 21:07:19] Testing local optimum 1/3 at purity 0.62 and total ploidy 1.90...
INFO [2025-04-21 21:07:19] Testing local optimum 2/3 at purity 0.30 and total ploidy 1.90...
INFO [2025-04-21 21:07:19] Recalibrating log-ratios...
INFO [2025-04-21 21:07:19] Testing local optimum 2/3 at purity 0.30 and total ploidy 1.90...
INFO [2025-04-21 21:07:19] Recalibrating log-ratios...
INFO [2025-04-21 21:07:19] Testing local optimum 2/3 at purity 0.30 and total ploidy 1.90...
INFO [2025-04-21 21:07:19] Recalibrating log-ratios...
INFO [2025-04-21 21:07:19] Testing local optimum 2/3 at purity 0.30 and total ploidy 1.90...
INFO [2025-04-21 21:07:19] Testing local optimum 3/3 at purity 0.32 and total ploidy 2.00...
INFO [2025-04-21 21:07:20] Recalibrating log-ratios...
INFO [2025-04-21 21:07:20] Testing local optimum 3/3 at purity 0.32 and total ploidy 2.00...
INFO [2025-04-21 21:07:20] Recalibrating log-ratios...
INFO [2025-04-21 21:07:20] Testing local optimum 3/3 at purity 0.32 and total ploidy 2.00...
INFO [2025-04-21 21:07:20] Recalibrating log-ratios...
INFO [2025-04-21 21:07:20] Testing local optimum 3/3 at purity 0.32 and total ploidy 2.00...
INFO [2025-04-21 21:07:20] Skipping 2 solutions exceeding max.non.clonal (0.20): 0.3/1.9, 0.35/1.61 (purity/tumor ploidy)
INFO [2025-04-21 21:07:20] Fitting variants with beta model for local optimum 1/3...
INFO [2025-04-21 21:07:20] Fitting variants for purity 0.65, tumor ploidy 1.75 and contamination 0.01.
INFO [2025-04-21 21:07:21] Optimized purity: 0.65
INFO [2025-04-21 21:07:21] Done.
INFO [2025-04-21 21:07:21] ------------------------------------------------------------
INFO [2025-04-21 21:07:21] ------------------------------------------------------------
INFO [2025-04-21 21:07:21] PureCN 2.14.0
INFO [2025-04-21 21:07:21] ------------------------------------------------------------
INFO [2025-04-21 21:07:21] Loading coverage files...
INFO [2025-04-21 21:07:21] Mean target coverages: 112X (tumor) 99X (normal).
WARN [2025-04-21 21:07:21] Allosome coverage missing, cannot determine sex.
WARN [2025-04-21 21:07:21] Allosome coverage missing, cannot determine sex.
INFO [2025-04-21 21:07:21] No Gene column in interval.file. You won't get gene-level calls.
INFO [2025-04-21 21:07:22] Removing 228 intervals with missing log.ratio.
INFO [2025-04-21 21:07:22] Removing 15 low/high GC targets.
INFO [2025-04-21 21:07:22] Removing 21 small (< 5bp) intervals.
INFO [2025-04-21 21:07:22] Removing 19 intervals with low total coverage in normal (< 150.00 reads).
WARN [2025-04-21 21:07:22] No normalDB provided. Provide one for better results.
INFO [2025-04-21 21:07:22] Removing 1718 low count (< 100 total reads) intervals.
INFO [2025-04-21 21:07:22] Removing 6 low coverage (< 15.0000X) intervals.
INFO [2025-04-21 21:07:22] Removing 36 low mappability intervals.
INFO [2025-04-21 21:07:22] Using 8006 intervals (8006 on-target, 0 off-target).
INFO [2025-04-21 21:07:22] No off-target intervals. If this is hybrid-capture data, consider adding them.
INFO [2025-04-21 21:07:22] AT/GC dropout: 1.01 (tumor), 1.03 (normal), 0.98 (coverage log-ratio).
INFO [2025-04-21 21:07:22] Loading VCF...
INFO [2025-04-21 21:07:22] Found 127 variants in VCF file.
INFO [2025-04-21 21:07:22] 127 (100.0%) variants annotated as likely germline (DB INFO flag).
INFO [2025-04-21 21:07:22] LIB-02240e4 is tumor in VCF file.
INFO [2025-04-21 21:07:22] No homozygous variants in VCF, provide unfiltered VCF.
INFO [2025-04-21 21:07:22] Removing 1 non heterozygous (in matched normal) germline SNPs.
INFO [2025-04-21 21:07:22] Removing 0 low quality variants with non-offset BQ < 25.
INFO [2025-04-21 21:07:22] Base quality scores range from 29 to 35 (offset by 1)
INFO [2025-04-21 21:07:22] Minimum number of supporting reads ranges from 2 to 5, depending on coverage and BQS.
INFO [2025-04-21 21:07:22] Removing 1 variants with AF < 0.030 or AF >= Inf or insufficient supporting reads or depth < 15.
INFO [2025-04-21 21:07:22] Total size of targeted genomic region: 1.51Mb (2.31Mb with 50bp padding).
INFO [2025-04-21 21:07:22] 1.2% of targets contain variants.
INFO [2025-04-21 21:07:22] Removing 11 variants outside intervals.
INFO [2025-04-21 21:07:22] Found SOMATIC annotation in VCF.
INFO [2025-04-21 21:07:22] Setting somatic prior probabilities for somatic variants to 0.999000 or to 0.000100 otherwise.
INFO [2025-04-21 21:07:22] Found SOMATIC annotation in VCF. Setting mapping bias to 0.970.
INFO [2025-04-21 21:07:23] Excluding 0 novel or poor quality variants from segmentation.
INFO [2025-04-21 21:07:23] Sample sex: ?
INFO [2025-04-21 21:07:23] Segmenting data...
INFO [2025-04-21 21:07:23] MAPD of 114 allelic fractions: 0.14 (0.15 adjusted).
INFO [2025-04-21 21:07:23] Using unweighted PSCBS.
INFO [2025-04-21 21:07:23] Setting undo.SD parameter to 1.000000.
INFO [2025-04-21 21:07:28] Setting prune.hclust.h parameter to 0.200000.
INFO [2025-04-21 21:07:28] Found 72 segments with median size of 27.25Mb.
INFO [2025-04-21 21:07:28] Using 114 variants.
INFO [2025-04-21 21:07:28] Mean standard deviation of log-ratios: 0.34 (MAPD: 0.30)
INFO [2025-04-21 21:07:28] 2D-grid search of purity and ploidy...
INFO [2025-04-21 21:07:28] Local optima: 0.65/1.8, 0.38/2.2
INFO [2025-04-21 21:07:28] Testing local optimum 1/2 at purity 0.65 and total ploidy 1.80...
INFO [2025-04-21 21:07:28] Recalibrating log-ratios...
INFO [2025-04-21 21:07:28] Testing local optimum 1/2 at purity 0.65 and total ploidy 1.80...
INFO [2025-04-21 21:07:29] Recalibrating log-ratios...
INFO [2025-04-21 21:07:29] Testing local optimum 1/2 at purity 0.65 and total ploidy 1.80...
INFO [2025-04-21 21:07:29] Recalibrating log-ratios...
INFO [2025-04-21 21:07:29] Testing local optimum 1/2 at purity 0.65 and total ploidy 1.80...
INFO [2025-04-21 21:07:29] Testing local optimum 2/2 at purity 0.38 and total ploidy 2.20...
INFO [2025-04-21 21:07:29] Skipping 1 solutions exceeding max.non.clonal (0.20): 0.65/2.05 (purity/tumor ploidy)
INFO [2025-04-21 21:07:29] Fitting variants with beta model for local optimum 2/2...
INFO [2025-04-21 21:07:29] Fitting variants for purity 0.40, tumor ploidy 2.55 and contamination 0.01.
INFO [2025-04-21 21:07:30] Optimized purity: 0.40
INFO [2025-04-21 21:07:30] Done.
INFO [2025-04-21 21:07:30] ------------------------------------------------------------
FATAL [2025-04-21 21:07:30] This function requires gene-level calls. Please add a column 'Gene'
FATAL [2025-04-21 21:07:30] containing gene symbols to the interval.file.
FATAL [2025-04-21 21:07:30]
FATAL [2025-04-21 21:07:30] This is most likely a user error due to invalid input data or
FATAL [2025-04-21 21:07:30] parameters (PureCN 2.14.0).
INFO [2025-04-21 21:07:31] ------------------------------------------------------------
INFO [2025-04-21 21:07:31] PureCN 2.14.0
INFO [2025-04-21 21:07:31] ------------------------------------------------------------
INFO [2025-04-21 21:07:31] Loading coverage files...
INFO [2025-04-21 21:07:31] Mean target coverages: 112X (tumor) 99X (normal).
WARN [2025-04-21 21:07:31] Allosome coverage missing, cannot determine sex.
WARN [2025-04-21 21:07:31] Allosome coverage missing, cannot determine sex.
INFO [2025-04-21 21:07:31] Removing 228 intervals with missing log.ratio.
INFO [2025-04-21 21:07:31] Removing 22 small (< 5bp) intervals.
INFO [2025-04-21 21:07:31] Removing 19 intervals with low total coverage in normal (< 150.00 reads).
WARN [2025-04-21 21:07:31] No normalDB provided. Provide one for better results.
INFO [2025-04-21 21:07:31] Removing 1724 low count (< 100 total reads) intervals.
INFO [2025-04-21 21:07:31] Removing 6 low coverage (< 15.0000X) intervals.
INFO [2025-04-21 21:07:31] Using 8050 intervals (8050 on-target, 0 off-target).
INFO [2025-04-21 21:07:31] No off-target intervals. If this is hybrid-capture data, consider adding them.
INFO [2025-04-21 21:07:31] No interval.file provided. Cannot check for any GC-biases.
INFO [2025-04-21 21:07:31] Loading VCF...
INFO [2025-04-21 21:07:31] Found 127 variants in VCF file.
INFO [2025-04-21 21:07:31] 127 (100.0%) variants annotated as likely germline (DB INFO flag).
FATAL [2025-04-21 21:07:31] Different chromosome names in coverage and VCF.
FATAL [2025-04-21 21:07:31]
FATAL [2025-04-21 21:07:31] This is most likely a user error due to invalid input data or
FATAL [2025-04-21 21:07:31] parameters (PureCN 2.14.0).
INFO [2025-04-21 21:07:31] ------------------------------------------------------------
INFO [2025-04-21 21:07:31] PureCN 2.14.0
INFO [2025-04-21 21:07:31] ------------------------------------------------------------
INFO [2025-04-21 21:07:31] Loading coverage files...
INFO [2025-04-21 21:07:31] Mean target coverages: 112X (tumor) 99X (normal).
WARN [2025-04-21 21:07:31] Allosome coverage missing, cannot determine sex.
WARN [2025-04-21 21:07:31] Allosome coverage missing, cannot determine sex.
FATAL [2025-04-21 21:07:31] tumor.coverage.file and interval.file do not align.
FATAL [2025-04-21 21:07:31]
FATAL [2025-04-21 21:07:31] This is most likely a user error due to invalid input data or
FATAL [2025-04-21 21:07:31] parameters (PureCN 2.14.0).
INFO [2025-04-21 21:07:31] ------------------------------------------------------------
INFO [2025-04-21 21:07:31] PureCN 2.14.0
INFO [2025-04-21 21:07:31] ------------------------------------------------------------
INFO [2025-04-21 21:07:31] Loading coverage files...
INFO [2025-04-21 21:07:32] Mean target coverages: 112X (tumor) 99X (normal).
WARN [2025-04-21 21:07:32] Allosome coverage missing, cannot determine sex.
WARN [2025-04-21 21:07:32] Allosome coverage missing, cannot determine sex.
INFO [2025-04-21 21:07:32] Removing 228 intervals with missing log.ratio.
INFO [2025-04-21 21:07:32] Removing 15 low/high GC targets.
INFO [2025-04-21 21:07:32] Removing 21 small (< 5bp) intervals.
INFO [2025-04-21 21:07:32] Removing 19 intervals with low total coverage in normal (< 150.00 reads).
WARN [2025-04-21 21:07:32] No normalDB provided. Provide one for better results.
INFO [2025-04-21 21:07:32] Removing 1718 low count (< 100 total reads) intervals.
INFO [2025-04-21 21:07:32] Removing 6 low coverage (< 15.0000X) intervals.
INFO [2025-04-21 21:07:32] Removing 36 low mappability intervals.
INFO [2025-04-21 21:07:32] Using 8006 intervals (8006 on-target, 0 off-target).
INFO [2025-04-21 21:07:32] No off-target intervals. If this is hybrid-capture data, consider adding them.
INFO [2025-04-21 21:07:32] AT/GC dropout: 1.01 (tumor), 1.03 (normal), 0.98 (coverage log-ratio).
INFO [2025-04-21 21:07:32] Loading VCF...
INFO [2025-04-21 21:07:32] Found 127 variants in VCF file.
INFO [2025-04-21 21:07:32] 127 (100.0%) variants annotated as likely germline (DB INFO flag).
INFO [2025-04-21 21:07:32] LIB-02240e4 is tumor in VCF file.
INFO [2025-04-21 21:07:32] No homozygous variants in VCF, provide unfiltered VCF.
INFO [2025-04-21 21:07:32] Removing 1 non heterozygous (in matched normal) germline SNPs.
INFO [2025-04-21 21:07:32] Removing 0 low quality variants with non-offset BQ < 25.
INFO [2025-04-21 21:07:32] Base quality scores range from 29 to 35 (offset by 1)
INFO [2025-04-21 21:07:32] Minimum number of supporting reads ranges from 2 to 5, depending on coverage and BQS.
INFO [2025-04-21 21:07:32] Removing 1 variants with AF < 0.030 or AF >= 1.000 or insufficient supporting reads or depth < 15.
INFO [2025-04-21 21:07:32] Total size of targeted genomic region: 1.51Mb (2.31Mb with 50bp padding).
INFO [2025-04-21 21:07:32] 1.2% of targets contain variants.
INFO [2025-04-21 21:07:32] Removing 11 variants outside intervals.
INFO [2025-04-21 21:07:32] Found SOMATIC annotation in VCF.
INFO [2025-04-21 21:07:32] Setting somatic prior probabilities for somatic variants to 0.999000 or to 0.000100 otherwise.
INFO [2025-04-21 21:07:32] Found SOMATIC annotation in VCF. Setting mapping bias to 0.970.
INFO [2025-04-21 21:07:32] Excluding 0 novel or poor quality variants from segmentation.
INFO [2025-04-21 21:07:32] Sample sex: ?
INFO [2025-04-21 21:07:32] Segmenting data...
INFO [2025-04-21 21:07:32] Loading pre-computed boundaries for DNAcopy...
INFO [2025-04-21 21:07:32] Setting undo.SD parameter to 1.000000.
INFO [2025-04-21 21:07:33] Setting prune.hclust.h parameter to 0.200000.
INFO [2025-04-21 21:07:33] Found 59 segments with median size of 17.67Mb.
INFO [2025-04-21 21:07:33] Using 114 variants.
INFO [2025-04-21 21:07:33] Mean standard deviation of log-ratios: 0.34 (MAPD: 0.30)
INFO [2025-04-21 21:07:33] 2D-grid search of purity and ploidy...
INFO [2025-04-21 21:07:33] Local optima: 0.63/1.9
INFO [2025-04-21 21:07:33] Testing local optimum 1/1 at purity 0.63 and total ploidy 1.90...
INFO [2025-04-21 21:07:34] Fitting variants with beta model for local optimum 1/1...
INFO [2025-04-21 21:07:34] Fitting variants for purity 0.65, tumor ploidy 1.75 and contamination 0.01.
INFO [2025-04-21 21:07:35] Optimized purity: 0.65
INFO [2025-04-21 21:07:35] Done.
INFO [2025-04-21 21:07:35] ------------------------------------------------------------
INFO [2025-04-21 21:07:35] ------------------------------------------------------------
INFO [2025-04-21 21:07:35] PureCN 2.14.0
INFO [2025-04-21 21:07:35] ------------------------------------------------------------
INFO [2025-04-21 21:07:35] Loading coverage files...
INFO [2025-04-21 21:07:35] Mean target coverages: 112X (tumor) 99X (normal).
WARN [2025-04-21 21:07:35] Allosome coverage missing, cannot determine sex.
WARN [2025-04-21 21:07:35] Allosome coverage missing, cannot determine sex.
INFO [2025-04-21 21:07:35] Removing 228 intervals with missing log.ratio.
INFO [2025-04-21 21:07:35] Removing 15 low/high GC targets.
INFO [2025-04-21 21:07:35] Removing 21 small (< 5bp) intervals.
INFO [2025-04-21 21:07:35] Removing 19 intervals with low total coverage in normal (< 150.00 reads).
WARN [2025-04-21 21:07:35] No normalDB provided. Provide one for better results.
INFO [2025-04-21 21:07:35] Removing 1718 low count (< 100 total reads) intervals.
INFO [2025-04-21 21:07:35] Removing 6 low coverage (< 15.0000X) intervals.
INFO [2025-04-21 21:07:35] Removing 36 low mappability intervals.
INFO [2025-04-21 21:07:35] Using 8006 intervals (8006 on-target, 0 off-target).
INFO [2025-04-21 21:07:35] No off-target intervals. If this is hybrid-capture data, consider adding them.
INFO [2025-04-21 21:07:35] AT/GC dropout: 1.01 (tumor), 1.03 (normal), 0.98 (coverage log-ratio).
INFO [2025-04-21 21:07:35] Loading VCF...
INFO [2025-04-21 21:07:35] Found 127 variants in VCF file.
INFO [2025-04-21 21:07:35] 127 (100.0%) variants annotated as likely germline (DB INFO flag).
INFO [2025-04-21 21:07:35] LIB-02240e4 is tumor in VCF file.
INFO [2025-04-21 21:07:35] No homozygous variants in VCF, provide unfiltered VCF.
INFO [2025-04-21 21:07:35] Removing 1 non heterozygous (in matched normal) germline SNPs.
INFO [2025-04-21 21:07:35] Removing 0 low quality variants with non-offset BQ < 25.
INFO [2025-04-21 21:07:35] Base quality scores range from 29 to 35 (offset by 1)
INFO [2025-04-21 21:07:35] Minimum number of supporting reads ranges from 2 to 5, depending on coverage and BQS.
INFO [2025-04-21 21:07:36] Removing 1 variants with AF < 0.030 or AF >= 1.000 or insufficient supporting reads or depth < 15.
INFO [2025-04-21 21:07:36] Total size of targeted genomic region: 1.51Mb (2.31Mb with 50bp padding).
INFO [2025-04-21 21:07:36] 1.2% of targets contain variants.
INFO [2025-04-21 21:07:36] Removing 11 variants outside intervals.
INFO [2025-04-21 21:07:36] Found SOMATIC annotation in VCF.
INFO [2025-04-21 21:07:36] Setting somatic prior probabilities for somatic variants to 0.999000 or to 0.000100 otherwise.
INFO [2025-04-21 21:07:36] Found SOMATIC annotation in VCF. Setting mapping bias to 0.970.
INFO [2025-04-21 21:07:36] Excluding 0 novel or poor quality variants from segmentation.
INFO [2025-04-21 21:07:36] Sample sex: ?
INFO [2025-04-21 21:07:36] Segmenting data...
INFO [2025-04-21 21:07:36] Loading pre-computed boundaries for DNAcopy...
INFO [2025-04-21 21:07:36] Setting undo.SD parameter to 1.000000.
INFO [2025-04-21 21:07:36] Setting prune.hclust.h parameter to 0.200000.
INFO [2025-04-21 21:07:36] Found 59 segments with median size of 17.67Mb.
INFO [2025-04-21 21:07:36] Using 114 variants.
INFO [2025-04-21 21:07:36] Mean standard deviation of log-ratios: 0.34 (MAPD: 0.30)
INFO [2025-04-21 21:07:36] 2D-grid search of purity and ploidy...
INFO [2025-04-21 21:07:36] Local optima: 0.63/1.9
INFO [2025-04-21 21:07:36] Testing local optimum 1/1 at purity 0.63 and total ploidy 1.90...
INFO [2025-04-21 21:07:37] Fitting variants with beta model for local optimum 1/1...
WARN [2025-04-21 21:07:37] Some gene symbols found on multiple chromosomes. Use of approved symbols suggested.
INFO [2025-04-21 21:07:37] Fitting variants for purity 0.65, tumor ploidy 1.75 and contamination 0.01.
INFO [2025-04-21 21:07:38] Optimized purity: 0.65
INFO [2025-04-21 21:07:38] Done.
INFO [2025-04-21 21:07:38] ------------------------------------------------------------
FATAL [2025-04-21 21:07:38] chr1 not valid chromosome name(s). Valid names are:
FATAL [2025-04-21 21:07:38] 1,2,3,4,5,6,7,8,9,10,11,12,13,14,15,16,17,18,19,20,21,22
FATAL [2025-04-21 21:07:38]
FATAL [2025-04-21 21:07:38] This is most likely a user error due to invalid input data or
FATAL [2025-04-21 21:07:38] parameters (PureCN 2.14.0).
INFO [2025-04-21 21:07:38] ------------------------------------------------------------
INFO [2025-04-21 21:07:38] PureCN 2.14.0
INFO [2025-04-21 21:07:38] ------------------------------------------------------------
INFO [2025-04-21 21:07:38] Loading coverage files...
WARN [2025-04-21 21:07:38] Provided sampleid (Sample2) does not match Sample1 found in segmentation.
WARN [2025-04-21 21:07:38] Allosome coverage missing, cannot determine sex.
WARN [2025-04-21 21:07:38] Allosome coverage missing, cannot determine sex.
INFO [2025-04-21 21:07:38] Removing 10 intervals with missing log.ratio.
INFO [2025-04-21 21:07:38] Using 10039 intervals (10039 on-target, 0 off-target).
INFO [2025-04-21 21:07:38] No off-target intervals. If this is hybrid-capture data, consider adding them.
INFO [2025-04-21 21:07:38] Loading VCF...
INFO [2025-04-21 21:07:38] Found 127 variants in VCF file.
INFO [2025-04-21 21:07:38] 127 (100.0%) variants annotated as likely germline (DB INFO flag).
INFO [2025-04-21 21:07:38] LIB-02240e4 is tumor in VCF file.
INFO [2025-04-21 21:07:38] No homozygous variants in VCF, provide unfiltered VCF.
INFO [2025-04-21 21:07:38] Removing 1 non heterozygous (in matched normal) germline SNPs.
INFO [2025-04-21 21:07:38] Removing 0 low quality variants with non-offset BQ < 25.
INFO [2025-04-21 21:07:38] Base quality scores range from 29 to 35 (offset by 1)
INFO [2025-04-21 21:07:38] Minimum number of supporting reads ranges from 2 to 5, depending on coverage and BQS.
INFO [2025-04-21 21:07:38] Removing 1 variants with AF < 0.030 or AF >= 1.000 or insufficient supporting reads or depth < 15.
INFO [2025-04-21 21:07:38] Total size of targeted genomic region: 1.71Mb (2.70Mb with 50bp padding).
INFO [2025-04-21 21:07:38] 1.0% of targets contain variants.
INFO [2025-04-21 21:07:38] Removing 0 variants outside intervals.
INFO [2025-04-21 21:07:38] Found SOMATIC annotation in VCF.
INFO [2025-04-21 21:07:38] Setting somatic prior probabilities for somatic variants to 0.999000 or to 0.000100 otherwise.
INFO [2025-04-21 21:07:38] Found SOMATIC annotation in VCF. Setting mapping bias to 0.976.
INFO [2025-04-21 21:07:38] Excluding 0 novel or poor quality variants from segmentation.
INFO [2025-04-21 21:07:38] Sample sex: ?
INFO [2025-04-21 21:07:38] Segmenting data...
INFO [2025-04-21 21:07:38] Loaded provided segmentation file example_seg.txt (format DNAcopy).
WARN [2025-04-21 21:07:38] Provided sampleid (Sample2) does not match Sample1 found in segmentation.
INFO [2025-04-21 21:07:38] Re-centering provided segment means (offset -0.0033).
INFO [2025-04-21 21:07:38] Loading pre-computed boundaries for DNAcopy...
INFO [2025-04-21 21:07:38] Setting undo.SD parameter to 0.000000.
Setting multi-figure configuration
INFO [2025-04-21 21:07:38] Setting prune.hclust.h parameter to 0.200000.
INFO [2025-04-21 21:07:39] Found 54 segments with median size of 24.88Mb.
INFO [2025-04-21 21:07:39] Using 125 variants.
INFO [2025-04-21 21:07:39] Mean standard deviation of log-ratios: 0.40 (MAPD: 0.00)
INFO [2025-04-21 21:07:39] 2D-grid search of purity and ploidy...
INFO [2025-04-21 21:07:39] Local optima: 0.6/1.9
INFO [2025-04-21 21:07:39] Testing local optimum 1/1 at purity 0.60 and total ploidy 1.90...
INFO [2025-04-21 21:07:39] Fitting variants with beta model for local optimum 1/1...
INFO [2025-04-21 21:07:39] Fitting variants for purity 0.65, tumor ploidy 1.74 and contamination 0.01.
INFO [2025-04-21 21:07:40] Optimized purity: 0.65
INFO [2025-04-21 21:07:40] Done.
INFO [2025-04-21 21:07:40] ------------------------------------------------------------
WARN [2025-04-21 21:07:40] Allosome coverage missing, cannot determine sex.
WARN [2025-04-21 21:07:40] Allosome coverage missing, cannot determine sex.
Setting multi-figure configuration
FATAL [2025-04-21 21:07:43] Segmentation file expected with colnames ID, chrom, loc.start, loc.end,
FATAL [2025-04-21 21:07:43] num.mark, seg.mean
FATAL [2025-04-21 21:07:43]
FATAL [2025-04-21 21:07:43] This is most likely a user error due to invalid input data or
FATAL [2025-04-21 21:07:43] parameters (PureCN 2.14.0).
FATAL [2025-04-21 21:07:43] seg.file contains multiple samples and sampleid missing.
FATAL [2025-04-21 21:07:43]
FATAL [2025-04-21 21:07:43] This is most likely a user error due to invalid input data or
FATAL [2025-04-21 21:07:43] parameters (PureCN 2.14.0).
FATAL [2025-04-21 21:07:43] seg.file contains multiple samples and sampleid does not match any.
FATAL [2025-04-21 21:07:43]
FATAL [2025-04-21 21:07:43] This is most likely a user error due to invalid input data or
FATAL [2025-04-21 21:07:43] parameters (PureCN 2.14.0).
WARN [2025-04-21 21:07:43] Allosome coverage missing, cannot determine sex.
WARN [2025-04-21 21:07:43] Allosome coverage missing, cannot determine sex.
WARN [2025-04-21 21:07:46] Allosome coverage missing, cannot determine sex.
WARN [2025-04-21 21:07:46] Allosome coverage missing, cannot determine sex.
WARN [2025-04-21 21:07:46] Provided sampleid (example_tumor.txt.gz) does not match Sample1 found in segmentation.
WARN [2025-04-21 21:07:47] Allosome coverage missing, cannot determine sex.
WARN [2025-04-21 21:07:47] Allosome coverage missing, cannot determine sex.
WARN [2025-04-21 21:07:47] No normalDB provided. Provide one for better results.
WARN [2025-04-21 21:07:50] Allosome coverage missing, cannot determine sex.
WARN [2025-04-21 21:07:50] Allosome coverage missing, cannot determine sex.
WARN [2025-04-21 21:07:51] Provided sampleid (Sample.1) does not match Sample1 found in segmentation.
Setting multi-figure configuration
WARN [2025-04-21 21:07:53] Allosome coverage missing, cannot determine sex.
WARN [2025-04-21 21:07:53] Allosome coverage missing, cannot determine sex.
WARN [2025-04-21 21:07:53] No normalDB provided. Provide one for better results.
WARN [2025-04-21 21:07:53] Sampleid looks like a normal in VCF, not like a tumor.
WARN [2025-04-21 21:07:56] Allosome coverage missing, cannot determine sex.
WARN [2025-04-21 21:07:56] Allosome coverage missing, cannot determine sex.
FATAL [2025-04-21 21:07:56] normalDB not a valid normalDB object. Use createNormalDatabase to
FATAL [2025-04-21 21:07:56] create one.
FATAL [2025-04-21 21:07:56]
FATAL [2025-04-21 21:07:56] This is most likely a user error due to invalid input data or
FATAL [2025-04-21 21:07:56] parameters (PureCN 2.14.0).
WARN [2025-04-21 21:07:56] You are likely not using the correct baits file!
WARN [2025-04-21 21:07:56] Allosome coverage missing, cannot determine sex.
WARN [2025-04-21 21:07:56] Allosome coverage missing, cannot determine sex.
WARN [2025-04-21 21:07:57] Allosome coverage missing, cannot determine sex.
WARN [2025-04-21 21:07:57] Allosome coverage missing, cannot determine sex.
FATAL [2025-04-21 21:07:57] normalDB appears to be empty.
FATAL [2025-04-21 21:07:57]
FATAL [2025-04-21 21:07:57] This is most likely a user error due to invalid input data or
FATAL [2025-04-21 21:07:57] parameters (PureCN 2.14.0).
WARN [2025-04-21 21:07:57] Allosome coverage missing, cannot determine sex.
WARN [2025-04-21 21:07:57] Allosome coverage missing, cannot determine sex.
WARN [2025-04-21 21:07:57] Intervals in coverage and interval.file have conflicting on/off-target annotation.
WARN [2025-04-21 21:08:01] Allosome coverage missing, cannot determine sex.
WARN [2025-04-21 21:08:01] Allosome coverage missing, cannot determine sex.
FATAL [2025-04-21 21:08:01] Seqlevels missing in provided segmentation: 6
FATAL [2025-04-21 21:08:01]
FATAL [2025-04-21 21:08:01] This is most likely a user error due to invalid input data or
FATAL [2025-04-21 21:08:01] parameters (PureCN 2.14.0).
sh: gatk: command not found
WARN [2025-04-21 21:08:02] Cannot find gatk binary in path.
WARN [2025-04-21 21:08:02] Allosome coverage missing, cannot determine sex.
WARN [2025-04-21 21:08:02] Allosome coverage missing, cannot determine sex.
WARN [2025-04-21 21:08:02] No normalDB provided. Provide one for better results.
FATAL [2025-04-21 21:08:02] segmentationHclust requires an input segmentation.
FATAL [2025-04-21 21:08:02]
FATAL [2025-04-21 21:08:02] This is most likely a user error due to invalid input data or
FATAL [2025-04-21 21:08:02] parameters (PureCN 2.14.0).
WARN [2025-04-21 21:08:02] Allosome coverage missing, cannot determine sex.
WARN [2025-04-21 21:08:02] Allosome coverage missing, cannot determine sex.
WARN [2025-04-21 21:08:02] No normalDB provided. Provide one for better results.
FATAL [2025-04-21 21:08:11] The normal.panel.vcf.file contains only a single sample.
FATAL [2025-04-21 21:08:11]
FATAL [2025-04-21 21:08:11] This is most likely a user error due to invalid input data or
FATAL [2025-04-21 21:08:11] parameters (PureCN 2.14.0).
FATAL [2025-04-21 21:08:11] mapping.bias.file must be a file with *.rds suffix.
FATAL [2025-04-21 21:08:11]
FATAL [2025-04-21 21:08:11] This is most likely a user error due to invalid input data or
FATAL [2025-04-21 21:08:11] parameters (PureCN 2.14.0).
Failed with error: 'there is no package called 'genomicsdb''
FATAL [2025-04-21 21:08:12] min.normals (0) must be >= 1.
FATAL [2025-04-21 21:08:12]
FATAL [2025-04-21 21:08:12] This is most likely a user error due to invalid input data or
FATAL [2025-04-21 21:08:12] parameters (PureCN 2.14.0).
FATAL [2025-04-21 21:08:12] min.normals (10) cannot be larger than min.normals.assign.betafit (3).
FATAL [2025-04-21 21:08:12]
FATAL [2025-04-21 21:08:12] This is most likely a user error due to invalid input data or
FATAL [2025-04-21 21:08:12] parameters (PureCN 2.14.0).
FATAL [2025-04-21 21:08:12] min.normals.assign.betafit (10) cannot be larger than
FATAL [2025-04-21 21:08:12] min.normals.betafit (7).
FATAL [2025-04-21 21:08:12]
FATAL [2025-04-21 21:08:12] This is most likely a user error due to invalid input data or
FATAL [2025-04-21 21:08:12] parameters (PureCN 2.14.0).
FATAL [2025-04-21 21:08:12] min.normals.betafit (20) cannot be larger than
FATAL [2025-04-21 21:08:12] min.normals.position.specific.fit (10).
FATAL [2025-04-21 21:08:12]
FATAL [2025-04-21 21:08:12] This is most likely a user error due to invalid input data or
FATAL [2025-04-21 21:08:12] parameters (PureCN 2.14.0).
FATAL [2025-04-21 21:08:12] min.betafit.rho not within expected range or format.
FATAL [2025-04-21 21:08:12]
FATAL [2025-04-21 21:08:12] This is most likely a user error due to invalid input data or
FATAL [2025-04-21 21:08:12] parameters (PureCN 2.14.0).
FATAL [2025-04-21 21:08:12] max.betafit.rho not within expected range or format.
FATAL [2025-04-21 21:08:12]
FATAL [2025-04-21 21:08:12] This is most likely a user error due to invalid input data or
FATAL [2025-04-21 21:08:12] parameters (PureCN 2.14.0).
FATAL [2025-04-21 21:08:12] min.betafit.rho (0.9) cannot be larger than max.betafit.rho (0.2).
FATAL [2025-04-21 21:08:12]
FATAL [2025-04-21 21:08:12] This is most likely a user error due to invalid input data or
FATAL [2025-04-21 21:08:12] parameters (PureCN 2.14.0).
[ FAIL 0 | WARN 13 | SKIP 2 | PASS 405 ]
══ Skipped tests (2) ═══════════════════════════════════════════════════════════
• gatk binary > 4.1.7.0 required (1): 'test_segmentation.R:25:4'
• genomicsdb required (1): 'test_setMappingBiasVcf.R:45:5'
[ FAIL 0 | WARN 13 | SKIP 2 | PASS 405 ]
>
> proc.time()
user system elapsed
141.659 5.189 133.832
PureCN.Rcheck/PureCN-Ex.timings
| name | user | system | elapsed | |
| adjustLogRatio | 0.841 | 0.016 | 0.877 | |
| annotateTargets | 2.409 | 0.098 | 2.560 | |
| bootstrapResults | 0.207 | 0.015 | 0.231 | |
| calculateBamCoverageByInterval | 0.069 | 0.002 | 0.081 | |
| calculateLogRatio | 0.236 | 0.020 | 0.265 | |
| calculateMappingBiasGatk4 | 0 | 0 | 0 | |
| calculateMappingBiasVcf | 0.648 | 0.021 | 0.689 | |
| calculatePowerDetectSomatic | 0.502 | 0.008 | 0.512 | |
| calculateTangentNormal | 1.540 | 0.022 | 1.565 | |
| callAlterations | 0.055 | 0.003 | 0.057 | |
| callAlterationsFromSegmentation | 0.543 | 0.016 | 0.553 | |
| callAmplificationsInLowPurity | 13.257 | 0.178 | 13.283 | |
| callCIN | 0.089 | 0.002 | 0.092 | |
| callLOH | 0.078 | 0.003 | 0.080 | |
| callMutationBurden | 0.609 | 0.020 | 0.632 | |
| centromeres | 0.000 | 0.001 | 0.002 | |
| correctCoverageBias | 0.597 | 0.016 | 0.615 | |
| createCurationFile | 0.152 | 0.005 | 0.164 | |
| createNormalDatabase | 0.841 | 0.015 | 0.886 | |
| filterIntervals | 7.669 | 0.211 | 7.550 | |
| filterVcfBasic | 0.237 | 0.005 | 0.242 | |
| filterVcfMuTect | 0.220 | 0.003 | 0.224 | |
| filterVcfMuTect2 | 0.240 | 0.007 | 0.256 | |
| findFocal | 3.757 | 0.032 | 3.804 | |
| findHighQualitySNPs | 0.608 | 0.010 | 0.618 | |
| getSexFromCoverage | 0.098 | 0.005 | 0.103 | |
| getSexFromVcf | 0.093 | 0.005 | 0.099 | |
| plotAbs | 0.091 | 0.003 | 0.094 | |
| poolCoverage | 0.231 | 0.010 | 0.240 | |
| predictSomatic | 0.172 | 0.002 | 0.178 | |
| preprocessIntervals | 0.232 | 0.004 | 0.245 | |
| processMultipleSamples | 0.868 | 0.017 | 0.900 | |
| readAllelicCountsFile | 0.204 | 0.001 | 0.206 | |
| readCoverageFile | 0.091 | 0.003 | 0.094 | |
| readCurationFile | 0.088 | 0.003 | 0.093 | |
| readIntervalFile | 0.059 | 0.002 | 0.060 | |
| readLogRatioFile | 0.009 | 0.001 | 0.010 | |
| readSegmentationFile | 0.003 | 0.000 | 0.003 | |
| runAbsoluteCN | 6.333 | 0.154 | 6.512 | |
| segmentationCBS | 2.806 | 0.043 | 2.876 | |
| segmentationGATK4 | 0.001 | 0.000 | 0.001 | |
| segmentationHclust | 5.135 | 0.103 | 5.240 | |
| segmentationPSCBS | 8.998 | 0.151 | 9.174 | |
| setMappingBiasVcf | 0.117 | 0.002 | 0.119 | |
| setPriorVcf | 0.101 | 0.003 | 0.105 | |