| Back to Multiple platform build/check report for BioC 3.21: simplified long |
|
This page was generated on 2025-06-16 11:42 -0400 (Mon, 16 Jun 2025).
| Hostname | OS | Arch (*) | R version | Installed pkgs |
|---|---|---|---|---|
| nebbiolo1 | Linux (Ubuntu 24.04.2 LTS) | x86_64 | 4.5.0 RC (2025-04-04 r88126) -- "How About a Twenty-Six" | 4838 |
| palomino7 | Windows Server 2022 Datacenter | x64 | 4.5.0 RC (2025-04-04 r88126 ucrt) -- "How About a Twenty-Six" | 4578 |
| merida1 | macOS 12.7.5 Monterey | x86_64 | 4.5.0 RC (2025-04-04 r88126) -- "How About a Twenty-Six" | 4602 |
| kjohnson1 | macOS 13.6.6 Ventura | arm64 | 4.5.0 RC (2025-04-04 r88129) -- "How About a Twenty-Six" | 4556 |
| kunpeng2 | Linux (openEuler 24.03 LTS) | aarch64 | R Under development (unstable) (2025-02-19 r87757) -- "Unsuffered Consequences" | 4576 |
| Click on any hostname to see more info about the system (e.g. compilers) (*) as reported by 'uname -p', except on Windows and Mac OS X | ||||
| Package 1572/2341 | Hostname | OS / Arch | INSTALL | BUILD | CHECK | BUILD BIN | ||||||||
| PhenStat 2.44.0 (landing page) Hamed Haselimashhadi
| nebbiolo1 | Linux (Ubuntu 24.04.2 LTS) / x86_64 | OK | OK | OK | |||||||||
| palomino7 | Windows Server 2022 Datacenter / x64 | OK | OK | OK | OK | |||||||||
| merida1 | macOS 12.7.5 Monterey / x86_64 | OK | OK | OK | OK | |||||||||
| kjohnson1 | macOS 13.6.6 Ventura / arm64 | OK | OK | OK | OK | |||||||||
| kunpeng2 | Linux (openEuler 24.03 LTS) / aarch64 | OK | OK | OK | ||||||||||
|
To the developers/maintainers of the PhenStat package: - Allow up to 24 hours (and sometimes 48 hours) for your latest push to git@git.bioconductor.org:packages/PhenStat.git to reflect on this report. See Troubleshooting Build Report for more information. - Use the following Renviron settings to reproduce errors and warnings. - If 'R CMD check' started to fail recently on the Linux builder(s) over a missing dependency, add the missing dependency to 'Suggests:' in your DESCRIPTION file. See Renviron.bioc for more information. |
| Package: PhenStat |
| Version: 2.44.0 |
| Command: E:\biocbuild\bbs-3.21-bioc\R\bin\R.exe CMD check --no-multiarch --install=check:PhenStat.install-out.txt --library=E:\biocbuild\bbs-3.21-bioc\R\library --no-vignettes --timings PhenStat_2.44.0.tar.gz |
| StartedAt: 2025-06-13 05:17:33 -0400 (Fri, 13 Jun 2025) |
| EndedAt: 2025-06-13 05:20:26 -0400 (Fri, 13 Jun 2025) |
| EllapsedTime: 173.3 seconds |
| RetCode: 0 |
| Status: OK |
| CheckDir: PhenStat.Rcheck |
| Warnings: 0 |
##############################################################################
##############################################################################
###
### Running command:
###
### E:\biocbuild\bbs-3.21-bioc\R\bin\R.exe CMD check --no-multiarch --install=check:PhenStat.install-out.txt --library=E:\biocbuild\bbs-3.21-bioc\R\library --no-vignettes --timings PhenStat_2.44.0.tar.gz
###
##############################################################################
##############################################################################
* using log directory 'E:/biocbuild/bbs-3.21-bioc/meat/PhenStat.Rcheck'
* using R version 4.5.0 RC (2025-04-04 r88126 ucrt)
* using platform: x86_64-w64-mingw32
* R was compiled by
gcc.exe (GCC) 14.2.0
GNU Fortran (GCC) 14.2.0
* running under: Windows Server 2022 x64 (build 20348)
* using session charset: UTF-8
* using option '--no-vignettes'
* checking for file 'PhenStat/DESCRIPTION' ... OK
* checking extension type ... Package
* this is package 'PhenStat' version '2.44.0'
* checking package namespace information ... OK
* checking package dependencies ... OK
* checking if this is a source package ... OK
* checking if there is a namespace ... OK
* checking for hidden files and directories ... OK
* checking for portable file names ... OK
* checking whether package 'PhenStat' can be installed ... OK
* checking installed package size ... OK
* checking package directory ... OK
* checking 'build' directory ... OK
* checking DESCRIPTION meta-information ... OK
* checking top-level files ... OK
* checking for left-over files ... OK
* checking index information ... OK
* checking package subdirectories ... OK
* checking code files for non-ASCII characters ... OK
* checking R files for syntax errors ... OK
* checking whether the package can be loaded ... OK
* checking whether the package can be loaded with stated dependencies ... OK
* checking whether the package can be unloaded cleanly ... OK
* checking whether the namespace can be loaded with stated dependencies ... OK
* checking whether the namespace can be unloaded cleanly ... OK
* checking whether startup messages can be suppressed ... OK
* checking dependencies in R code ... NOTE
Namespace in Imports field not imported from: 'SmoothWin'
All declared Imports should be used.
* checking S3 generic/method consistency ... OK
* checking replacement functions ... OK
* checking foreign function calls ... OK
* checking R code for possible problems ... OK
* checking Rd files ... NOTE
checkRd: (-1) plot.PhenList.Rd:49-53: Lost braces
49 | \item boxplotSexGenotype. See documentations for {
| ^
checkRd: (-1) plot.PhenList.Rd:54-58: Lost braces
54 | \item boxplotSexGenotypeBatchAdjusted. See documentations for {
| ^
checkRd: (-1) plot.PhenList.Rd:59-63: Lost braces
59 | \item boxplotSexGenotypeWeightBatchAdjusted. See documentations for {
| ^
checkRd: (-1) plot.PhenList.Rd:64-68: Lost braces
64 | \item scatterplotSexGenotypeBatch. See documentations for {
| ^
checkRd: (-1) plot.PhenList.Rd:69-73: Lost braces
69 | \item scatterplotGenotypeWeight. See documentations for {
| ^
checkRd: (-1) plot.PhenList.Rd:74-78: Lost braces
74 | \item boxplotSexGenotypeBatch. See documentations for {
| ^
checkRd: (-1) plot.PhenTestResult.Rd:41-45: Lost braces
41 | \item boxplotSexGenotypeResult. See documentations for {
| ^
checkRd: (-1) plot.PhenTestResult.Rd:46-50: Lost braces
46 | \item scatterplotSexGenotypeBatchResult. See documentations for {
| ^
checkRd: (-1) plot.PhenTestResult.Rd:51-55: Lost braces
51 | \item scatterplotGenotypeWeightResult. See documentations for {
| ^
checkRd: (-1) plot.PhenTestResult.Rd:56-60: Lost braces
56 | \item plotResidualPredicted. See documentations for {
| ^
checkRd: (-1) plot.PhenTestResult.Rd:61-65: Lost braces
61 | \item qqplotRandomEffects. See documentations for {
| ^
checkRd: (-1) plot.PhenTestResult.Rd:66-70: Lost braces
66 | \item boxplotResidualBatch. See documentations for {
| ^
checkRd: (-1) plot.PhenTestResult.Rd:71-75: Lost braces
71 | \item qqplotRotatedResiduals. See documentations for {
| ^
checkRd: (-1) plot.PhenTestResult.Rd:76-80: Lost braces
76 | \item qqplotGenotype. See documentations for {
| ^
checkRd: (-1) plot.PhenTestResult.Rd:81-85: Lost braces
81 | \item categoricalBarplot. See documentations for {
| ^
checkRd: (-1) qqplotRotatedResiduals.Rd:18: Lost braces
18 | Houseman, E. A., Ryan, L. M., Coull, B. A. (2004): Cholesky residuals for assessing normal errors in a linear model with correlated outcomes. \emph{Journal of the American Statistical Association} \bold{99}{466}: pg 383-394. Doi 10.1198
| ^
* checking Rd metadata ... OK
* checking Rd cross-references ... OK
* checking for missing documentation entries ... OK
* checking for code/documentation mismatches ... OK
* checking Rd \usage sections ... NOTE
Documented arguments not in \usage in Rd file 'printLROutput.Rd':
'effectValues'
Functions with \usage entries need to have the appropriate \alias
entries, and all their arguments documented.
The \usage entries must correspond to syntactically valid R code.
See chapter 'Writing R documentation files' in the 'Writing R
Extensions' manual.
* checking Rd contents ... NOTE
Argument items with no description in Rd file 'plot.PhenList.Rd':
'\dots'
Argument items with no description in Rd file 'plot.PhenTestResult.Rd':
'\dots'
* checking for unstated dependencies in examples ... OK
* checking sizes of PDF files under 'inst/doc' ... OK
* checking installed files from 'inst/doc' ... OK
* checking files in 'vignettes' ... OK
* checking examples ... OK
Examples with CPU (user + system) or elapsed time > 5s
user system elapsed
qqplotRotatedResiduals 5 0.08 5.08
* checking for unstated dependencies in 'tests' ... OK
* checking tests ...
Running 'runTests.R'
OK
* checking for unstated dependencies in vignettes ... OK
* checking package vignettes ... OK
* checking running R code from vignettes ... SKIPPED
* checking re-building of vignette outputs ... SKIPPED
* checking PDF version of manual ... OK
* DONE
Status: 4 NOTEs
See
'E:/biocbuild/bbs-3.21-bioc/meat/PhenStat.Rcheck/00check.log'
for details.
PhenStat.Rcheck/00install.out
############################################################################## ############################################################################## ### ### Running command: ### ### E:\biocbuild\bbs-3.21-bioc\R\bin\R.exe CMD INSTALL PhenStat ### ############################################################################## ############################################################################## * installing to library 'E:/biocbuild/bbs-3.21-bioc/R/library' * installing *source* package 'PhenStat' ... ** this is package 'PhenStat' version '2.44.0' ** using staged installation ** R ** inst ** byte-compile and prepare package for lazy loading ** help *** installing help indices ** building package indices ** installing vignettes ** testing if installed package can be loaded from temporary location ** testing if installed package can be loaded from final location ** testing if installed package keeps a record of temporary installation path * DONE (PhenStat)
PhenStat.Rcheck/tests/runTests.Rout
R version 4.5.0 RC (2025-04-04 r88126 ucrt) -- "How About a Twenty-Six"
Copyright (C) 2025 The R Foundation for Statistical Computing
Platform: x86_64-w64-mingw32/x64
R is free software and comes with ABSOLUTELY NO WARRANTY.
You are welcome to redistribute it under certain conditions.
Type 'license()' or 'licence()' for distribution details.
R is a collaborative project with many contributors.
Type 'contributors()' for more information and
'citation()' on how to cite R or R packages in publications.
Type 'demo()' for some demos, 'help()' for on-line help, or
'help.start()' for an HTML browser interface to help.
Type 'q()' to quit R.
> BiocGenerics:::testPackage("PhenStat")
>=========================================================================<
This version of PhenStat includes *FEWER* functions than the previous ones
You *still* can use the previous functions by using `:::`. For example :
PhenStat:::boxplotSexGenotype or PhenStat:::FisherExactTest
*** Want to know what is new in this version? run PhenStat:::WhatIsNew()
>=========================================================================<
RUNIT TEST PROTOCOL -- Fri Jun 13 05:20:12 2025
***********************************************
Number of test functions: 0
Number of errors: 0
Number of failures: 0
1 Test Suite :
PhenStat RUnit Tests - 0 test functions, 0 errors, 0 failures
Number of test functions: 0
Number of errors: 0
Number of failures: 0
>
> proc.time()
user system elapsed
3.53 0.51 4.03
PhenStat.Rcheck/PhenStat-Ex.timings
| name | user | system | elapsed | |
| FisherExactTest | 0.36 | 0.03 | 0.40 | |
| JSONOutput | 1.33 | 0.10 | 1.42 | |
| LRDataset | 0.06 | 0.01 | 0.10 | |
| PhenList-class | 0.29 | 0.00 | 0.28 | |
| PhenList | 0.23 | 0.00 | 0.23 | |
| PhenStatReport | 0.03 | 0.00 | 0.03 | |
| PhenTestResult-class | 1.06 | 0.00 | 1.07 | |
| PhenTestResult | 0.85 | 0.03 | 0.87 | |
| RRTest | 0.11 | 0.00 | 0.11 | |
| TFDataset | 0.31 | 0.05 | 0.36 | |
| analysedDataset | 1.17 | 0.06 | 1.23 | |
| analysisResults | 0.95 | 0.02 | 0.97 | |
| boxplotResidualBatch | 0.88 | 0.03 | 0.91 | |
| boxplotSexGenotype | 0.10 | 0.00 | 0.11 | |
| boxplotSexGenotypeBatch | 0.16 | 0.05 | 0.20 | |
| boxplotSexGenotypeBatchAdjusted | 0.11 | 0.00 | 0.11 | |
| boxplotSexGenotypeResult | 1.19 | 0.03 | 1.22 | |
| boxplotSexGenotypeWeightBatchAdjusted | 0.08 | 0.00 | 0.07 | |
| categoricalBarplot | 0.14 | 0.01 | 0.16 | |
| checkDataset | 0.06 | 0.00 | 0.06 | |
| classificationTag | 1.00 | 0.05 | 1.05 | |
| determiningLambda | 0.87 | 0.25 | 1.13 | |
| dim | 0.05 | 0.00 | 0.04 | |
| finalLRModel | 0.84 | 0.06 | 0.94 | |
| finalModel | 0.85 | 0.02 | 0.86 | |
| finalTFModel | 0.62 | 0.05 | 0.67 | |
| htestPhenStat-class | 0.18 | 0.01 | 0.19 | |
| modelFormula | 0 | 0 | 0 | |
| modelFormulaLR | 0 | 0 | 0 | |
| parserOutputSummary | 1.10 | 0.02 | 1.12 | |
| parserOutputSummaryLR | 0.69 | 0.03 | 0.72 | |
| parserOutputTFSummary | 0.14 | 0.00 | 0.14 | |
| performReverseTransformation | 0 | 0 | 0 | |
| performTransformation | 0 | 0 | 0 | |
| plot.PhenList | 3.28 | 0.08 | 3.36 | |
| plot.PhenTestResult | 2.94 | 0.11 | 3.04 | |
| plotResidualPredicted | 0.92 | 0.03 | 0.96 | |
| printLROutput | 0.61 | 0.03 | 0.64 | |
| printTabStyle | 0 | 0 | 0 | |
| qqplotGenotype | 1.03 | 0.00 | 1.03 | |
| qqplotRandomEffects | 0.94 | 0.00 | 0.95 | |
| qqplotRotatedResiduals | 5.00 | 0.08 | 5.08 | |
| recommendMethod | 0.22 | 0.00 | 0.22 | |
| scatterplotGenotypeWeight | 0.11 | 0.01 | 0.12 | |
| scatterplotGenotypeWeightResult | 1.01 | 0.06 | 1.08 | |
| scatterplotSexGenotypeBatch | 0.08 | 0.00 | 0.08 | |
| scatterplotSexGenotypeBatchResult | 1.06 | 0.04 | 1.11 | |
| startLRModel | 0.60 | 0.00 | 0.59 | |
| startModel | 0.93 | 0.00 | 0.94 | |
| startTFModel | 0.42 | 0.04 | 0.47 | |
| summaryOutput | 1.58 | 0.05 | 1.63 | |
| summaryPhenListResult | 1.00 | 0.08 | 1.07 | |
| testDataset | 3.27 | 0.09 | 3.36 | |
| testFinalLRModel | 0.81 | 0.02 | 0.83 | |
| testFinalModel | 1.16 | 0.03 | 1.19 | |
| vectorOutput | 1.26 | 0.01 | 1.28 | |
| vectorOutputMatrices | 0.14 | 0.00 | 0.14 | |