Back to Multiple platform build/check report for BioC 3.22:   simplified   long
ABCDEFGHIJKLMN[O]PQRSTUVWXYZ

This page was generated on 2025-11-12 11:58 -0500 (Wed, 12 Nov 2025).

HostnameOSArch (*)R versionInstalled pkgs
nebbiolo2Linux (Ubuntu 24.04.3 LTS)x86_644.5.1 Patched (2025-08-23 r88802) -- "Great Square Root" 4902
taishanLinux (openEuler 24.03 LTS)aarch644.5.0 (2025-04-11) -- "How About a Twenty-Six" 4668
Click on any hostname to see more info about the system (e.g. compilers)      (*) as reported by 'uname -p', except on Windows and Mac OS X

Package 1533/2361HostnameOS / ArchINSTALLBUILDCHECKBUILD BIN
OUTRIDER 1.28.0  (landing page)
Christian Mertes
Snapshot Date: 2025-11-11 13:45 -0500 (Tue, 11 Nov 2025)
git_url: https://git.bioconductor.org/packages/OUTRIDER
git_branch: RELEASE_3_22
git_last_commit: 5a0b0f3
git_last_commit_date: 2025-10-29 10:46:21 -0500 (Wed, 29 Oct 2025)
nebbiolo2Linux (Ubuntu 24.04.3 LTS) / x86_64  OK    OK    OK  UNNEEDED, same version is already published
taishanLinux (openEuler 24.03 LTS) / aarch64  OK    OK    OK  


CHECK results for OUTRIDER on taishan

To the developers/maintainers of the OUTRIDER package:
- Allow up to 24 hours (and sometimes 48 hours) for your latest push to git@git.bioconductor.org:packages/OUTRIDER.git to reflect on this report. See Troubleshooting Build Report for more information.
- Use the following Renviron settings to reproduce errors and warnings.
- If 'R CMD check' started to fail recently on the Linux builder(s) over a missing dependency, add the missing dependency to 'Suggests:' in your DESCRIPTION file. See Renviron.bioc for more information.
- See Martin Grigorov's blog post for how to debug Linux ARM64 related issues on a x86_64 host.

raw results


Summary

Package: OUTRIDER
Version: 1.28.0
Command: /home/biocbuild/R/R/bin/R CMD check --install=check:OUTRIDER.install-out.txt --library=/home/biocbuild/R/R/site-library --no-vignettes --timings OUTRIDER_1.28.0.tar.gz
StartedAt: 2025-11-11 12:48:30 -0000 (Tue, 11 Nov 2025)
EndedAt: 2025-11-11 12:59:28 -0000 (Tue, 11 Nov 2025)
EllapsedTime: 658.6 seconds
RetCode: 0
Status:   OK  
CheckDir: OUTRIDER.Rcheck
Warnings: 0

Command output

##############################################################################
##############################################################################
###
### Running command:
###
###   /home/biocbuild/R/R/bin/R CMD check --install=check:OUTRIDER.install-out.txt --library=/home/biocbuild/R/R/site-library --no-vignettes --timings OUTRIDER_1.28.0.tar.gz
###
##############################################################################
##############################################################################


* using log directory ‘/home/biocbuild/bbs-3.22-bioc/meat/OUTRIDER.Rcheck’
* using R version 4.5.0 (2025-04-11)
* using platform: aarch64-unknown-linux-gnu
* R was compiled by
    aarch64-unknown-linux-gnu-gcc (GCC) 14.2.0
    GNU Fortran (GCC) 14.2.0
* running under: openEuler 24.03 (LTS)
* using session charset: UTF-8
* using option ‘--no-vignettes’
* checking for file ‘OUTRIDER/DESCRIPTION’ ... OK
* checking extension type ... Package
* this is package ‘OUTRIDER’ version ‘1.28.0’
* package encoding: UTF-8
* checking package namespace information ... OK
* checking package dependencies ... INFO
Imports includes 23 non-default packages.
Importing from so many packages makes the package vulnerable to any of
them becoming unavailable.  Move as many as possible to Suggests and
use conditionally.
* checking if this is a source package ... OK
* checking if there is a namespace ... OK
* checking for hidden files and directories ... OK
* checking for portable file names ... OK
* checking for sufficient/correct file permissions ... OK
* checking whether package ‘OUTRIDER’ can be installed ... OK
* used C++ compiler: ‘aarch64-unknown-linux-gnu-g++ (GCC) 14.2.0’
* checking installed package size ... OK
* checking package directory ... OK
* checking ‘build’ directory ... OK
* checking DESCRIPTION meta-information ... OK
* checking top-level files ... OK
* checking for left-over files ... OK
* checking index information ... OK
* checking package subdirectories ... OK
* checking code files for non-ASCII characters ... OK
* checking R files for syntax errors ... OK
* checking whether the package can be loaded ... OK
* checking whether the package can be loaded with stated dependencies ... OK
* checking whether the package can be unloaded cleanly ... OK
* checking whether the namespace can be loaded with stated dependencies ... OK
* checking whether the namespace can be unloaded cleanly ... OK
* checking loading without being on the library search path ... OK
* checking dependencies in R code ... NOTE
Unexported object imported by a ':::' call: 'ggbio:::.buildFacetsFromArgs'
  See the note in ?`:::` about the use of this operator.
There are ::: calls to the package's namespace in its code. A package
  almost never needs to use ::: for its own objects:
  'checkOutriderDataSet'
* checking S3 generic/method consistency ... OK
* checking replacement functions ... OK
* checking foreign function calls ... OK
* checking R code for possible problems ... NOTE
estimateBestQ: no visible binding for global variable ‘oht’
plotEncDimSearch.OUTRIDER: no visible binding for global variable ‘oht’
plotEncDimSearch.OUTRIDER: no visible binding for global variable
  ‘singular_values’
plotEncDimSearch,OutriderDataSet: no visible binding for global
  variable ‘oht’
plotEncDimSearch,OutriderDataSet: no visible binding for global
  variable ‘singular_values’
Undefined global functions or variables:
  oht singular_values
* checking Rd files ... OK
* checking Rd metadata ... OK
* checking Rd cross-references ... NOTE
Non-topic package-anchored link(s) in Rd file 'getter_setter_functions.Rd':
  ‘[DESeq2]{estimateDispersions}’

Non-topic package-anchored link(s) in Rd file 'sizeFactors.Rd':
  ‘[DESeq2]{estimateSizeFactors}’

See section 'Cross-references' in the 'Writing R Extensions' manual.
* checking for missing documentation entries ... OK
* checking for code/documentation mismatches ... OK
* checking Rd \usage sections ... OK
* checking Rd contents ... OK
* checking for unstated dependencies in examples ... OK
* checking line endings in C/C++/Fortran sources/headers ... OK
* checking line endings in Makefiles ... OK
* checking compilation flags in Makevars ... OK
* checking for GNU extensions in Makefiles ... OK
* checking for portable use of $(BLAS_LIBS) and $(LAPACK_LIBS) ... OK
* checking use of PKG_*FLAGS in Makefiles ... OK
* checking compiled code ... NOTE
Note: information on .o files is not available
* checking files in ‘vignettes’ ... OK
* checking examples ... OK
Examples with CPU (user + system) or elapsed time > 5s
                 user system elapsed
plotFunctions  23.853  0.335  25.134
estimateBestQ  17.375  0.662  18.087
OUTRIDER       13.174  3.458  15.571
computePvalues  2.942  2.720   3.984
* checking for unstated dependencies in ‘tests’ ... OK
* checking tests ...
  Running ‘testthat.R’
 OK
* checking for unstated dependencies in vignettes ... OK
* checking package vignettes ... OK
* checking running R code from vignettes ... SKIPPED
* checking re-building of vignette outputs ... SKIPPED
* checking PDF version of manual ... OK
* DONE

Status: 4 NOTEs
See
  ‘/home/biocbuild/bbs-3.22-bioc/meat/OUTRIDER.Rcheck/00check.log’
for details.


Installation output

OUTRIDER.Rcheck/00install.out

##############################################################################
##############################################################################
###
### Running command:
###
###   /home/biocbuild/R/R/bin/R CMD INSTALL OUTRIDER
###
##############################################################################
##############################################################################


* installing to library ‘/home/biocbuild/R/R-4.5.0/site-library’
* installing *source* package ‘OUTRIDER’ ...
** this is package ‘OUTRIDER’ version ‘1.28.0’
** using staged installation
** libs
using C++ compiler: ‘aarch64-unknown-linux-gnu-g++ (GCC) 14.2.0’
/opt/ohpc/pub/compiler/gcc/14.2.0/bin/aarch64-unknown-linux-gnu-g++ -std=gnu++17 -I"/home/biocbuild/R/R-4.5.0/include" -DNDEBUG  -I'/home/biocbuild/R/R-4.5.0/site-library/Rcpp/include' -I'/home/biocbuild/R/R-4.5.0/site-library/RcppArmadillo/include' -I/usr/local/include   -fopenmp -DARMA_DONT_USE_OPENMP -fPIC  -g -O2  -Wall -Werror=format-security  -c RcppExports.cpp -o RcppExports.o
/opt/ohpc/pub/compiler/gcc/14.2.0/bin/aarch64-unknown-linux-gnu-g++ -std=gnu++17 -I"/home/biocbuild/R/R-4.5.0/include" -DNDEBUG  -I'/home/biocbuild/R/R-4.5.0/site-library/Rcpp/include' -I'/home/biocbuild/R/R-4.5.0/site-library/RcppArmadillo/include' -I/usr/local/include   -fopenmp -DARMA_DONT_USE_OPENMP -fPIC  -g -O2  -Wall -Werror=format-security  -c loss_n_gradient_functions.cpp -o loss_n_gradient_functions.o
/opt/ohpc/pub/compiler/gcc/14.2.0/bin/aarch64-unknown-linux-gnu-g++ -std=gnu++17 -shared -L/home/biocbuild/R/R-4.5.0/lib -L/usr/local/lib -o OUTRIDER.so RcppExports.o loss_n_gradient_functions.o -fopenmp -lopenblas -lgfortran -lm -L/home/biocbuild/R/R-4.5.0/lib -lR
installing to /home/biocbuild/R/R-4.5.0/site-library/00LOCK-OUTRIDER/00new/OUTRIDER/libs
** R
** inst
** byte-compile and prepare package for lazy loading
** help
*** installing help indices
** building package indices
** installing vignettes
** testing if installed package can be loaded from temporary location
** checking absolute paths in shared objects and dynamic libraries
** testing if installed package can be loaded from final location
** testing if installed package keeps a record of temporary installation path
* DONE (OUTRIDER)

Tests output

OUTRIDER.Rcheck/tests/testthat.Rout


R version 4.5.0 (2025-04-11) -- "How About a Twenty-Six"
Copyright (C) 2025 The R Foundation for Statistical Computing
Platform: aarch64-unknown-linux-gnu

R is free software and comes with ABSOLUTELY NO WARRANTY.
You are welcome to redistribute it under certain conditions.
Type 'license()' or 'licence()' for distribution details.

R is a collaborative project with many contributors.
Type 'contributors()' for more information and
'citation()' on how to cite R or R packages in publications.

Type 'demo()' for some demos, 'help()' for on-line help, or
'help.start()' for an HTML browser interface to help.
Type 'q()' to quit R.

> library(testthat)
> library(OUTRIDER)
Loading required package: BiocParallel
Loading required package: GenomicFeatures
Loading required package: BiocGenerics
Loading required package: generics

Attaching package: 'generics'

The following objects are masked from 'package:base':

    as.difftime, as.factor, as.ordered, intersect, is.element, setdiff,
    setequal, union


Attaching package: 'BiocGenerics'

The following objects are masked from 'package:stats':

    IQR, mad, sd, var, xtabs

The following objects are masked from 'package:base':

    Filter, Find, Map, Position, Reduce, anyDuplicated, aperm, append,
    as.data.frame, basename, cbind, colnames, dirname, do.call,
    duplicated, eval, evalq, get, grep, grepl, is.unsorted, lapply,
    mapply, match, mget, order, paste, pmax, pmax.int, pmin, pmin.int,
    rank, rbind, rownames, sapply, saveRDS, table, tapply, unique,
    unsplit, which.max, which.min

Loading required package: S4Vectors
Loading required package: stats4

Attaching package: 'S4Vectors'

The following object is masked from 'package:utils':

    findMatches

The following objects are masked from 'package:base':

    I, expand.grid, unname

Loading required package: IRanges
Loading required package: Seqinfo
Loading required package: GenomicRanges
Loading required package: AnnotationDbi
Loading required package: Biobase
Welcome to Bioconductor

    Vignettes contain introductory material; view with
    'browseVignettes()'. To cite Bioconductor, see
    'citation("Biobase")', and for packages 'citation("pkgname")'.

Loading required package: SummarizedExperiment
Loading required package: MatrixGenerics
Loading required package: matrixStats

Attaching package: 'matrixStats'

The following objects are masked from 'package:Biobase':

    anyMissing, rowMedians


Attaching package: 'MatrixGenerics'

The following objects are masked from 'package:matrixStats':

    colAlls, colAnyNAs, colAnys, colAvgsPerRowSet, colCollapse,
    colCounts, colCummaxs, colCummins, colCumprods, colCumsums,
    colDiffs, colIQRDiffs, colIQRs, colLogSumExps, colMadDiffs,
    colMads, colMaxs, colMeans2, colMedians, colMins, colOrderStats,
    colProds, colQuantiles, colRanges, colRanks, colSdDiffs, colSds,
    colSums2, colTabulates, colVarDiffs, colVars, colWeightedMads,
    colWeightedMeans, colWeightedMedians, colWeightedSds,
    colWeightedVars, rowAlls, rowAnyNAs, rowAnys, rowAvgsPerColSet,
    rowCollapse, rowCounts, rowCummaxs, rowCummins, rowCumprods,
    rowCumsums, rowDiffs, rowIQRDiffs, rowIQRs, rowLogSumExps,
    rowMadDiffs, rowMads, rowMaxs, rowMeans2, rowMedians, rowMins,
    rowOrderStats, rowProds, rowQuantiles, rowRanges, rowRanks,
    rowSdDiffs, rowSds, rowSums2, rowTabulates, rowVarDiffs, rowVars,
    rowWeightedMads, rowWeightedMeans, rowWeightedMedians,
    rowWeightedSds, rowWeightedVars

The following object is masked from 'package:Biobase':

    rowMedians

> 
> register(SerialParam())
> 
> test_check("OUTRIDER")
[1] "Tue Nov 11 12:57:47 2025: Initial PCA loss: 6.46213921781732"
[1] "Tue Nov 11 12:57:49 2025: Iteration: 1 loss: 4.64443411052119"
[1] "Tue Nov 11 12:57:50 2025: Iteration: 2 loss: 4.58343040574028"
[1] "Tue Nov 11 12:57:51 2025: Iteration: 3 loss: 4.54902780573008"
[1] "Tue Nov 11 12:57:52 2025: Iteration: 4 loss: 4.53763373261577"
[1] "Tue Nov 11 12:57:52 2025: Iteration: 5 loss: 4.53547414161822"
[1] "Tue Nov 11 12:57:53 2025: Iteration: 6 loss: 4.53449689837124"
Time difference of 5.243145 secs
[1] "Tue Nov 11 12:57:53 2025: 6 Final nb-AE loss: 4.53449689837124"
[1] "Tue Nov 11 12:57:55 2025: Initial PCA loss: 6.46213921781732"
[1] "Tue Nov 11 12:57:56 2025: Iteration: 1 loss: 4.64443411052119"
[1] "Tue Nov 11 12:57:57 2025: Iteration: 2 loss: 4.58343040574028"
[1] "Tue Nov 11 12:57:58 2025: Iteration: 3 loss: 4.54902780573008"
[1] "Tue Nov 11 12:57:59 2025: Iteration: 4 loss: 4.53763373261577"
[1] "Tue Nov 11 12:58:00 2025: Iteration: 5 loss: 4.53547414161822"
[1] "Tue Nov 11 12:58:01 2025: Iteration: 6 loss: 4.53449689837124"
Time difference of 5.808613 secs
[1] "Tue Nov 11 12:58:01 2025: 6 Final nb-AE loss: 4.53449689837124"
class: OutriderDataSet
class: RangedSummarizedExperiment 
dim: 100 50 
metadata(1): version
assays(1): counts
rownames(100): ENSG00000223972.4 ENSG00000227232.4 ...
  ENSG00000107404.13 ENSG00000162576.12
rowData names(0):
colnames(50): GTEX.UPK5.0426.SM.3GAEK GTEX.WFG7.2026.SM.3GIL7 ...
  GTEX.11UD2.2526.SM.5CVNU GTEX.13O61.1426.SM.5KM3D
colData names(1): sampleID
[1] "Tue Nov 11 12:58:09 2025: Initial PCA loss: 4.48895029072378"
[1] "Tue Nov 11 12:58:11 2025: Iteration: 1 loss: 4.14199737109651"
[1] "Tue Nov 11 12:58:12 2025: Iteration: 2 loss: 4.09584364175868"
Time difference of 1.924167 secs
[1] "Tue Nov 11 12:58:12 2025: 2 Final nb-AE loss: 4.09584364175868"
[1] "Evaluation loss: 0.503918948050632 for q=3"
[1] "Tue Nov 11 12:58:13 2025: Initial PCA loss: 4.44670844549085"
[1] "Tue Nov 11 12:58:15 2025: Iteration: 1 loss: 4.01241509274774"
[1] "Tue Nov 11 12:58:16 2025: Iteration: 2 loss: 3.99094393027308"
Time difference of 2.087559 secs
[1] "Tue Nov 11 12:58:16 2025: 2 Final nb-AE loss: 3.99094393027308"
[1] "Evaluation loss: 0.461609291602518 for q=4"
[1] "Tue Nov 11 12:58:17 2025: Initial PCA loss: 4.41938554243652"
[1] "Tue Nov 11 12:58:19 2025: Iteration: 1 loss: 3.92718268926911"
[1] "Tue Nov 11 12:58:20 2025: Iteration: 2 loss: 3.90302027197845"
Time difference of 1.849376 secs
[1] "Tue Nov 11 12:58:20 2025: 2 Final nb-AE loss: 3.90302027197845"
[1] "Evaluation loss: 0.513923008404874 for q=5"
Optimal encoding dimension: 4 
Optimal encoding dimension: 50 
Optimal encoding dimension: 20 
Optimal encoding dimension: 2 
Optimal encoding dimension: 4 
[1] "Tue Nov 11 12:58:53 2025: Initial PCA loss: 7.16457134714849"
[1] "Tue Nov 11 12:58:55 2025: Iteration: 1 loss: 6.82914904822917"
[1] "Tue Nov 11 12:58:56 2025: Iteration: 2 loss: 6.82749374530494"
Time difference of 2.149682 secs
[1] "Tue Nov 11 12:58:56 2025: 2 Final nb-AE loss: 6.82749374530494"
[ FAIL 0 | WARN 12 | SKIP 0 | PASS 131 ]

[ FAIL 0 | WARN 12 | SKIP 0 | PASS 131 ]
> 
> proc.time()
   user  system elapsed 
115.011   1.721 118.426 

Example timings

OUTRIDER.Rcheck/OUTRIDER-Ex.timings

nameusersystemelapsed
OUTRIDER13.174 3.45815.571
OutriderDataSet-class1.0570.1591.222
aberrant2.6211.0712.655
computeGeneLength1.9960.2802.286
computeLatentSpace1.1570.1071.279
computePvalues2.9422.7203.984
computeZscores1.2610.3031.569
controlForConfounders1.6390.2722.131
counts0.7950.0590.857
estimateBestQ17.375 0.66218.087
filterExpression2.0840.0642.218
fit1.2980.0351.337
fpkm1.1310.0401.177
getter_setter_functions4.3580.0554.500
makeExampleOutriderDataSet1.5620.0071.665
normalizationFactors1.0570.0001.059
plotFunctions23.853 0.33525.134
results4.9470.0044.969
sampleExclusionMask0.6730.0000.682
sizeFactors0.9510.0010.958