| Back to Multiple platform build/check report for BioC 3.22: simplified long |
|
This page was generated on 2025-11-12 11:58 -0500 (Wed, 12 Nov 2025).
| Hostname | OS | Arch (*) | R version | Installed pkgs |
|---|---|---|---|---|
| nebbiolo2 | Linux (Ubuntu 24.04.3 LTS) | x86_64 | 4.5.1 Patched (2025-08-23 r88802) -- "Great Square Root" | 4902 |
| taishan | Linux (openEuler 24.03 LTS) | aarch64 | 4.5.0 (2025-04-11) -- "How About a Twenty-Six" | 4668 |
| Click on any hostname to see more info about the system (e.g. compilers) (*) as reported by 'uname -p', except on Windows and Mac OS X | ||||
| Package 1430/2361 | Hostname | OS / Arch | INSTALL | BUILD | CHECK | BUILD BIN | ||||||||
| MutationalPatterns 3.20.0 (landing page) Mark van Roosmalen
| nebbiolo2 | Linux (Ubuntu 24.04.3 LTS) / x86_64 | OK | OK | ERROR | |||||||||
| taishan | Linux (openEuler 24.03 LTS) / aarch64 | OK | OK | ERROR | ||||||||||
|
To the developers/maintainers of the MutationalPatterns package: - Allow up to 24 hours (and sometimes 48 hours) for your latest push to git@git.bioconductor.org:packages/MutationalPatterns.git to reflect on this report. See Troubleshooting Build Report for more information. - Use the following Renviron settings to reproduce errors and warnings. - If 'R CMD check' started to fail recently on the Linux builder(s) over a missing dependency, add the missing dependency to 'Suggests:' in your DESCRIPTION file. See Renviron.bioc for more information. |
| Package: MutationalPatterns |
| Version: 3.20.0 |
| Command: /home/biocbuild/bbs-3.22-bioc/R/bin/R CMD check --install=check:MutationalPatterns.install-out.txt --library=/home/biocbuild/bbs-3.22-bioc/R/site-library --timings MutationalPatterns_3.20.0.tar.gz |
| StartedAt: 2025-11-12 02:02:38 -0500 (Wed, 12 Nov 2025) |
| EndedAt: 2025-11-12 02:22:49 -0500 (Wed, 12 Nov 2025) |
| EllapsedTime: 1210.3 seconds |
| RetCode: 1 |
| Status: ERROR |
| CheckDir: MutationalPatterns.Rcheck |
| Warnings: NA |
##############################################################################
##############################################################################
###
### Running command:
###
### /home/biocbuild/bbs-3.22-bioc/R/bin/R CMD check --install=check:MutationalPatterns.install-out.txt --library=/home/biocbuild/bbs-3.22-bioc/R/site-library --timings MutationalPatterns_3.20.0.tar.gz
###
##############################################################################
##############################################################################
* using log directory ‘/home/biocbuild/bbs-3.22-bioc/meat/MutationalPatterns.Rcheck’
* using R version 4.5.1 Patched (2025-08-23 r88802)
* using platform: x86_64-pc-linux-gnu
* R was compiled by
gcc (Ubuntu 13.3.0-6ubuntu2~24.04) 13.3.0
GNU Fortran (Ubuntu 13.3.0-6ubuntu2~24.04) 13.3.0
* running under: Ubuntu 24.04.3 LTS
* using session charset: UTF-8
* checking for file ‘MutationalPatterns/DESCRIPTION’ ... OK
* checking extension type ... Package
* this is package ‘MutationalPatterns’ version ‘3.20.0’
* package encoding: UTF-8
* checking package namespace information ... OK
* checking package dependencies ... OK
* checking if this is a source package ... OK
* checking if there is a namespace ... OK
* checking for hidden files and directories ... OK
* checking for portable file names ... OK
* checking for sufficient/correct file permissions ... OK
* checking whether package ‘MutationalPatterns’ can be installed ... OK
* checking installed package size ... OK
* checking package directory ... OK
* checking ‘build’ directory ... OK
* checking DESCRIPTION meta-information ... NOTE
License stub is invalid DCF.
* checking top-level files ... OK
* checking for left-over files ... OK
* checking index information ... OK
* checking package subdirectories ... OK
* checking code files for non-ASCII characters ... OK
* checking R files for syntax errors ... OK
* checking whether the package can be loaded ... OK
* checking whether the package can be loaded with stated dependencies ... OK
* checking whether the package can be unloaded cleanly ... OK
* checking whether the namespace can be loaded with stated dependencies ... OK
* checking whether the namespace can be unloaded cleanly ... OK
* checking loading without being on the library search path ... OK
* checking dependencies in R code ... OK
* checking S3 generic/method consistency ... OK
* checking replacement functions ... OK
* checking foreign function calls ... OK
* checking R code for possible problems ... OK
* checking Rd files ... OK
* checking Rd metadata ... OK
* checking Rd cross-references ... OK
* checking for missing documentation entries ... OK
* checking for code/documentation mismatches ... OK
* checking Rd \usage sections ... OK
* checking Rd contents ... OK
* checking for unstated dependencies in examples ... OK
* checking files in ‘vignettes’ ... OK
* checking examples ... OK
Examples with CPU (user + system) or elapsed time > 5s
user system elapsed
context_potential_damage_analysis 23.593 0.635 24.230
read_vcfs_as_granges 21.041 2.594 28.828
plot_lesion_segregation 17.032 0.076 17.109
get_mut_type 11.050 0.052 11.102
bin_mutation_density 10.176 0.776 10.952
plot_compare_indels 10.713 0.010 10.723
calculate_lesion_segregation 10.323 0.155 10.478
plot_indel_contexts 10.274 0.081 10.356
genomic_distribution 9.948 0.182 10.132
plot_compare_dbs 6.921 0.043 6.965
get_indel_context 6.411 0.247 6.658
plot_spectrum_region 6.244 0.045 6.290
fit_to_signatures_bootstrapped 6.180 0.043 6.223
plot_spectrum 6.149 0.051 6.200
plot_river 5.610 0.023 5.633
plot_profile_heatmap 5.427 0.032 5.460
mut_matrix_stranded 5.008 0.160 5.168
plot_dbs_contexts 5.024 0.011 5.035
* checking for unstated dependencies in ‘tests’ ... OK
* checking tests ...
Running ‘testthat.R’
ERROR
Running the tests in ‘tests/testthat.R’ failed.
Last 13 lines of output:
382/1728 mismatches (average diff: 1.45)
[68] 2 - 1 == 1
[69] 4 - 3 == 1
[70] 5 - 6 == -1
[71] 2 - 1 == 1
[72] 1 - 0 == 1
[74] 3 - 2 == 1
[77] 4 - 3 == 1
[78] 2 - 1 == 1
[79] 1 - 0 == 1
...
[ FAIL 3 | WARN 41 | SKIP 0 | PASS 471 ]
Error: Test failures
Execution halted
* checking for unstated dependencies in vignettes ... OK
* checking package vignettes ... OK
* checking re-building of vignette outputs ... OK
* checking PDF version of manual ... OK
* DONE
Status: 1 ERROR, 1 NOTE
See
‘/home/biocbuild/bbs-3.22-bioc/meat/MutationalPatterns.Rcheck/00check.log’
for details.
MutationalPatterns.Rcheck/00install.out
############################################################################## ############################################################################## ### ### Running command: ### ### /home/biocbuild/bbs-3.22-bioc/R/bin/R CMD INSTALL MutationalPatterns ### ############################################################################## ############################################################################## * installing to library ‘/home/biocbuild/bbs-3.22-bioc/R/site-library’ * installing *source* package ‘MutationalPatterns’ ... ** this is package ‘MutationalPatterns’ version ‘3.20.0’ ** using staged installation ** R ** inst ** byte-compile and prepare package for lazy loading ** help *** installing help indices ** building package indices ** installing vignettes ** testing if installed package can be loaded from temporary location ** testing if installed package can be loaded from final location ** testing if installed package keeps a record of temporary installation path * DONE (MutationalPatterns)
MutationalPatterns.Rcheck/tests/testthat.Rout.fail
R version 4.5.1 Patched (2025-08-23 r88802) -- "Great Square Root"
Copyright (C) 2025 The R Foundation for Statistical Computing
Platform: x86_64-pc-linux-gnu
R is free software and comes with ABSOLUTELY NO WARRANTY.
You are welcome to redistribute it under certain conditions.
Type 'license()' or 'licence()' for distribution details.
R is a collaborative project with many contributors.
Type 'contributors()' for more information and
'citation()' on how to cite R or R packages in publications.
Type 'demo()' for some demos, 'help()' for on-line help, or
'help.start()' for an HTML browser interface to help.
Type 'q()' to quit R.
> library(testthat)
> library(MutationalPatterns)
Loading required package: GenomicRanges
Loading required package: stats4
Loading required package: BiocGenerics
Loading required package: generics
Attaching package: 'generics'
The following objects are masked from 'package:base':
as.difftime, as.factor, as.ordered, intersect, is.element, setdiff,
setequal, union
Attaching package: 'BiocGenerics'
The following objects are masked from 'package:stats':
IQR, mad, sd, var, xtabs
The following objects are masked from 'package:base':
Filter, Find, Map, Position, Reduce, anyDuplicated, aperm, append,
as.data.frame, basename, cbind, colnames, dirname, do.call,
duplicated, eval, evalq, get, grep, grepl, is.unsorted, lapply,
mapply, match, mget, order, paste, pmax, pmax.int, pmin, pmin.int,
rank, rbind, rownames, sapply, saveRDS, table, tapply, unique,
unsplit, which.max, which.min
Loading required package: S4Vectors
Attaching package: 'S4Vectors'
The following object is masked from 'package:utils':
findMatches
The following objects are masked from 'package:base':
I, expand.grid, unname
Loading required package: IRanges
Loading required package: Seqinfo
Loading required package: NMF
Loading required package: registry
Loading required package: rngtools
Loading required package: cluster
NMF - BioConductor layer [OK] | Shared memory capabilities [NO: bigmemory] | Cores 2/2
To enable shared memory capabilities, try: install.extras('
NMF
')
Attaching package: 'NMF'
The following object is masked from 'package:S4Vectors':
nrun
The following object is masked from 'package:generics':
fit
The following object is masked from 'package:testthat':
compare
>
> test_check("MutationalPatterns")
[ FAIL 3 | WARN 41 | SKIP 0 | PASS 471 ]
══ Failed tests ════════════════════════════════════════════════════════════════
── Failure ('test-context_potential_damage_analysis.R:46:3'): Output is equal to expected ──
`output` not equal to `expected`.
Component "n": Mean relative difference: 0.09452736
Component "ratio": Mean relative difference: 0.06150134
Component "blosum62": Mean relative difference: 0.2656804
── Failure ('test-mut_matrix_stranded.R:20:3'): transforms correctly ───────────
`output` not equal to `expected`.
382/1728 mismatches (average diff: 1.45)
[68] 2 - 1 == 1
[69] 4 - 3 == 1
[70] 5 - 6 == -1
[71] 2 - 1 == 1
[72] 1 - 0 == 1
[74] 3 - 2 == 1
[77] 4 - 3 == 1
[78] 2 - 1 == 1
[79] 1 - 0 == 1
...
── Failure ('test-mut_matrix_stranded.R:29:3'): a list is also acceptable input ──
`output_list` not equal to `expected`.
382/1728 mismatches (average diff: 1.45)
[68] 2 - 1 == 1
[69] 4 - 3 == 1
[70] 5 - 6 == -1
[71] 2 - 1 == 1
[72] 1 - 0 == 1
[74] 3 - 2 == 1
[77] 4 - 3 == 1
[78] 2 - 1 == 1
[79] 1 - 0 == 1
...
[ FAIL 3 | WARN 41 | SKIP 0 | PASS 471 ]
Error: Test failures
Execution halted
MutationalPatterns.Rcheck/MutationalPatterns-Ex.timings
| name | user | system | elapsed | |
| bin_mutation_density | 10.176 | 0.776 | 10.952 | |
| binomial_test | 0.008 | 0.000 | 0.009 | |
| calculate_lesion_segregation | 10.323 | 0.155 | 10.478 | |
| cluster_signatures | 0.049 | 0.001 | 0.051 | |
| context_potential_damage_analysis | 23.593 | 0.635 | 24.230 | |
| convert_sigs_to_ref | 0.041 | 0.001 | 0.043 | |
| cos_sim | 0 | 0 | 0 | |
| cos_sim_matrix | 0.018 | 0.002 | 0.019 | |
| count_dbs_contexts | 0.085 | 0.000 | 0.085 | |
| count_indel_contexts | 0.093 | 0.001 | 0.094 | |
| count_mbs_contexts | 0.108 | 0.000 | 0.109 | |
| determine_regional_similarity | 2.836 | 0.098 | 2.935 | |
| enrichment_depletion_test | 0.127 | 0.000 | 0.127 | |
| extract_signatures | 0.001 | 0.000 | 0.001 | |
| fit_to_signatures | 0.086 | 0.009 | 0.096 | |
| fit_to_signatures_bootstrapped | 6.180 | 0.043 | 6.223 | |
| fit_to_signatures_strict | 4.801 | 0.165 | 4.966 | |
| genomic_distribution | 9.948 | 0.182 | 10.132 | |
| get_dbs_context | 0.229 | 0.000 | 0.229 | |
| get_indel_context | 6.411 | 0.247 | 6.658 | |
| get_known_signatures | 0.185 | 0.058 | 0.244 | |
| get_mut_type | 11.050 | 0.052 | 11.102 | |
| lengthen_mut_matrix | 0.011 | 0.000 | 0.011 | |
| merge_signatures | 1.117 | 0.061 | 1.178 | |
| mut_context | 1.097 | 0.054 | 1.151 | |
| mut_matrix | 1.878 | 0.088 | 1.966 | |
| mut_matrix_stranded | 5.008 | 0.160 | 5.168 | |
| mut_strand | 1.879 | 0.008 | 1.887 | |
| mut_type | 0.028 | 0.000 | 0.028 | |
| mut_type_occurrences | 0.901 | 0.031 | 0.932 | |
| mutations_from_vcf | 0.029 | 0.000 | 0.029 | |
| plot_192_profile | 3.618 | 0.043 | 3.662 | |
| plot_96_profile | 3.004 | 0.002 | 3.006 | |
| plot_bootstrapped_contribution | 2.738 | 0.071 | 2.809 | |
| plot_compare_dbs | 6.921 | 0.043 | 6.965 | |
| plot_compare_indels | 10.713 | 0.010 | 10.723 | |
| plot_compare_mbs | 1.351 | 0.001 | 1.352 | |
| plot_compare_profiles | 2.609 | 0.001 | 2.610 | |
| plot_contribution | 2.236 | 0.024 | 2.260 | |
| plot_contribution_heatmap | 2.333 | 0.008 | 2.341 | |
| plot_correlation_bootstrap | 1.786 | 0.000 | 1.786 | |
| plot_cosine_heatmap | 2.686 | 0.018 | 2.704 | |
| plot_dbs_contexts | 5.024 | 0.011 | 5.035 | |
| plot_enrichment_depletion | 4.733 | 0.023 | 4.757 | |
| plot_indel_contexts | 10.274 | 0.081 | 10.356 | |
| plot_lesion_segregation | 17.032 | 0.076 | 17.109 | |
| plot_main_dbs_contexts | 0.911 | 0.001 | 0.913 | |
| plot_main_indel_contexts | 0.904 | 0.001 | 0.906 | |
| plot_mbs_contexts | 0.761 | 0.000 | 0.762 | |
| plot_original_vs_reconstructed | 0.956 | 0.001 | 0.958 | |
| plot_profile_heatmap | 5.427 | 0.032 | 5.460 | |
| plot_profile_region | 1.216 | 0.000 | 1.216 | |
| plot_rainfall | 2.011 | 0.002 | 2.014 | |
| plot_regional_similarity | 2.849 | 0.004 | 2.854 | |
| plot_river | 5.610 | 0.023 | 5.633 | |
| plot_signature_strand_bias | 1.030 | 0.003 | 1.033 | |
| plot_spectrum | 6.149 | 0.051 | 6.200 | |
| plot_spectrum_region | 6.244 | 0.045 | 6.290 | |
| plot_strand | 0.421 | 0.013 | 0.435 | |
| plot_strand_bias | 1.052 | 0.008 | 1.060 | |
| pool_mut_mat | 0.046 | 0.001 | 0.046 | |
| read_vcfs_as_granges | 21.041 | 2.594 | 28.828 | |
| rename_nmf_signatures | 0.024 | 0.007 | 0.031 | |
| signature_potential_damage_analysis | 0.082 | 0.009 | 0.092 | |
| split_muts_region | 3.991 | 0.308 | 4.300 | |
| strand_bias_test | 0.134 | 0.006 | 0.141 | |
| strand_occurrences | 0.131 | 0.005 | 0.137 | |
| type_context | 1.139 | 0.095 | 1.235 | |