Back to Multiple platform build/check report for BioC 3.22:   simplified   long
ABCDEFGHIJKL[M]NOPQRSTUVWXYZ

This page was generated on 2025-11-11 12:03 -0500 (Tue, 11 Nov 2025).

HostnameOSArch (*)R versionInstalled pkgs
nebbiolo2Linux (Ubuntu 24.04.3 LTS)x86_644.5.1 Patched (2025-08-23 r88802) -- "Great Square Root" 4902
kjohnson3macOS 13.7.7 Venturaarm644.5.1 Patched (2025-09-10 r88807) -- "Great Square Root" 4638
Click on any hostname to see more info about the system (e.g. compilers)      (*) as reported by 'uname -p', except on Windows and Mac OS X

Package 1375/2361HostnameOS / ArchINSTALLBUILDCHECKBUILD BIN
MsBackendMetaboLights 1.4.2  (landing page)
Johannes Rainer
Snapshot Date: 2025-11-10 13:45 -0500 (Mon, 10 Nov 2025)
git_url: https://git.bioconductor.org/packages/MsBackendMetaboLights
git_branch: RELEASE_3_22
git_last_commit: a44eba8
git_last_commit_date: 2025-11-04 02:51:05 -0500 (Tue, 04 Nov 2025)
nebbiolo2Linux (Ubuntu 24.04.3 LTS) / x86_64  OK    OK    OK  UNNEEDED, same version is already published
kjohnson3macOS 13.7.7 Ventura / arm64  OK    OK    OK    OK  UNNEEDED, same version is already published


CHECK results for MsBackendMetaboLights on kjohnson3

To the developers/maintainers of the MsBackendMetaboLights package:
- Allow up to 24 hours (and sometimes 48 hours) for your latest push to git@git.bioconductor.org:packages/MsBackendMetaboLights.git to reflect on this report. See Troubleshooting Build Report for more information.
- Use the following Renviron settings to reproduce errors and warnings.
- If 'R CMD check' started to fail recently on the Linux builder(s) over a missing dependency, add the missing dependency to 'Suggests:' in your DESCRIPTION file. See Renviron.bioc for more information.

raw results


Summary

Package: MsBackendMetaboLights
Version: 1.4.2
Command: /Library/Frameworks/R.framework/Resources/bin/R CMD check --install=check:MsBackendMetaboLights.install-out.txt --library=/Library/Frameworks/R.framework/Resources/library --no-vignettes --timings MsBackendMetaboLights_1.4.2.tar.gz
StartedAt: 2025-11-10 21:11:43 -0500 (Mon, 10 Nov 2025)
EndedAt: 2025-11-10 21:24:19 -0500 (Mon, 10 Nov 2025)
EllapsedTime: 755.5 seconds
RetCode: 0
Status:   OK  
CheckDir: MsBackendMetaboLights.Rcheck
Warnings: 0

Command output

##############################################################################
##############################################################################
###
### Running command:
###
###   /Library/Frameworks/R.framework/Resources/bin/R CMD check --install=check:MsBackendMetaboLights.install-out.txt --library=/Library/Frameworks/R.framework/Resources/library --no-vignettes --timings MsBackendMetaboLights_1.4.2.tar.gz
###
##############################################################################
##############################################################################


* using log directory ‘/Users/biocbuild/bbs-3.22-bioc/meat/MsBackendMetaboLights.Rcheck’
* using R version 4.5.1 Patched (2025-09-10 r88807)
* using platform: aarch64-apple-darwin20
* R was compiled by
    Apple clang version 16.0.0 (clang-1600.0.26.6)
    GNU Fortran (GCC) 14.2.0
* running under: macOS Ventura 13.7.7
* using session charset: UTF-8
* using option ‘--no-vignettes’
* checking for file ‘MsBackendMetaboLights/DESCRIPTION’ ... OK
* this is package ‘MsBackendMetaboLights’ version ‘1.4.2’
* package encoding: UTF-8
* checking package namespace information ... OK
* checking package dependencies ... OK
* checking if this is a source package ... OK
* checking if there is a namespace ... OK
* checking for hidden files and directories ... OK
* checking for portable file names ... OK
* checking for sufficient/correct file permissions ... OK
* checking whether package ‘MsBackendMetaboLights’ can be installed ... OK
* checking installed package size ... OK
* checking package directory ... OK
* checking ‘build’ directory ... OK
* checking DESCRIPTION meta-information ... OK
* checking top-level files ... OK
* checking for left-over files ... OK
* checking index information ... OK
* checking package subdirectories ... OK
* checking code files for non-ASCII characters ... OK
* checking R files for syntax errors ... OK
* checking whether the package can be loaded ... OK
* checking whether the package can be loaded with stated dependencies ... OK
* checking whether the package can be unloaded cleanly ... OK
* checking whether the namespace can be loaded with stated dependencies ... OK
* checking whether the namespace can be unloaded cleanly ... OK
* checking dependencies in R code ... OK
* checking S3 generic/method consistency ... OK
* checking replacement functions ... OK
* checking foreign function calls ... OK
* checking R code for possible problems ... OK
* checking Rd files ... OK
* checking Rd metadata ... OK
* checking Rd cross-references ... OK
* checking for missing documentation entries ... OK
* checking for code/documentation mismatches ... OK
* checking Rd \usage sections ... OK
* checking Rd contents ... OK
* checking for unstated dependencies in examples ... OK
* checking files in ‘vignettes’ ... OK
* checking examples ... OK
Examples with CPU (user + system) or elapsed time > 5s
                       user system elapsed
MsBackendMetaboLights 2.868  0.522  10.747
MetaboLights-utils    0.123  0.013   9.781
* checking for unstated dependencies in ‘tests’ ... OK
* checking tests ...
  Running ‘testthat.R’
 OK
* checking for unstated dependencies in vignettes ... OK
* checking package vignettes ... OK
* checking running R code from vignettes ... SKIPPED
* checking re-building of vignette outputs ... SKIPPED
* checking PDF version of manual ... OK
* DONE

Status: OK


Installation output

MsBackendMetaboLights.Rcheck/00install.out

##############################################################################
##############################################################################
###
### Running command:
###
###   /Library/Frameworks/R.framework/Resources/bin/R CMD INSTALL MsBackendMetaboLights
###
##############################################################################
##############################################################################


* installing to library ‘/Library/Frameworks/R.framework/Versions/4.5-arm64/Resources/library’
* installing *source* package ‘MsBackendMetaboLights’ ...
** this is package ‘MsBackendMetaboLights’ version ‘1.4.2’
** using staged installation
** R
** byte-compile and prepare package for lazy loading
** help
*** installing help indices
*** copying figures
** building package indices
** installing vignettes
** testing if installed package can be loaded from temporary location
** testing if installed package can be loaded from final location
** testing if installed package keeps a record of temporary installation path
* DONE (MsBackendMetaboLights)

Tests output

MsBackendMetaboLights.Rcheck/tests/testthat.Rout


R version 4.5.1 Patched (2025-09-10 r88807) -- "Great Square Root"
Copyright (C) 2025 The R Foundation for Statistical Computing
Platform: aarch64-apple-darwin20

R is free software and comes with ABSOLUTELY NO WARRANTY.
You are welcome to redistribute it under certain conditions.
Type 'license()' or 'licence()' for distribution details.

R is a collaborative project with many contributors.
Type 'contributors()' for more information and
'citation()' on how to cite R or R packages in publications.

Type 'demo()' for some demos, 'help()' for on-line help, or
'help.start()' for an HTML browser interface to help.
Type 'q()' to quit R.

> #' MetaboLights ID: MTBLS8735
> #' ftp://ftp.ebi.ac.uk/pub/databases/metabolights/studies/public/MTBLS8735
> 
> library(testthat)
> library(MsBackendMetaboLights)
Loading required package: Spectra
Loading required package: S4Vectors
Loading required package: stats4
Loading required package: BiocGenerics
Loading required package: generics

Attaching package: 'generics'

The following objects are masked from 'package:base':

    as.difftime, as.factor, as.ordered, intersect, is.element, setdiff,
    setequal, union


Attaching package: 'BiocGenerics'

The following objects are masked from 'package:stats':

    IQR, mad, sd, var, xtabs

The following objects are masked from 'package:base':

    Filter, Find, Map, Position, Reduce, anyDuplicated, aperm, append,
    as.data.frame, basename, cbind, colnames, dirname, do.call,
    duplicated, eval, evalq, get, grep, grepl, is.unsorted, lapply,
    mapply, match, mget, order, paste, pmax, pmax.int, pmin, pmin.int,
    rank, rbind, rownames, sapply, saveRDS, table, tapply, unique,
    unsplit, which.max, which.min


Attaching package: 'S4Vectors'

The following object is masked from 'package:utils':

    findMatches

The following objects are masked from 'package:base':

    I, expand.grid, unname

Loading required package: BiocParallel
> 
> test_check("MsBackendMetaboLights")
[ FAIL 0 | WARN 0 | SKIP 0 | PASS 78 ]
> 
> ## Run tests with the unit test suite defined in the Spectra package to ensure
> ## compliance with the definitions of the MsBackend interface/class.
> be <- backendInitialize(MsBackendMetaboLights(), mtblsId = "MTBLS39",
+                         filePattern = "63A.cdf")
Used data files from the assay's column "Raw Spectral Data File" since none were available in column "Derived Spectral Data File".
> 
> library(Spectra)
> test_suite <- system.file("test_backends", "test_MsBackend",
+                           package = "Spectra")
> res <- test_dir(test_suite, stop_on_failure = TRUE)
✔ | F W  S  OK | Context

⠏ |          0 | peaks_variables                                                
⠙ |          2 | peaks_variables                                                
⠸ |          4 | peaks_variables                                                
✔ |          4 | peaks_variables

⠏ |          0 | spectra_subsetting                                             
⠋ |          1 | spectra_subsetting                                             
⠇ |         39 | spectra_subsetting                                             
⠏ |         70 | spectra_subsetting                                             
⠇ |        109 | spectra_subsetting                                             
⠦ |        147 | spectra_subsetting                                             
⠋ |        181 | spectra_subsetting                                             
⠦ |        217 | spectra_subsetting                                             
⠸ |        254 | spectra_subsetting                                             
⠙ |        292 | spectra_subsetting                                             
⠋ |        331 | spectra_subsetting                                             
⠧ |        368 | spectra_subsetting                                             
⠴ |        406 | spectra_subsetting                                             
⠼ |        445 | spectra_subsetting                                             
⠋ |        481 | spectra_subsetting                                             
⠏ |        520 | spectra_subsetting                                             
⠧ |        558 | spectra_subsetting                                             
⠙ |        592 | spectra_subsetting                                             
⠸ |        634 | spectra_subsetting                                             
⠹ |        673 | spectra_subsetting                                             
⠏ |        710 | spectra_subsetting                                             
⠧ |        748 | spectra_subsetting                                             
⠼ |        785 | spectra_subsetting                                             
⠸ |        824 | spectra_subsetting                                             
⠙ |        862 | spectra_subsetting                                             
⠋ |        901 | spectra_subsetting                                             
⠋ |        941 | spectra_subsetting                                             
⠇ |        979 | spectra_subsetting                                             
⠴ |        1016 | spectra_subsetting                                            
⠦ |        1057 | spectra_subsetting                                            
⠴ |        1096 | spectra_subsetting                                            
⠼ |        1135 | spectra_subsetting                                            
⠸ |        1174 | spectra_subsetting                                            
⠹ |        1213 | spectra_subsetting                                            
⠙ |        1252 | spectra_subsetting                                            
⠋ |        1291 | spectra_subsetting                                            
⠦ |        1327 | spectra_subsetting                                            
⠴ |        1366 | spectra_subsetting                                            
⠹ |        1403 | spectra_subsetting                                            
⠋ |        1441 | spectra_subsetting                                            
⠏ |        1480 | spectra_subsetting                                            
⠇ |        1519 | spectra_subsetting                                            
⠧ |        1558 | spectra_subsetting                                            
⠦ |        1597 | spectra_subsetting                                            
⠴ |        1636 | spectra_subsetting                                            
⠴ |        1666 | spectra_subsetting                                            
⠼ |        1705 | spectra_subsetting                                            
⠋ |        1741 | spectra_subsetting                                            
⠏ |        1780 | spectra_subsetting                                            
⠏ |        1820 | spectra_subsetting                                            
⠧ |        1858 | spectra_subsetting                                            
⠦ |        1897 | spectra_subsetting                                            
⠴ |        1936 | spectra_subsetting                                            
⠼ |        1975 | spectra_subsetting                                            
⠦ |        2017 | spectra_subsetting                                            
⠴ |        2056 | spectra_subsetting                                            
⠼ |        2095 | spectra_subsetting                                            
⠸ |        2134 | spectra_subsetting                                            
⠋ |        2171 | spectra_subsetting                                            
⠇ |        2209 | spectra_subsetting                                            
⠧ |        2248 | spectra_subsetting                                            
⠦ |        2287 | spectra_subsetting                                            
⠧ |        2328 | spectra_subsetting                                            
⠼ |        2365 | spectra_subsetting                                            
⠹ |        2403 | spectra_subsetting                                            
⠹ |        2443 | spectra_subsetting                                            
⠏ |        2480 | spectra_subsetting                                            
⠦ |        2517 | spectra_subsetting                                            
⠼ |        2555 | spectra_subsetting                                            
⠹ |        2593 | spectra_subsetting                                            
⠙ |        2632 | spectra_subsetting                                            
⠋ |        2671 | spectra_subsetting                                            
⠏ |        2710 | spectra_subsetting                                            
⠏ |        2750 | spectra_subsetting                                            
⠧ |        2788 | spectra_subsetting                                            
⠦ |        2827 | spectra_subsetting                                            
⠴ |        2866 | spectra_subsetting                                            
⠼ |        2905 | spectra_subsetting                                            
⠧ |        2938 | spectra_subsetting                                            
⠦ |        2977 | spectra_subsetting                                            
⠧ |        3008 | spectra_subsetting                                            
⠦ |        3047 | spectra_subsetting                                            
⠼ |        3085 | spectra_subsetting                                            
⠸ |        3124 | spectra_subsetting                                            
⠹ |        3163 | spectra_subsetting                                            
⠙ |        3202 | spectra_subsetting                                            
⠇ |        3239 | spectra_subsetting                                            
⠦ |        3277 | spectra_subsetting                                            
⠴ |        3316 | spectra_subsetting                                            
⠼ |        3355 | spectra_subsetting                                            
⠸ |        3394 | spectra_subsetting                                            
⠏ |        3430 | spectra_subsetting                                            
⠦ |        3467 | spectra_subsetting                                            
⠙ |        3502 | spectra_subsetting                                            
⠇ |        3539 | spectra_subsetting                                            
⠦ |        3577 | spectra_subsetting                                            
⠏ |        3610 | spectra_subsetting                                            
⠇ |        3649 | spectra_subsetting                                            
⠼ |        3685 | spectra_subsetting                                            
⠋ |        3721 | spectra_subsetting                                            
⠧ |        3758 | spectra_subsetting                                            
⠹ |        3793 | spectra_subsetting                                            
⠙ |        3832 | spectra_subsetting                                            
⠋ |        3871 | spectra_subsetting                                            
⠏ |        3910 | spectra_subsetting                                            
⠇ |        3949 | spectra_subsetting                                            
⠼ |        3985 | spectra_subsetting                                            
⠧ |        4018 | spectra_subsetting                                            
⠼ |        4055 | spectra_subsetting                                            
⠏ |        4090 | spectra_subsetting                                            
⠇ |        4129 | spectra_subsetting                                            
⠼ |        4165 | spectra_subsetting                                            
⠋ |        4201 | spectra_subsetting                                            
⠧ |        4238 | spectra_subsetting                                            
⠹ |        4273 | spectra_subsetting                                            
⠙ |        4312 | spectra_subsetting                                            
⠇ |        4349 | spectra_subsetting                                            
⠦ |        4387 | spectra_subsetting                                            
⠴ |        4426 | spectra_subsetting                                            
⠸ |        4464 | spectra_subsetting                                            
⠧ |        4498 | spectra_subsetting                                            
⠦ |        4537 | spectra_subsetting                                            
⠸ |        4574 | spectra_subsetting                                            
⠙ |        4612 | spectra_subsetting                                            
⠋ |        4651 | spectra_subsetting                                            
⠦ |        4687 | spectra_subsetting                                            
⠴ |        4726 | spectra_subsetting                                            
⠼ |        4765 | spectra_subsetting                                            
⠸ |        4804 | spectra_subsetting                                            
⠹ |        4843 | spectra_subsetting                                            
⠙ |        4882 | spectra_subsetting                                            
⠧ |        4918 | spectra_subsetting                                            
⠦ |        4957 | spectra_subsetting                                            
⠸ |        4994 | spectra_subsetting                                            
⠧ |        4998 | spectra_subsetting                                            
⠏ |        5000 | spectra_subsetting                                            
⠙ |        5002 | spectra_subsetting                                            
⠸ |        5004 | spectra_subsetting                                            
⠴ |        5006 | spectra_subsetting                                            
⠧ |        5008 | spectra_subsetting                                            
⠏ |        5010 | spectra_subsetting                                            
⠙ |        5012 | spectra_subsetting                                            
⠸ |        5014 | spectra_subsetting                                            
⠴ |        5016 | spectra_subsetting                                            
⠧ |        5018 | spectra_subsetting                                            
⠏ |        5020 | spectra_subsetting                                            
⠙ |        5022 | spectra_subsetting                                            
⠸ |        5024 | spectra_subsetting                                            
⠴ |        5026 | spectra_subsetting                                            
⠧ |        5028 | spectra_subsetting                                            
⠏ |        5030 | spectra_subsetting                                            
⠙ |        5032 | spectra_subsetting                                            
⠸ |        5034 | spectra_subsetting                                            
⠴ |        5036 | spectra_subsetting                                            
⠧ |        5038 | spectra_subsetting                                            
⠏ |        5040 | spectra_subsetting                                            
⠙ |        5042 | spectra_subsetting                                            
⠸ |        5044 | spectra_subsetting                                            
⠴ |        5046 | spectra_subsetting                                            
⠧ |        5048 | spectra_subsetting                                            
⠏ |        5050 | spectra_subsetting                                            
⠙ |        5052 | spectra_subsetting                                            
⠸ |        5054 | spectra_subsetting                                            
⠴ |        5056 | spectra_subsetting                                            
⠧ |        5058 | spectra_subsetting                                            
⠏ |        5060 | spectra_subsetting                                            
⠙ |        5062 | spectra_subsetting                                            
⠸ |        5064 | spectra_subsetting                                            
⠴ |        5066 | spectra_subsetting                                            
⠧ |        5068 | spectra_subsetting                                            
⠏ |        5070 | spectra_subsetting                                            
⠙ |        5072 | spectra_subsetting                                            
⠸ |        5074 | spectra_subsetting                                            
⠴ |        5076 | spectra_subsetting                                            
⠧ |        5078 | spectra_subsetting                                            
⠏ |        5080 | spectra_subsetting                                            
⠙ |        5082 | spectra_subsetting                                            
⠸ |        5084 | spectra_subsetting                                            
⠴ |        5086 | spectra_subsetting                                            
⠧ |        5088 | spectra_subsetting                                            
⠏ |        5090 | spectra_subsetting                                            
⠙ |        5092 | spectra_subsetting                                            
⠸ |        5094 | spectra_subsetting                                            
⠴ |        5096 | spectra_subsetting                                            
⠧ |        5098 | spectra_subsetting                                            
⠏ |        5100 | spectra_subsetting                                            
⠙ |        5102 | spectra_subsetting                                            
⠸ |        5104 | spectra_subsetting                                            
⠴ |        5106 | spectra_subsetting                                            
⠧ |        5108 | spectra_subsetting                                            
⠏ |        5110 | spectra_subsetting                                            
⠙ |        5112 | spectra_subsetting                                            
⠸ |        5114 | spectra_subsetting                                            
⠴ |        5116 | spectra_subsetting                                            
⠧ |        5118 | spectra_subsetting                                            
⠏ |        5120 | spectra_subsetting                                            
⠙ |        5122 | spectra_subsetting                                            
⠸ |        5124 | spectra_subsetting                                            
⠴ |        5126 | spectra_subsetting                                            
⠧ |        5128 | spectra_subsetting                                            
⠏ |        5130 | spectra_subsetting                                            
⠙ |        5132 | spectra_subsetting                                            
⠸ |        5134 | spectra_subsetting                                            
⠴ |        5136 | spectra_subsetting                                            
⠧ |        5138 | spectra_subsetting                                            
⠏ |        5140 | spectra_subsetting                                            
⠙ |        5142 | spectra_subsetting                                            
⠸ |        5144 | spectra_subsetting                                            
⠴ |        5146 | spectra_subsetting                                            
⠧ |        5148 | spectra_subsetting                                            
⠏ |        5150 | spectra_subsetting                                            
⠙ |        5152 | spectra_subsetting                                            
⠸ |        5154 | spectra_subsetting                                            
⠴ |        5156 | spectra_subsetting                                            
⠧ |        5158 | spectra_subsetting                                            
⠏ |        5160 | spectra_subsetting                                            
⠙ |        5162 | spectra_subsetting                                            
⠸ |        5164 | spectra_subsetting                                            
⠴ |        5166 | spectra_subsetting                                            
⠧ |        5168 | spectra_subsetting                                            
⠏ |        5170 | spectra_subsetting                                            
⠙ |        5172 | spectra_subsetting                                            
⠸ |        5174 | spectra_subsetting                                            
⠴ |        5176 | spectra_subsetting                                            
⠧ |        5178 | spectra_subsetting                                            
⠏ |        5180 | spectra_subsetting                                            
⠙ |        5182 | spectra_subsetting                                            
⠸ |        5184 | spectra_subsetting                                            
⠴ |        5186 | spectra_subsetting                                            
⠧ |        5188 | spectra_subsetting                                            
⠏ |        5190 | spectra_subsetting                                            
⠙ |        5192 | spectra_subsetting                                            
⠸ |        5194 | spectra_subsetting                                            
⠴ |        5196 | spectra_subsetting                                            
⠧ |        5198 | spectra_subsetting                                            
⠏ |        5200 | spectra_subsetting                                            
⠙ |        5202 | spectra_subsetting                                            
⠸ |        5204 | spectra_subsetting                                            
⠴ |        5206 | spectra_subsetting                                            
⠧ |        5208 | spectra_subsetting                                            
⠏ |        5210 | spectra_subsetting                                            
⠙ |        5212 | spectra_subsetting                                            
⠸ |        5214 | spectra_subsetting                                            
⠴ |        5216 | spectra_subsetting                                            
⠧ |        5218 | spectra_subsetting                                            
⠏ |        5220 | spectra_subsetting                                            
⠙ |        5222 | spectra_subsetting                                            
⠸ |        5224 | spectra_subsetting                                            
⠴ |        5226 | spectra_subsetting                                            
⠧ |        5228 | spectra_subsetting                                            
⠏ |        5230 | spectra_subsetting                                            
⠙ |        5232 | spectra_subsetting                                            
⠸ |        5234 | spectra_subsetting                                            
⠴ |        5236 | spectra_subsetting                                            
⠧ |        5238 | spectra_subsetting                                            
⠏ |        5240 | spectra_subsetting                                            
⠙ |        5242 | spectra_subsetting                                            
⠸ |        5244 | spectra_subsetting                                            
⠴ |        5246 | spectra_subsetting                                            
⠧ |        5248 | spectra_subsetting                                            
⠏ |        5250 | spectra_subsetting                                            
⠙ |        5252 | spectra_subsetting                                            
⠸ |        5254 | spectra_subsetting                                            
⠴ |        5256 | spectra_subsetting                                            
⠧ |        5258 | spectra_subsetting                                            
⠏ |        5260 | spectra_subsetting                                            
⠙ |        5262 | spectra_subsetting                                            
⠸ |        5264 | spectra_subsetting                                            
⠴ |        5266 | spectra_subsetting                                            
⠧ |        5268 | spectra_subsetting                                            
⠏ |        5270 | spectra_subsetting                                            
⠙ |        5272 | spectra_subsetting                                            
⠸ |        5274 | spectra_subsetting                                            
⠴ |        5276 | spectra_subsetting                                            
⠧ |        5278 | spectra_subsetting                                            
⠏ |        5280 | spectra_subsetting                                            
⠙ |        5282 | spectra_subsetting                                            
⠸ |        5284 | spectra_subsetting                                            
⠴ |        5286 | spectra_subsetting                                            
⠧ |        5288 | spectra_subsetting                                            
⠏ |        5290 | spectra_subsetting                                            
⠙ |        5292 | spectra_subsetting                                            
⠸ |        5294 | spectra_subsetting                                            
⠴ |        5296 | spectra_subsetting                                            
⠧ |        5298 | spectra_subsetting                                            
⠏ |        5300 | spectra_subsetting                                            
⠙ |        5302 | spectra_subsetting                                            
⠸ |        5304 | spectra_subsetting                                            
⠴ |        5306 | spectra_subsetting                                            
⠧ |        5308 | spectra_subsetting                                            
⠏ |        5310 | spectra_subsetting                                            
⠙ |        5312 | spectra_subsetting                                            
⠸ |        5314 | spectra_subsetting                                            
⠴ |        5316 | spectra_subsetting                                            
⠧ |        5318 | spectra_subsetting                                            
⠏ |        5320 | spectra_subsetting                                            
⠙ |        5322 | spectra_subsetting                                            
⠸ |        5324 | spectra_subsetting                                            
⠴ |        5326 | spectra_subsetting                                            
⠧ |        5328 | spectra_subsetting                                            
⠏ |        5330 | spectra_subsetting                                            
⠙ |        5332 | spectra_subsetting                                            
⠸ |        5334 | spectra_subsetting                                            
⠴ |        5336 | spectra_subsetting                                            
⠧ |        5338 | spectra_subsetting                                            
⠏ |        5340 | spectra_subsetting                                            
⠙ |        5342 | spectra_subsetting                                            
⠸ |        5344 | spectra_subsetting                                            
⠴ |        5346 | spectra_subsetting                                            
⠧ |        5348 | spectra_subsetting                                            
⠏ |        5350 | spectra_subsetting                                            
⠙ |        5352 | spectra_subsetting                                            
⠸ |        5354 | spectra_subsetting                                            
⠴ |        5356 | spectra_subsetting                                            
⠧ |        5358 | spectra_subsetting                                            
⠏ |        5360 | spectra_subsetting                                            
⠋ |        5361 | spectra_subsetting                                            
⠹ |        5363 | spectra_subsetting                                            
⠼ |        5365 | spectra_subsetting                                            
⠦ |        5367 | spectra_subsetting                                            
⠇ |        5369 | spectra_subsetting                                            
⠋ |        5371 | spectra_subsetting                                            
⠹ |        5373 | spectra_subsetting                                            
⠼ |        5375 | spectra_subsetting                                            
⠦ |        5377 | spectra_subsetting                                            
⠇ |        5379 | spectra_subsetting                                            
⠋ |        5381 | spectra_subsetting                                            
⠹ |        5383 | spectra_subsetting                                            
⠼ |        5385 | spectra_subsetting                                            
⠦ |        5387 | spectra_subsetting                                            
⠇ |        5389 | spectra_subsetting                                            
⠋ |        5391 | spectra_subsetting                                            
⠹ |        5393 | spectra_subsetting                                            
⠼ |        5395 | spectra_subsetting                                            
⠦ |        5397 | spectra_subsetting                                            
⠇ |        5399 | spectra_subsetting                                            
⠋ |        5401 | spectra_subsetting                                            
⠹ |        5403 | spectra_subsetting                                            
⠼ |        5405 | spectra_subsetting                                            
⠦ |        5407 | spectra_subsetting                                            
⠇ |        5409 | spectra_subsetting                                            
⠋ |        5411 | spectra_subsetting                                            
⠹ |        5413 | spectra_subsetting                                            
⠼ |        5415 | spectra_subsetting                                            
⠦ |        5417 | spectra_subsetting                                            
⠇ |        5419 | spectra_subsetting                                            
⠋ |        5421 | spectra_subsetting                                            
⠹ |        5423 | spectra_subsetting                                            
⠼ |        5425 | spectra_subsetting                                            
⠦ |        5427 | spectra_subsetting                                            
⠇ |        5429 | spectra_subsetting                                            
⠋ |        5431 | spectra_subsetting                                            
⠹ |        5433 | spectra_subsetting                                            
⠼ |        5435 | spectra_subsetting                                            
⠦ |        5437 | spectra_subsetting                                            
⠇ |        5439 | spectra_subsetting                                            
⠋ |        5441 | spectra_subsetting                                            
⠹ |        5443 | spectra_subsetting                                            
⠼ |        5445 | spectra_subsetting                                            
⠦ |        5447 | spectra_subsetting                                            
⠇ |        5449 | spectra_subsetting                                            
⠋ |        5451 | spectra_subsetting                                            
⠹ |        5453 | spectra_subsetting                                            
⠼ |        5455 | spectra_subsetting                                            
⠦ |        5457 | spectra_subsetting                                            
⠇ |        5459 | spectra_subsetting                                            
⠋ |        5461 | spectra_subsetting                                            
⠹ |        5463 | spectra_subsetting                                            
⠼ |        5465 | spectra_subsetting                                            
⠦ |        5467 | spectra_subsetting                                            
⠇ |        5469 | spectra_subsetting                                            
⠋ |        5471 | spectra_subsetting                                            
⠹ |        5473 | spectra_subsetting                                            
⠼ |        5475 | spectra_subsetting                                            
⠦ |        5477 | spectra_subsetting                                            
⠇ |        5479 | spectra_subsetting                                            
⠋ |        5481 | spectra_subsetting                                            
⠹ |        5483 | spectra_subsetting                                            
⠼ |        5485 | spectra_subsetting                                            
⠦ |        5487 | spectra_subsetting                                            
⠇ |        5489 | spectra_subsetting                                            
⠋ |        5491 | spectra_subsetting                                            
⠹ |        5493 | spectra_subsetting                                            
⠼ |        5495 | spectra_subsetting                                            
⠦ |        5497 | spectra_subsetting                                            
⠇ |        5499 | spectra_subsetting                                            
⠋ |        5501 | spectra_subsetting                                            
⠹ |        5503 | spectra_subsetting                                            
⠼ |        5505 | spectra_subsetting                                            
⠦ |        5507 | spectra_subsetting                                            
⠇ |        5509 | spectra_subsetting                                            
⠋ |        5511 | spectra_subsetting                                            
⠹ |        5513 | spectra_subsetting                                            
⠼ |        5515 | spectra_subsetting                                            
⠦ |        5517 | spectra_subsetting                                            
⠇ |        5519 | spectra_subsetting                                            
⠋ |        5521 | spectra_subsetting                                            
⠹ |        5523 | spectra_subsetting                                            
⠼ |        5525 | spectra_subsetting                                            
⠦ |        5527 | spectra_subsetting                                            
⠇ |        5529 | spectra_subsetting                                            
⠋ |        5531 | spectra_subsetting                                            
⠹ |        5533 | spectra_subsetting                                            
⠼ |        5535 | spectra_subsetting                                            
⠦ |        5537 | spectra_subsetting                                            
⠇ |        5539 | spectra_subsetting                                            
⠋ |        5541 | spectra_subsetting                                            
⠹ |        5543 | spectra_subsetting                                            
⠼ |        5545 | spectra_subsetting                                            
⠦ |        5547 | spectra_subsetting                                            
⠇ |        5549 | spectra_subsetting                                            
⠋ |        5551 | spectra_subsetting                                            
⠹ |        5553 | spectra_subsetting                                            
⠼ |        5555 | spectra_subsetting                                            
⠦ |        5557 | spectra_subsetting                                            
⠇ |        5559 | spectra_subsetting                                            
⠋ |        5561 | spectra_subsetting                                            
⠹ |        5563 | spectra_subsetting                                            
⠼ |        5565 | spectra_subsetting                                            
⠦ |        5567 | spectra_subsetting                                            
⠇ |        5569 | spectra_subsetting                                            
⠋ |        5571 | spectra_subsetting                                            
⠹ |        5573 | spectra_subsetting                                            
⠼ |        5575 | spectra_subsetting                                            
⠦ |        5577 | spectra_subsetting                                            
⠇ |        5579 | spectra_subsetting                                            
⠋ |        5581 | spectra_subsetting                                            
⠹ |        5583 | spectra_subsetting                                            
⠼ |        5585 | spectra_subsetting                                            
⠦ |        5587 | spectra_subsetting                                            
⠇ |        5589 | spectra_subsetting                                            
⠋ |        5591 | spectra_subsetting                                            
⠹ |        5593 | spectra_subsetting                                            
⠼ |        5595 | spectra_subsetting                                            
⠦ |        5597 | spectra_subsetting                                            
⠇ |        5599 | spectra_subsetting                                            
⠋ |        5601 | spectra_subsetting                                            
⠹ |        5603 | spectra_subsetting                                            
⠼ |        5605 | spectra_subsetting                                            
⠦ |        5607 | spectra_subsetting                                            
⠇ |        5609 | spectra_subsetting                                            
⠋ |        5611 | spectra_subsetting                                            
⠹ |        5613 | spectra_subsetting                                            
⠼ |        5615 | spectra_subsetting                                            
⠦ |        5617 | spectra_subsetting                                            
⠇ |        5619 | spectra_subsetting                                            
⠋ |        5621 | spectra_subsetting                                            
⠹ |        5623 | spectra_subsetting                                            
⠼ |        5625 | spectra_subsetting                                            
⠦ |        5627 | spectra_subsetting                                            
⠇ |        5629 | spectra_subsetting                                            
⠋ |        5631 | spectra_subsetting                                            
⠹ |        5633 | spectra_subsetting                                            
⠼ |        5635 | spectra_subsetting                                            
⠦ |        5637 | spectra_subsetting                                            
⠇ |        5639 | spectra_subsetting                                            
⠋ |        5641 | spectra_subsetting                                            
⠹ |        5643 | spectra_subsetting                                            
⠼ |        5645 | spectra_subsetting                                            
⠦ |        5647 | spectra_subsetting                                            
⠇ |        5649 | spectra_subsetting                                            
⠋ |        5651 | spectra_subsetting                                            
⠹ |        5653 | spectra_subsetting                                            
⠼ |        5655 | spectra_subsetting                                            
⠦ |        5657 | spectra_subsetting                                            
⠇ |        5659 | spectra_subsetting                                            
⠋ |        5661 | spectra_subsetting                                            
⠹ |        5663 | spectra_subsetting                                            
⠼ |        5665 | spectra_subsetting                                            
⠦ |        5667 | spectra_subsetting                                            
⠇ |        5669 | spectra_subsetting                                            
⠋ |        5671 | spectra_subsetting                                            
⠹ |        5673 | spectra_subsetting                                            
⠼ |        5675 | spectra_subsetting                                            
⠦ |        5677 | spectra_subsetting                                            
⠇ |        5679 | spectra_subsetting                                            
⠋ |        5681 | spectra_subsetting                                            
⠹ |        5683 | spectra_subsetting                                            
⠼ |        5685 | spectra_subsetting                                            
⠦ |        5687 | spectra_subsetting                                            
⠇ |        5689 | spectra_subsetting                                            
⠋ |        5691 | spectra_subsetting                                            
⠹ |        5693 | spectra_subsetting                                            
⠼ |        5695 | spectra_subsetting                                            
⠦ |        5697 | spectra_subsetting                                            
⠇ |        5699 | spectra_subsetting                                            
⠋ |        5701 | spectra_subsetting                                            
⠹ |        5703 | spectra_subsetting                                            
⠼ |        5705 | spectra_subsetting                                            
⠦ |        5707 | spectra_subsetting                                            
⠇ |        5709 | spectra_subsetting                                            
⠋ |        5711 | spectra_subsetting                                            
⠹ |        5713 | spectra_subsetting                                            
⠼ |        5715 | spectra_subsetting                                            
⠦ |        5717 | spectra_subsetting                                            
⠇ |        5719 | spectra_subsetting                                            
⠋ |        5721 | spectra_subsetting                                            
⠹ |        5723 | spectra_subsetting                                            
⠼ |        5725 | spectra_subsetting                                            
⠦ |        5727 | spectra_subsetting                                            
⠇ |        5729 | spectra_subsetting                                            
⠋ |        5731 | spectra_subsetting                                            
⠹ |        5733 | spectra_subsetting                                            
⠼ |        5735 | spectra_subsetting                                            
⠦ |        5737 | spectra_subsetting                                            
⠇ |        5739 | spectra_subsetting                                            
⠋ |        5741 | spectra_subsetting                                            
⠹ |        5743 | spectra_subsetting                                            
⠼ |        5745 | spectra_subsetting                                            
⠦ |        5747 | spectra_subsetting                                            
⠇ |        5749 | spectra_subsetting                                            
⠋ |        5751 | spectra_subsetting                                            
⠹ |        5753 | spectra_subsetting                                            
⠼ |        5755 | spectra_subsetting                                            
⠦ |        5757 | spectra_subsetting                                            
⠇ |        5759 | spectra_subsetting                                            
⠋ |        5761 | spectra_subsetting                                            
⠹ |        5763 | spectra_subsetting                                            
⠼ |        5765 | spectra_subsetting                                            
⠦ |        5767 | spectra_subsetting                                            
⠇ |        5769 | spectra_subsetting                                            
⠋ |        5771 | spectra_subsetting                                            
⠹ |        5773 | spectra_subsetting                                            
⠼ |        5775 | spectra_subsetting                                            
⠦ |        5777 | spectra_subsetting                                            
⠇ |        5779 | spectra_subsetting                                            
⠋ |        5781 | spectra_subsetting                                            
⠹ |        5783 | spectra_subsetting                                            
⠼ |        5785 | spectra_subsetting                                            
⠦ |        5787 | spectra_subsetting                                            
⠇ |        5789 | spectra_subsetting                                            
⠋ |        5791 | spectra_subsetting                                            
⠹ |        5793 | spectra_subsetting                                            
⠼ |        5795 | spectra_subsetting                                            
⠦ |        5797 | spectra_subsetting                                            
⠇ |        5799 | spectra_subsetting                                            
⠋ |        5801 | spectra_subsetting                                            
⠹ |        5803 | spectra_subsetting                                            
⠼ |        5805 | spectra_subsetting                                            
⠦ |        5807 | spectra_subsetting                                            
⠇ |        5809 | spectra_subsetting                                            
⠋ |        5811 | spectra_subsetting                                            
⠹ |        5813 | spectra_subsetting                                            
⠼ |        5815 | spectra_subsetting                                            
⠦ |        5817 | spectra_subsetting                                            
⠇ |        5819 | spectra_subsetting                                            
⠋ |        5821 | spectra_subsetting                                            
⠹ |        5823 | spectra_subsetting                                            
⠼ |        5825 | spectra_subsetting                                            
⠦ |        5827 | spectra_subsetting                                            
⠇ |        5829 | spectra_subsetting                                            
⠋ |        5831 | spectra_subsetting                                            
⠹ |        5833 | spectra_subsetting                                            
⠼ |        5835 | spectra_subsetting                                            
⠦ |        5837 | spectra_subsetting                                            
⠇ |        5839 | spectra_subsetting                                            
⠋ |        5841 | spectra_subsetting                                            
⠹ |        5843 | spectra_subsetting                                            
⠼ |        5845 | spectra_subsetting                                            
⠦ |        5847 | spectra_subsetting                                            
⠇ |        5849 | spectra_subsetting                                            
⠋ |        5851 | spectra_subsetting                                            
⠹ |        5853 | spectra_subsetting                                            
⠼ |        5855 | spectra_subsetting                                            
⠦ |        5857 | spectra_subsetting                                            
⠇ |        5859 | spectra_subsetting                                            
⠋ |        5861 | spectra_subsetting                                            
⠹ |        5863 | spectra_subsetting                                            
⠼ |        5865 | spectra_subsetting                                            
⠦ |        5867 | spectra_subsetting                                            
⠇ |        5869 | spectra_subsetting                                            
⠋ |        5871 | spectra_subsetting                                            
⠹ |        5873 | spectra_subsetting                                            
⠼ |        5875 | spectra_subsetting                                            
⠦ |        5877 | spectra_subsetting                                            
⠇ |        5879 | spectra_subsetting                                            
⠋ |        5881 | spectra_subsetting                                            
⠹ |        5883 | spectra_subsetting                                            
⠼ |        5885 | spectra_subsetting                                            
⠦ |        5887 | spectra_subsetting                                            
⠇ |        5889 | spectra_subsetting                                            
⠋ |        5891 | spectra_subsetting                                            
⠹ |        5893 | spectra_subsetting                                            
⠼ |        5895 | spectra_subsetting                                            
⠦ |        5897 | spectra_subsetting                                            
⠇ |        5899 | spectra_subsetting                                            
⠋ |        5901 | spectra_subsetting                                            
⠹ |        5903 | spectra_subsetting                                            
⠼ |        5905 | spectra_subsetting                                            
⠦ |        5907 | spectra_subsetting                                            
⠇ |        5909 | spectra_subsetting                                            
⠋ |        5911 | spectra_subsetting                                            
⠹ |        5913 | spectra_subsetting                                            
⠼ |        5915 | spectra_subsetting                                            
⠦ |        5917 | spectra_subsetting                                            
⠇ |        5919 | spectra_subsetting                                            
⠋ |        5921 | spectra_subsetting                                            
⠹ |        5923 | spectra_subsetting                                            
⠼ |        5925 | spectra_subsetting                                            
⠦ |        5927 | spectra_subsetting                                            
⠇ |        5929 | spectra_subsetting                                            
⠋ |        5931 | spectra_subsetting                                            
⠹ |        5933 | spectra_subsetting                                            
⠼ |        5935 | spectra_subsetting                                            
⠦ |        5937 | spectra_subsetting                                            
⠇ |        5939 | spectra_subsetting                                            
⠋ |        5941 | spectra_subsetting                                            
⠹ |        5943 | spectra_subsetting                                            
⠼ |        5945 | spectra_subsetting                                            
⠦ |        5947 | spectra_subsetting                                            
⠇ |        5949 | spectra_subsetting                                            
⠋ |        5951 | spectra_subsetting                                            
⠹ |        5953 | spectra_subsetting                                            
⠼ |        5955 | spectra_subsetting                                            
⠦ |        5957 | spectra_subsetting                                            
⠇ |        5959 | spectra_subsetting                                            
⠏ |        5960 | spectra_subsetting                                            
⠙ |        5962 | spectra_subsetting                                            
⠸ |        5964 | spectra_subsetting                                            
⠴ |        5966 | spectra_subsetting                                            
⠧ |        5968 | spectra_subsetting                                            
⠏ |        5970 | spectra_subsetting                                            
⠙ |        5972 | spectra_subsetting                                            
⠸ |        5974 | spectra_subsetting                                            
⠴ |        5976 | spectra_subsetting                                            
⠧ |        5978 | spectra_subsetting                                            
⠏ |        5980 | spectra_subsetting                                            
⠙ |        5982 | spectra_subsetting                                            
⠸ |        5984 | spectra_subsetting                                            
⠴ |        5986 | spectra_subsetting                                            
⠧ |        5988 | spectra_subsetting                                            
⠏ |        5990 | spectra_subsetting                                            
⠙ |        5992 | spectra_subsetting                                            
⠸ |        5994 | spectra_subsetting                                            
⠴ |        5996 | spectra_subsetting                                            
⠧ |        5998 | spectra_subsetting                                            
⠏ |        6000 | spectra_subsetting                                            
⠙ |        6002 | spectra_subsetting                                            
⠸ |        6004 | spectra_subsetting                                            
⠴ |        6006 | spectra_subsetting                                            
⠧ |        6008 | spectra_subsetting                                            
⠏ |        6010 | spectra_subsetting                                            
⠙ |        6012 | spectra_subsetting                                            
⠸ |        6014 | spectra_subsetting                                            
⠴ |        6016 | spectra_subsetting                                            
⠧ |        6018 | spectra_subsetting                                            
⠏ |        6020 | spectra_subsetting                                            
⠙ |        6022 | spectra_subsetting                                            
⠸ |        6024 | spectra_subsetting                                            
⠼ |        6025 | spectra_subsetting                                            
⠦ |        6027 | spectra_subsetting                                            
⠇ |        6029 | spectra_subsetting                                            
⠋ |        6031 | spectra_subsetting                                            
⠹ |        6033 | spectra_subsetting                                            
⠼ |        6035 | spectra_subsetting                                            
⠦ |        6037 | spectra_subsetting                                            
⠇ |        6039 | spectra_subsetting                                            
⠋ |        6041 | spectra_subsetting                                            
⠹ |        6043 | spectra_subsetting                                            
⠼ |        6045 | spectra_subsetting                                            
⠦ |        6047 | spectra_subsetting                                            
⠇ |        6049 | spectra_subsetting                                            
⠋ |        6051 | spectra_subsetting                                            
⠹ |        6053 | spectra_subsetting                                            
⠼ |        6055 | spectra_subsetting                                            
⠦ |        6057 | spectra_subsetting                                            
⠇ |        6059 | spectra_subsetting                                            
⠋ |        6061 | spectra_subsetting                                            
⠹ |        6063 | spectra_subsetting                                            
⠼ |        6065 | spectra_subsetting                                            
⠦ |        6067 | spectra_subsetting                                            
⠇ |        6069 | spectra_subsetting                                            
⠋ |        6071 | spectra_subsetting                                            
⠹ |        6073 | spectra_subsetting                                            
⠼ |        6075 | spectra_subsetting                                            
⠦ |        6077 | spectra_subsetting                                            
⠧ |        6078 | spectra_subsetting                                            
⠏ |        6080 | spectra_subsetting                                            
⠙ |        6082 | spectra_subsetting                                            
⠸ |        6084 | spectra_subsetting                                            
⠴ |        6086 | spectra_subsetting                                            
⠧ |        6088 | spectra_subsetting                                            
⠏ |        6090 | spectra_subsetting                                            
⠙ |        6092 | spectra_subsetting                                            
⠸ |        6094 | spectra_subsetting                                            
⠴ |        6096 | spectra_subsetting                                            
⠧ |        6098 | spectra_subsetting                                            
⠏ |        6100 | spectra_subsetting                                            
⠙ |        6102 | spectra_subsetting                                            
⠸ |        6104 | spectra_subsetting                                            
⠴ |        6106 | spectra_subsetting                                            
⠧ |        6108 | spectra_subsetting                                            
⠏ |        6110 | spectra_subsetting                                            
⠙ |        6112 | spectra_subsetting                                            
⠸ |        6114 | spectra_subsetting                                            
⠴ |        6116 | spectra_subsetting                                            
⠧ |        6118 | spectra_subsetting                                            
⠏ |        6120 | spectra_subsetting                                            
⠙ |        6122 | spectra_subsetting                                            
⠸ |        6124 | spectra_subsetting                                            
⠴ |        6126 | spectra_subsetting                                            
⠧ |        6128 | spectra_subsetting                                            
⠏ |        6130 | spectra_subsetting                                            
⠙ |        6132 | spectra_subsetting                                            
⠸ |        6134 | spectra_subsetting                                            
⠴ |        6136 | spectra_subsetting                                            
⠧ |        6138 | spectra_subsetting                                            
⠏ |        6140 | spectra_subsetting                                            
⠋ |        6141 | spectra_subsetting                                            
⠹ |        6143 | spectra_subsetting                                            
⠼ |        6145 | spectra_subsetting                                            
⠦ |        6147 | spectra_subsetting                                            
⠇ |        6149 | spectra_subsetting                                            
⠋ |        6151 | spectra_subsetting                                            
⠹ |        6153 | spectra_subsetting                                            
⠼ |        6155 | spectra_subsetting                                            
⠦ |        6157 | spectra_subsetting                                            
⠇ |        6159 | spectra_subsetting                                            
⠋ |        6161 | spectra_subsetting                                            
⠙ |        6162 | spectra_subsetting                                            
⠸ |        6164 | spectra_subsetting                                            
⠴ |        6166 | spectra_subsetting                                            
⠧ |        6168 | spectra_subsetting                                            
⠏ |        6170 | spectra_subsetting                                            
⠙ |        6172 | spectra_subsetting                                            
⠸ |        6174 | spectra_subsetting                                            
⠴ |        6176 | spectra_subsetting                                            
⠧ |        6178 | spectra_subsetting                                            
⠏ |        6180 | spectra_subsetting                                            
⠙ |        6182 | spectra_subsetting                                            
⠸ |        6184 | spectra_subsetting                                            
⠴ |        6186 | spectra_subsetting                                            
⠧ |        6188 | spectra_subsetting                                            
⠏ |        6190 | spectra_subsetting                                            
⠙ |        6192 | spectra_subsetting                                            
⠸ |        6194 | spectra_subsetting                                            
⠴ |        6196 | spectra_subsetting                                            
⠧ |        6198 | spectra_subsetting                                            
⠏ |        6200 | spectra_subsetting                                            
⠙ |        6202 | spectra_subsetting                                            
⠸ |        6204 | spectra_subsetting                                            
⠴ |        6206 | spectra_subsetting                                            
⠧ |        6208 | spectra_subsetting                                            
⠏ |        6210 | spectra_subsetting                                            
⠙ |        6212 | spectra_subsetting                                            
⠸ |        6214 | spectra_subsetting                                            
⠴ |        6216 | spectra_subsetting                                            
⠧ |        6218 | spectra_subsetting                                            
⠏ |        6220 | spectra_subsetting                                            
⠙ |        6222 | spectra_subsetting                                            
⠸ |        6224 | spectra_subsetting                                            
⠴ |        6226 | spectra_subsetting                                            
⠧ |        6228 | spectra_subsetting                                            
⠏ |        6230 | spectra_subsetting                                            
⠙ |        6232 | spectra_subsetting                                            
⠸ |        6234 | spectra_subsetting                                            
⠴ |        6236 | spectra_subsetting                                            
⠧ |        6238 | spectra_subsetting                                            
⠏ |        6240 | spectra_subsetting                                            
⠙ |        6242 | spectra_subsetting                                            
⠸ |        6244 | spectra_subsetting                                            
⠴ |        6246 | spectra_subsetting                                            
⠧ |        6248 | spectra_subsetting                                            
⠏ |        6250 | spectra_subsetting                                            
⠙ |        6252 | spectra_subsetting                                            
⠸ |        6254 | spectra_subsetting                                            
⠴ |        6256 | spectra_subsetting                                            
⠧ |        6258 | spectra_subsetting                                            
⠏ |        6260 | spectra_subsetting                                            
⠙ |        6262 | spectra_subsetting                                            
⠸ |        6264 | spectra_subsetting                                            
⠴ |        6266 | spectra_subsetting                                            
⠧ |        6268 | spectra_subsetting                                            
⠏ |        6270 | spectra_subsetting                                            
⠙ |        6272 | spectra_subsetting                                            
⠸ |        6274 | spectra_subsetting                                            
⠴ |        6276 | spectra_subsetting                                            
⠧ |        6278 | spectra_subsetting                                            
⠏ |        6280 | spectra_subsetting                                            
⠙ |        6282 | spectra_subsetting                                            
⠸ |        6284 | spectra_subsetting                                            
⠴ |        6286 | spectra_subsetting                                            
⠧ |        6288 | spectra_subsetting                                            
⠏ |        6290 | spectra_subsetting                                            
⠙ |        6292 | spectra_subsetting                                            
⠸ |        6294 | spectra_subsetting                                            
⠴ |        6296 | spectra_subsetting                                            
⠧ |        6298 | spectra_subsetting                                            
⠏ |        6300 | spectra_subsetting                                            
⠙ |        6302 | spectra_subsetting                                            
⠸ |        6304 | spectra_subsetting                                            
⠴ |        6306 | spectra_subsetting                                            
⠧ |        6308 | spectra_subsetting                                            
⠇ |        6309 | spectra_subsetting                                            
⠋ |        6311 | spectra_subsetting                                            
⠹ |        6313 | spectra_subsetting                                            
⠼ |        6315 | spectra_subsetting                                            
⠦ |        6317 | spectra_subsetting                                            
⠇ |        6319 | spectra_subsetting                                            
⠋ |        6321 | spectra_subsetting                                            
⠹ |        6323 | spectra_subsetting                                            
⠼ |        6325 | spectra_subsetting                                            
⠦ |        6327 | spectra_subsetting                                            
⠇ |        6329 | spectra_subsetting                                            
⠋ |        6331 | spectra_subsetting                                            
⠹ |        6333 | spectra_subsetting                                            
⠼ |        6335 | spectra_subsetting                                            
⠦ |        6337 | spectra_subsetting                                            
⠇ |        6339 | spectra_subsetting                                            
⠋ |        6341 | spectra_subsetting                                            
⠹ |        6343 | spectra_subsetting                                            
⠼ |        6345 | spectra_subsetting                                            
⠦ |        6347 | spectra_subsetting                                            
⠇ |        6349 | spectra_subsetting                                            
⠋ |        6351 | spectra_subsetting                                            
⠹ |        6353 | spectra_subsetting                                            
⠼ |        6355 | spectra_subsetting                                            
⠦ |        6357 | spectra_subsetting                                            
⠇ |        6359 | spectra_subsetting                                            
⠋ |        6361 | spectra_subsetting                                            
⠹ |        6363 | spectra_subsetting                                            
⠼ |        6365 | spectra_subsetting                                            
⠦ |        6367 | spectra_subsetting                                            
⠇ |        6369 | spectra_subsetting                                            
⠋ |        6371 | spectra_subsetting                                            
⠹ |        6373 | spectra_subsetting                                            
⠼ |        6375 | spectra_subsetting                                            
⠦ |        6377 | spectra_subsetting                                            
⠇ |        6379 | spectra_subsetting                                            
⠋ |        6381 | spectra_subsetting                                            
⠹ |        6383 | spectra_subsetting                                            
⠼ |        6385 | spectra_subsetting                                            
⠦ |        6387 | spectra_subsetting                                            
⠇ |        6389 | spectra_subsetting                                            
⠋ |        6391 | spectra_subsetting                                            
⠹ |        6393 | spectra_subsetting                                            
⠸ |        6394 | spectra_subsetting                                            
⠴ |        6396 | spectra_subsetting                                            
⠧ |        6398 | spectra_subsetting                                            
⠏ |        6400 | spectra_subsetting                                            
⠙ |        6402 | spectra_subsetting                                            
⠸ |        6404 | spectra_subsetting                                            
⠴ |        6406 | spectra_subsetting                                            
⠧ |        6408 | spectra_subsetting                                            
⠇ |        6409 | spectra_subsetting                                            
⠋ |        6411 | spectra_subsetting                                            
⠹ |        6413 | spectra_subsetting                                            
⠼ |        6415 | spectra_subsetting                                            
⠦ |        6417 | spectra_subsetting                                            
⠇ |        6419 | spectra_subsetting                                            
⠋ |        6421 | spectra_subsetting                                            
⠹ |        6423 | spectra_subsetting                                            
⠼ |        6425 | spectra_subsetting                                            
⠦ |        6427 | spectra_subsetting                                            
⠇ |        6429 | spectra_subsetting                                            
⠋ |        6431 | spectra_subsetting                                            
⠹ |        6433 | spectra_subsetting                                            
⠼ |        6435 | spectra_subsetting                                            
⠦ |        6437 | spectra_subsetting                                            
⠇ |        6439 | spectra_subsetting                                            
⠋ |        6441 | spectra_subsetting                                            
⠹ |        6443 | spectra_subsetting                                            
⠼ |        6445 | spectra_subsetting                                            
⠦ |        6447 | spectra_subsetting                                            
⠇ |        6449 | spectra_subsetting                                            
⠋ |        6451 | spectra_subsetting                                            
⠹ |        6453 | spectra_subsetting                                            
⠼ |        6455 | spectra_subsetting                                            
⠦ |        6457 | spectra_subsetting                                            
⠇ |        6459 | spectra_subsetting                                            
⠋ |        6461 | spectra_subsetting                                            
⠹ |        6463 | spectra_subsetting                                            
⠼ |        6465 | spectra_subsetting                                            
⠦ |        6467 | spectra_subsetting                                            
⠇ |        6469 | spectra_subsetting                                            
⠋ |        6471 | spectra_subsetting                                            
⠹ |        6473 | spectra_subsetting                                            
⠼ |        6475 | spectra_subsetting                                            
⠦ |        6477 | spectra_subsetting                                            
⠇ |        6479 | spectra_subsetting                                            
⠋ |        6481 | spectra_subsetting                                            
⠹ |        6483 | spectra_subsetting                                            
⠼ |        6485 | spectra_subsetting                                            
⠦ |        6487 | spectra_subsetting                                            
⠇ |        6489 | spectra_subsetting                                            
⠋ |        6491 | spectra_subsetting                                            
⠹ |        6493 | spectra_subsetting                                            
⠼ |        6495 | spectra_subsetting                                            
⠦ |        6497 | spectra_subsetting                                            
⠇ |        6499 | spectra_subsetting                                            
⠋ |        6501 | spectra_subsetting                                            
⠹ |        6503 | spectra_subsetting                                            
⠼ |        6505 | spectra_subsetting                                            
⠦ |        6507 | spectra_subsetting                                            
⠇ |        6509 | spectra_subsetting                                            
⠋ |        6511 | spectra_subsetting                                            
⠹ |        6513 | spectra_subsetting                                            
⠼ |        6515 | spectra_subsetting                                            
⠦ |        6517 | spectra_subsetting                                            
⠇ |        6519 | spectra_subsetting                                            
⠋ |        6521 | spectra_subsetting                                            
⠹ |        6523 | spectra_subsetting                                            
⠼ |        6525 | spectra_subsetting                                            
⠦ |        6527 | spectra_subsetting                                            
⠇ |        6529 | spectra_subsetting                                            
⠋ |        6531 | spectra_subsetting                                            
⠹ |        6533 | spectra_subsetting                                            
⠼ |        6535 | spectra_subsetting                                            
⠦ |        6537 | spectra_subsetting                                            
⠇ |        6539 | spectra_subsetting                                            
⠋ |        6541 | spectra_subsetting                                            
⠹ |        6543 | spectra_subsetting                                            
⠼ |        6545 | spectra_subsetting                                            
⠦ |        6547 | spectra_subsetting                                            
⠇ |        6549 | spectra_subsetting                                            
⠋ |        6551 | spectra_subsetting                                            
⠹ |        6553 | spectra_subsetting                                            
⠼ |        6555 | spectra_subsetting                                            
⠦ |        6557 | spectra_subsetting                                            
⠇ |        6559 | spectra_subsetting                                            
⠋ |        6561 | spectra_subsetting                                            
⠹ |        6563 | spectra_subsetting                                            
⠼ |        6565 | spectra_subsetting                                            
⠦ |        6567 | spectra_subsetting                                            
⠇ |        6569 | spectra_subsetting                                            
⠋ |        6571 | spectra_subsetting                                            
⠹ |        6573 | spectra_subsetting                                            
⠼ |        6575 | spectra_subsetting                                            
⠦ |        6577 | spectra_subsetting                                            
⠇ |        6579 | spectra_subsetting                                            
⠋ |        6581 | spectra_subsetting                                            
⠹ |        6583 | spectra_subsetting                                            
⠸ |        6584 | spectra_subsetting                                            
⠴ |        6586 | spectra_subsetting                                            
⠧ |        6588 | spectra_subsetting                                            
⠇ |        6589 | spectra_subsetting                                            
⠋ |        6591 | spectra_subsetting                                            
⠹ |        6593 | spectra_subsetting                                            
⠼ |        6595 | spectra_subsetting                                            
⠦ |        6597 | spectra_subsetting                                            
⠇ |        6599 | spectra_subsetting                                            
⠋ |        6601 | spectra_subsetting                                            
⠹ |        6603 | spectra_subsetting                                            
⠼ |        6605 | spectra_subsetting                                            
⠦ |        6607 | spectra_subsetting                                            
⠇ |        6609 | spectra_subsetting                                            
⠋ |        6611 | spectra_subsetting                                            
⠹ |        6613 | spectra_subsetting                                            
⠼ |        6615 | spectra_subsetting                                            
⠦ |        6617 | spectra_subsetting                                            
⠇ |        6619 | spectra_subsetting                                            
⠋ |        6621 | spectra_subsetting                                            
⠹ |        6623 | spectra_subsetting                                            
⠼ |        6625 | spectra_subsetting                                            
⠦ |        6627 | spectra_subsetting                                            
⠇ |        6629 | spectra_subsetting                                            
⠋ |        6631 | spectra_subsetting                                            
⠹ |        6633 | spectra_subsetting                                            
⠼ |        6635 | spectra_subsetting                                            
⠦ |        6637 | spectra_subsetting                                            
⠇ |        6639 | spectra_subsetting                                            
⠋ |        6641 | spectra_subsetting                                            
⠹ |        6643 | spectra_subsetting                                            
⠼ |        6645 | spectra_subsetting                                            
⠦ |        6647 | spectra_subsetting                                            
⠇ |        6649 | spectra_subsetting                                            
⠋ |        6651 | spectra_subsetting                                            
⠹ |        6653 | spectra_subsetting                                            
⠼ |        6655 | spectra_subsetting                                            
⠦ |        6657 | spectra_subsetting                                            
⠧ |        6658 | spectra_subsetting                                            
⠏ |        6660 | spectra_subsetting                                            
⠸ |        6664 | spectra_subsetting                                            
⠹ |        6673 | spectra_subsetting                                            
⠇ |        6679 | spectra_subsetting                                            
⠙ |        6682 | spectra_subsetting                                            
⠸ |        6694 | spectra_subsetting                                            
✔ |        6702 | spectra_subsetting [151.6s]

⠏ |          0 | spectra_variables                                              
⠙ |         12 | spectra_variables                                              
⠸ |         14 | spectra_variables                                              
⠴ |         16 | spectra_variables                                              
⠦ |         27 | spectra_variables                                              
⠇ |         29 | spectra_variables                                              
⠋ |         31 | spectra_variables                                              
⠹ |         43 | spectra_variables                                              
⠸ |         54 | spectra_variables                                              
✔ |      1  62 | spectra_variables [1.8s]

══ Results ═════════════════════════════════════════════════════════════════════
Duration: 153.7 s

── Skipped tests (1) ───────────────────────────────────────────────────────────
• empty test (1): 'test_spectra_variables.R:262:1'

[ FAIL 0 | WARN 0 | SKIP 1 | PASS 6768 ]
> 
> proc.time()
   user  system elapsed 
150.970  12.687 700.691 

Example timings

MsBackendMetaboLights.Rcheck/MsBackendMetaboLights-Ex.timings

nameusersystemelapsed
MetaboLights-utils0.1230.0139.781
MsBackendMetaboLights 2.868 0.52210.747