| Back to Multiple platform build/check report for BioC 3.22: simplified long |
|
This page was generated on 2025-11-15 11:58 -0500 (Sat, 15 Nov 2025).
| Hostname | OS | Arch (*) | R version | Installed pkgs |
|---|---|---|---|---|
| nebbiolo2 | Linux (Ubuntu 24.04.3 LTS) | x86_64 | 4.5.1 Patched (2025-08-23 r88802) -- "Great Square Root" | 4903 |
| taishan | Linux (openEuler 24.03 LTS) | aarch64 | 4.5.0 (2025-04-11) -- "How About a Twenty-Six" | 4668 |
| Click on any hostname to see more info about the system (e.g. compilers) (*) as reported by 'uname -p', except on Windows and Mac OS X | ||||
| Package 1364/2361 | Hostname | OS / Arch | INSTALL | BUILD | CHECK | BUILD BIN | ||||||||
| MotifPeeker 1.2.0 (landing page) Hiranyamaya Dash
| nebbiolo2 | Linux (Ubuntu 24.04.3 LTS) / x86_64 | OK | OK | OK | |||||||||
| taishan | Linux (openEuler 24.03 LTS) / aarch64 | OK | OK | OK | ||||||||||
|
To the developers/maintainers of the MotifPeeker package: - Allow up to 24 hours (and sometimes 48 hours) for your latest push to git@git.bioconductor.org:packages/MotifPeeker.git to reflect on this report. See Troubleshooting Build Report for more information. - Use the following Renviron settings to reproduce errors and warnings. - If 'R CMD check' started to fail recently on the Linux builder(s) over a missing dependency, add the missing dependency to 'Suggests:' in your DESCRIPTION file. See Renviron.bioc for more information. - See Martin Grigorov's blog post for how to debug Linux ARM64 related issues on a x86_64 host. |
| Package: MotifPeeker |
| Version: 1.2.0 |
| Command: /home/biocbuild/R/R/bin/R CMD check --install=check:MotifPeeker.install-out.txt --library=/home/biocbuild/R/R/site-library --no-vignettes --timings MotifPeeker_1.2.0.tar.gz |
| StartedAt: 2025-11-14 11:48:12 -0000 (Fri, 14 Nov 2025) |
| EndedAt: 2025-11-14 12:00:28 -0000 (Fri, 14 Nov 2025) |
| EllapsedTime: 736.9 seconds |
| RetCode: 0 |
| Status: OK |
| CheckDir: MotifPeeker.Rcheck |
| Warnings: 0 |
##############################################################################
##############################################################################
###
### Running command:
###
### /home/biocbuild/R/R/bin/R CMD check --install=check:MotifPeeker.install-out.txt --library=/home/biocbuild/R/R/site-library --no-vignettes --timings MotifPeeker_1.2.0.tar.gz
###
##############################################################################
##############################################################################
* using log directory ‘/home/biocbuild/bbs-3.22-bioc/meat/MotifPeeker.Rcheck’
* using R version 4.5.0 (2025-04-11)
* using platform: aarch64-unknown-linux-gnu
* R was compiled by
aarch64-unknown-linux-gnu-gcc (GCC) 14.2.0
GNU Fortran (GCC) 14.2.0
* running under: openEuler 24.03 (LTS)
* using session charset: UTF-8
* using option ‘--no-vignettes’
* checking for file ‘MotifPeeker/DESCRIPTION’ ... OK
* checking extension type ... Package
* this is package ‘MotifPeeker’ version ‘1.2.0’
* package encoding: UTF-8
* checking package namespace information ... OK
* checking package dependencies ... INFO
Imports includes 25 non-default packages.
Importing from so many packages makes the package vulnerable to any of
them becoming unavailable. Move as many as possible to Suggests and
use conditionally.
* checking if this is a source package ... OK
* checking if there is a namespace ... OK
* checking for hidden files and directories ... OK
* checking for portable file names ... OK
* checking for sufficient/correct file permissions ... OK
* checking whether package ‘MotifPeeker’ can be installed ... OK
* checking installed package size ... OK
* checking package directory ... OK
* checking ‘build’ directory ... OK
* checking DESCRIPTION meta-information ... OK
* checking top-level files ... OK
* checking for left-over files ... OK
* checking index information ... OK
* checking package subdirectories ... OK
* checking code files for non-ASCII characters ... OK
* checking R files for syntax errors ... OK
* checking whether the package can be loaded ... OK
* checking whether the package can be loaded with stated dependencies ... OK
* checking whether the package can be unloaded cleanly ... OK
* checking whether the namespace can be loaded with stated dependencies ... OK
* checking whether the namespace can be unloaded cleanly ... OK
* checking loading without being on the library search path ... OK
* checking dependencies in R code ... OK
* checking S3 generic/method consistency ... OK
* checking replacement functions ... OK
* checking foreign function calls ... OK
* checking R code for possible problems ... OK
* checking Rd files ... OK
* checking Rd metadata ... OK
* checking Rd cross-references ... NOTE
Non-topic package-anchored link(s) in Rd file 'pipe.Rd':
‘[magrittr:pipe]{%>%}’
See section 'Cross-references' in the 'Writing R Extensions' manual.
* checking for missing documentation entries ... OK
* checking for code/documentation mismatches ... OK
* checking Rd \usage sections ... OK
* checking Rd contents ... OK
* checking for unstated dependencies in examples ... OK
* checking contents of ‘data’ directory ... OK
* checking data for non-ASCII characters ... OK
* checking data for ASCII and uncompressed saves ... OK
* checking files in ‘vignettes’ ... OK
* checking examples ... OK
Examples with CPU (user + system) or elapsed time > 5s
user system elapsed
MotifPeeker 99.982 8.955 110.195
motif_similarity 8.036 1.652 9.563
find_motifs 2.233 0.365 6.547
* checking for unstated dependencies in ‘tests’ ... OK
* checking tests ...
Running ‘testthat.R’
OK
* checking for unstated dependencies in vignettes ... OK
* checking package vignettes ... OK
* checking running R code from vignettes ... SKIPPED
* checking re-building of vignette outputs ... SKIPPED
* checking PDF version of manual ... OK
* DONE
Status: 1 NOTE
See
‘/home/biocbuild/bbs-3.22-bioc/meat/MotifPeeker.Rcheck/00check.log’
for details.
MotifPeeker.Rcheck/00install.out
############################################################################## ############################################################################## ### ### Running command: ### ### /home/biocbuild/R/R/bin/R CMD INSTALL MotifPeeker ### ############################################################################## ############################################################################## * installing to library ‘/home/biocbuild/R/R-4.5.0/site-library’ * installing *source* package ‘MotifPeeker’ ... ** this is package ‘MotifPeeker’ version ‘1.2.0’ ** using staged installation ** R ** data ** inst ** byte-compile and prepare package for lazy loading ** help *** installing help indices ** building package indices ** installing vignettes ** testing if installed package can be loaded from temporary location ** testing if installed package can be loaded from final location ** testing if installed package keeps a record of temporary installation path * DONE (MotifPeeker)
MotifPeeker.Rcheck/tests/testthat.Rout
R version 4.5.0 (2025-04-11) -- "How About a Twenty-Six"
Copyright (C) 2025 The R Foundation for Statistical Computing
Platform: aarch64-unknown-linux-gnu
R is free software and comes with ABSOLUTELY NO WARRANTY.
You are welcome to redistribute it under certain conditions.
Type 'license()' or 'licence()' for distribution details.
R is a collaborative project with many contributors.
Type 'contributors()' for more information and
'citation()' on how to cite R or R packages in publications.
Type 'demo()' for some demos, 'help()' for on-line help, or
'help.start()' for an HTML browser interface to help.
Type 'q()' to quit R.
> desc_path <- list.files("../","^DESCRIPTION$",
+ full.names = TRUE, recursive = TRUE)[1]
> pkg <- read.dcf(desc_path, fields = "Package")[1]
> library(testthat)
> library(pkg, character.only = TRUE)
>
> test_check(pkg)
[WARNING] This document format requires a nonempty <title> element.
Defaulting to 'MotifPeeker.knit' as the title.
To specify a title, use 'title' in metadata or --metadata title="...".
[WARNING] This document format requires a nonempty <title> element.
Defaulting to 'MotifPeeker.knit' as the title.
To specify a title, use 'title' in metadata or --metadata title="...".
[WARNING] This document format requires a nonempty <title> element.
Defaulting to 'MotifPeeker.knit' as the title.
To specify a title, use 'title' in metadata or --metadata title="...".
Warning: p-values will be inaccurate if primary and control
Warning: p-values will be inaccurate if primary and control
The output directory '/home/biocbuild/tmp/RtmpqeclcM/tomtom/2/1' already exists.
Its contents will be overwritten.
Processing query 1 out of 1
# Computing q-values.
# Estimating pi_0 from all 4692 observed p-values.
# Estimating pi_0.
# Minimal pi_zero = 1.00096
# Estimated pi_0=1
The output directory '/home/biocbuild/tmp/RtmpqeclcM/tomtom/1/1' already exists.
Its contents will be overwritten.
Processing query 1 out of 1
# Computing q-values.
# Estimating pi_0 from all 4692 observed p-values.
# Estimating pi_0.
# Minimal pi_zero = 0.999884
# Estimated pi_0=0.999884
The output directory '/home/biocbuild/tmp/RtmpqeclcM/tomtom/1/2' already exists.
Its contents will be overwritten.
Processing query 1 out of 1
# Computing q-values.
# Estimating pi_0 from all 4692 observed p-values.
# Estimating pi_0.
# Minimal pi_zero = 1.00417
# Estimated pi_0=1
The output directory '/home/biocbuild/tmp/RtmpqeclcM/tomtom/3/1' already exists.
Its contents will be overwritten.
Processing query 1 out of 1
# Computing q-values.
# Estimating pi_0 from all 4692 observed p-values.
# Estimating pi_0.
# Minimal pi_zero = 1.00288
# Estimated pi_0=1
The output directory '/home/biocbuild/tmp/RtmpqeclcM/tomtom/3/2' already exists.
Its contents will be overwritten.
Processing query 1 out of 1
# Computing q-values.
# Estimating pi_0 from all 4692 observed p-values.
# Estimating pi_0.
# Minimal pi_zero = 0.99046
# Estimated pi_0=0.99046
The output directory '/home/biocbuild/tmp/RtmpqeclcM/tomtom/4/1' already exists.
Its contents will be overwritten.
Processing query 1 out of 1
# Computing q-values.
# Estimating pi_0 from all 4692 observed p-values.
# Estimating pi_0.
# Minimal pi_zero = 0.989961
# Estimated pi_0=0.99008
The output directory '/home/biocbuild/tmp/RtmpqeclcM/tomtom/4/2' already exists.
Its contents will be overwritten.
Processing query 1 out of 1
# Computing q-values.
# Estimating pi_0 from all 4692 observed p-values.
# Estimating pi_0.
# Minimal pi_zero = 0.999983
# Estimated pi_0=1
Hello world
Hello world
### Exp2 {- .unlisted}
**Reference Experiment Label**: Exp1 (Total Reads: 100)
**Comparison Experiment Label**: Exp2 (Total Reads: 200)
## Exp2 {- .unlisted .tabset .tabset-fade .tabset-pills}
**Reference Experiment Label**: Exp1
**Comparison Experiment Label**: Exp2
[ FAIL 0 | WARN 0 | SKIP 2 | PASS 697 ]
══ Skipped tests (2) ═══════════════════════════════════════════════════════════
• On CRAN (2): 'test-check_ENCODE.R:1:1', 'test-check_JASPAR.R:1:1'
[ FAIL 0 | WARN 0 | SKIP 2 | PASS 697 ]
>
> proc.time()
user system elapsed
188.506 16.620 229.584
Error while shutting down parallel: unable to terminate some child processes
MotifPeeker.Rcheck/MotifPeeker-Ex.timings
| name | user | system | elapsed | |
| MotifPeeker | 99.982 | 8.955 | 110.195 | |
| bpapply | 0.015 | 0.140 | 0.179 | |
| calc_frip | 0.128 | 0.044 | 0.559 | |
| check_ENCODE | 0.377 | 0.100 | 1.712 | |
| check_JASPAR | 0.342 | 0.052 | 0.395 | |
| check_genome_build | 0.002 | 0.004 | 0.006 | |
| denovo_motifs | 2.347 | 0.373 | 2.665 | |
| find_motifs | 2.233 | 0.365 | 6.547 | |
| format_exptype | 0.000 | 0.000 | 0.001 | |
| get_JASPARCORE | 0.428 | 0.060 | 0.510 | |
| get_df_distances | 0.117 | 0.080 | 1.871 | |
| get_df_enrichment | 0.273 | 0.314 | 4.977 | |
| motif_enrichment | 0.577 | 0.205 | 0.920 | |
| motif_similarity | 8.036 | 1.652 | 9.563 | |
| pipe | 0 | 0 | 0 | |
| pretty_number | 0.000 | 0.000 | 0.001 | |
| read_motif_file | 0.002 | 0.003 | 0.005 | |
| read_peak_file | 0.120 | 0.040 | 0.161 | |
| read_peak_file_macs | 0.079 | 0.020 | 0.100 | |
| report_command | 0.000 | 0.000 | 0.001 | |
| report_header | 0.003 | 0.000 | 0.002 | |
| save_peak_file | 0.032 | 0.004 | 0.036 | |
| segregate_seqs | 0.174 | 0.012 | 0.186 | |
| summit_to_motif | 0.644 | 0.183 | 0.854 | |
| to_plotly | 0.357 | 0.109 | 0.468 | |
| trim_seqs | 0.02 | 0.01 | 0.03 | |