| Back to Multiple platform build/check report for BioC 3.22: simplified long |
|
This page was generated on 2025-11-12 11:58 -0500 (Wed, 12 Nov 2025).
| Hostname | OS | Arch (*) | R version | Installed pkgs |
|---|---|---|---|---|
| nebbiolo2 | Linux (Ubuntu 24.04.3 LTS) | x86_64 | 4.5.1 Patched (2025-08-23 r88802) -- "Great Square Root" | 4902 |
| taishan | Linux (openEuler 24.03 LTS) | aarch64 | 4.5.0 (2025-04-11) -- "How About a Twenty-Six" | 4668 |
| Click on any hostname to see more info about the system (e.g. compilers) (*) as reported by 'uname -p', except on Windows and Mac OS X | ||||
| Package 1389/2361 | Hostname | OS / Arch | INSTALL | BUILD | CHECK | BUILD BIN | ||||||||
| MSnbase 2.36.0 (landing page) Laurent Gatto
| nebbiolo2 | Linux (Ubuntu 24.04.3 LTS) / x86_64 | OK | OK | OK | |||||||||
| taishan | Linux (openEuler 24.03 LTS) / aarch64 | OK | OK | TIMEOUT | ||||||||||
|
To the developers/maintainers of the MSnbase package: - Allow up to 24 hours (and sometimes 48 hours) for your latest push to git@git.bioconductor.org:packages/MSnbase.git to reflect on this report. See Troubleshooting Build Report for more information. - Use the following Renviron settings to reproduce errors and warnings. - If 'R CMD check' started to fail recently on the Linux builder(s) over a missing dependency, add the missing dependency to 'Suggests:' in your DESCRIPTION file. See Renviron.bioc for more information. - See Martin Grigorov's blog post for how to debug Linux ARM64 related issues on a x86_64 host. |
| Package: MSnbase |
| Version: 2.36.0 |
| Command: /home/biocbuild/R/R/bin/R CMD check --install=check:MSnbase.install-out.txt --library=/home/biocbuild/R/R/site-library --no-vignettes --timings MSnbase_2.36.0.tar.gz |
| StartedAt: 2025-11-11 12:08:49 -0000 (Tue, 11 Nov 2025) |
| EndedAt: 2025-11-11 12:48:50 -0000 (Tue, 11 Nov 2025) |
| EllapsedTime: 2400.3 seconds |
| RetCode: None |
| Status: TIMEOUT |
| CheckDir: MSnbase.Rcheck |
| Warnings: NA |
##############################################################################
##############################################################################
###
### Running command:
###
### /home/biocbuild/R/R/bin/R CMD check --install=check:MSnbase.install-out.txt --library=/home/biocbuild/R/R/site-library --no-vignettes --timings MSnbase_2.36.0.tar.gz
###
##############################################################################
##############################################################################
* using log directory ‘/home/biocbuild/bbs-3.22-bioc/meat/MSnbase.Rcheck’
* using R version 4.5.0 (2025-04-11)
* using platform: aarch64-unknown-linux-gnu
* R was compiled by
aarch64-unknown-linux-gnu-gcc (GCC) 14.2.0
GNU Fortran (GCC) 14.2.0
* running under: openEuler 24.03 (LTS)
* using session charset: UTF-8
* using option ‘--no-vignettes’
* checking for file ‘MSnbase/DESCRIPTION’ ... OK
* this is package ‘MSnbase’ version ‘2.36.0’
* package encoding: UTF-8
* checking package namespace information ... OK
* checking package dependencies ... OK
* checking if this is a source package ... OK
* checking if there is a namespace ... OK
* checking for hidden files and directories ... OK
* checking for portable file names ... OK
* checking for sufficient/correct file permissions ... OK
* checking whether package ‘MSnbase’ can be installed ... OK
* used C compiler: ‘aarch64-unknown-linux-gnu-gcc (GCC) 14.2.0’
* used C++ compiler: ‘aarch64-unknown-linux-gnu-g++ (GCC) 14.2.0’
* checking installed package size ... INFO
installed size is 6.9Mb
sub-directories of 1Mb or more:
R 2.5Mb
data 1.9Mb
libs 1.2Mb
* checking package directory ... OK
* checking ‘build’ directory ... OK
* checking DESCRIPTION meta-information ... NOTE
Authors@R field gives more than one person with maintainer role:
Laurent Gatto <laurent.gatto@uclouvain.be> [aut, cre] (ORCID: <https://orcid.org/0000-0002-1520-2268>)
Johannes Rainer <Johannes.Rainer@eurac.edu> [aut, cre] (ORCID: <https://orcid.org/0000-0002-6977-7147>)
Sebastian Gibb <mail@sebastiangibb.de> [aut, cre] (ORCID: <https://orcid.org/0000-0001-7406-4443>)
* checking top-level files ... OK
* checking for left-over files ... OK
* checking index information ... OK
* checking package subdirectories ... OK
* checking code files for non-ASCII characters ... OK
* checking R files for syntax errors ... OK
* checking whether the package can be loaded ... OK
* checking whether the package can be loaded with stated dependencies ... OK
* checking whether the package can be unloaded cleanly ... OK
* checking whether the namespace can be loaded with stated dependencies ... OK
* checking whether the namespace can be unloaded cleanly ... OK
* checking loading without being on the library search path ... OK
* checking whether startup messages can be suppressed ... OK
* checking dependencies in R code ... NOTE
':::' calls which should be '::':
‘S4Vectors:::makeClassinfoRowForCompactPrinting’
‘S4Vectors:::makePrettyMatrixForCompactPrinting’
See the note in ?`:::` about the use of this operator.
Unexported objects imported by ':::' calls:
‘Biobase:::.showAnnotatedDataFrame’ ‘MALDIquant:::.estimateNoise’
‘MALDIquant:::.localMaxima’ ‘MALDIquant:::.movingAverage’
‘MALDIquant:::.savitzkyGolay’ ‘mzR:::.hasChromatograms’
‘mzR:::.hasSpectra’
See the note in ?`:::` about the use of this operator.
* checking S3 generic/method consistency ... OK
* checking replacement functions ... OK
* checking foreign function calls ... OK
* checking R code for possible problems ... OK
* checking Rd files ... OK
* checking Rd metadata ... OK
* checking Rd cross-references ... NOTE
Non-topic package-anchored link(s) in Rd file 'impute.Rd':
‘[MsCoreUtils:imputation]{MsCoreUtils::impute_matrix()}’
See section 'Cross-references' in the 'Writing R Extensions' manual.
Found the following Rd file(s) with Rd \link{} targets missing package
anchors:
Chromatogram-class.Rd: closest
FeaturesOfInterest-class.Rd: Versioned-class
MIAPE-class.Rd: MIAME-class, MIAxE-class, Versioned-class
MSnExp-class.Rd: AnnotatedDataFrame-class, phenoData, eSet-class,
featureData, experimentData, protocolData, Versions-class,
VersionedBiobase-class, Versioned-class, isolationWindow
MSnProcess-class.Rd: Versioned-class
MSnSet-class.Rd: eSet-class, ExpressionSet-class,
AnnotatedDataFrame-class, AssayData-class, exprs, assayData,
phenoData, featureData, experimentData, protocolData,
Versions-class, VersionedBiobase-class, Versioned-class, impute,
meanSdPlot, ma.plot, mva.pairs
MSnSetList-class.Rd: AnnotatedDataFrame-class
MSpectra.Rd: mcols, DataFrame, SimpleList
OnDiskMSnExp-class.Rd: AnnotatedDataFrame-class, phenoData,
featureData, experimentData, eSet-class, protocolData,
Versions-class, VersionedBiobase-class, Versioned-class
ProcessingStep-class.Rd: Versioned-class
ReporterIons-class.Rd: Versioned-class
Spectrum-class.Rd: Versioned-class
Spectrum1-class.Rd: Versioned-class
Spectrum2-class.Rd: Versioned-class
combineFeatures.Rd: impute
combineSpectra.Rd: bpparam
extractSpectraData.Rd: DataFrame
normToReference.Rd: exprs
normalise-methods.Rd: vsn2
pSet-class.Rd: eSet-class, AnnotatedDataFrame-class, phenoData,
featureData, experimentData, protocolData, Versions-class,
VersionedBiobase-class, Versioned-class
plotMzDelta-methods.Rd: geom_histogram
readMSData.Rd: AnnotatedDataFrame-class
readMSnSet.Rd: readExpressionSet, read.AnnotatedDataFrame, read.MIAME
readMgfData.Rd: AnnotatedDataFrame-class
Please provide package anchors for all Rd \link{} targets not in the
package itself and the base packages.
* checking for missing documentation entries ... OK
* checking for code/documentation mismatches ... OK
* checking Rd \usage sections ... OK
* checking Rd contents ... OK
* checking for unstated dependencies in examples ... OK
* checking contents of ‘data’ directory ... OK
* checking data for non-ASCII characters ... OK
* checking LazyData ... OK
* checking data for ASCII and uncompressed saves ... OK
* checking line endings in C/C++/Fortran sources/headers ... OK
* checking compiled code ... NOTE
Note: information on .o files is not available
* checking files in ‘vignettes’ ... OK
* checking examples ... OK
Examples with CPU (user + system) or elapsed time > 5s
user system elapsed
chromatogram-MSnExp-method 15.221 0.281 15.573
OnDiskMSnExp-class 10.108 0.103 10.375
averageMSnSet 6.848 0.194 7.420
MSnSet-class 6.776 0.108 6.907
aggvar 5.702 0.020 5.746
plot-methods 5.277 0.084 5.496
combineSpectra 5.290 0.051 5.358
estimateMzResolution 5.255 0.076 5.362
MzTab-class 0.793 0.031 10.070
* checking for unstated dependencies in ‘tests’ ... OK
* checking tests ...
Running ‘testthat.R’
MSnbase.Rcheck/00install.out
##############################################################################
##############################################################################
###
### Running command:
###
### /home/biocbuild/R/R/bin/R CMD INSTALL MSnbase
###
##############################################################################
##############################################################################
* installing to library ‘/home/biocbuild/R/R-4.5.0/site-library’
* installing *source* package ‘MSnbase’ ...
** this is package ‘MSnbase’ version ‘2.36.0’
** using staged installation
** libs
using C compiler: ‘aarch64-unknown-linux-gnu-gcc (GCC) 14.2.0’
using C++ compiler: ‘aarch64-unknown-linux-gnu-g++ (GCC) 14.2.0’
/opt/ohpc/pub/compiler/gcc/14.2.0/bin/aarch64-unknown-linux-gnu-g++ -std=gnu++17 -I"/home/biocbuild/R/R-4.5.0/include" -DNDEBUG -I'/home/biocbuild/R/R-4.5.0/site-library/Rcpp/include' -I/usr/local/include -fPIC -g -O2 -Wall -Werror=format-security -c RcppExports.cpp -o RcppExports.o
/opt/ohpc/pub/compiler/gcc/14.2.0/bin/aarch64-unknown-linux-gnu-gcc -std=gnu23 -I"/home/biocbuild/R/R-4.5.0/include" -DNDEBUG -I'/home/biocbuild/R/R-4.5.0/site-library/Rcpp/include' -I/usr/local/include -fPIC -g -O2 -Wall -Werror=format-security -c Spectrum1_class.c -o Spectrum1_class.o
Spectrum1_class.c:8:13: warning: ‘_new_Spectrum1’ defined but not used [-Wunused-function]
8 | static SEXP _new_Spectrum1(SEXP msLevel, SEXP peaksCount, SEXP rt,
| ^~~~~~~~~~~~~~
/opt/ohpc/pub/compiler/gcc/14.2.0/bin/aarch64-unknown-linux-gnu-gcc -std=gnu23 -I"/home/biocbuild/R/R-4.5.0/include" -DNDEBUG -I'/home/biocbuild/R/R-4.5.0/site-library/Rcpp/include' -I/usr/local/include -fPIC -g -O2 -Wall -Werror=format-security -c Spectrum2_class.c -o Spectrum2_class.o
Spectrum2_class.c:9:13: warning: ‘_new_Spectrum2’ defined but not used [-Wunused-function]
9 | static SEXP _new_Spectrum2(SEXP msLevel, SEXP peaksCount, SEXP rt,
| ^~~~~~~~~~~~~~
/opt/ohpc/pub/compiler/gcc/14.2.0/bin/aarch64-unknown-linux-gnu-g++ -std=gnu++17 -I"/home/biocbuild/R/R-4.5.0/include" -DNDEBUG -I'/home/biocbuild/R/R-4.5.0/site-library/Rcpp/include' -I/usr/local/include -fPIC -g -O2 -Wall -Werror=format-security -c imp_neighbour_avg.cpp -o imp_neighbour_avg.o
/opt/ohpc/pub/compiler/gcc/14.2.0/bin/aarch64-unknown-linux-gnu-gcc -std=gnu23 -I"/home/biocbuild/R/R-4.5.0/include" -DNDEBUG -I'/home/biocbuild/R/R-4.5.0/site-library/Rcpp/include' -I/usr/local/include -fPIC -g -O2 -Wall -Werror=format-security -c utils.c -o utils.o
utils.c: In function ‘compar_double_dd_for_stable_asc_order’:
utils.c:92:15: warning: unused variable ‘ret’ [-Wunused-variable]
92 | int i1, i2, ret;
| ^~~
utils.c: In function ‘compar_double_dd_for_stable_desc_order’:
utils.c:107:15: warning: unused variable ‘ret’ [-Wunused-variable]
107 | int i1, i2, ret;
| ^~~
utils.c: In function ‘compar_double_asc_order’:
utils.c:123:18: warning: unused variable ‘ret’ [-Wunused-variable]
123 | double d1, d2, ret;
| ^~~
utils.c: In function ‘compar_double_desc_order’:
utils.c:133:18: warning: unused variable ‘ret’ [-Wunused-variable]
133 | double d1, d2, ret;
| ^~~
utils.c: At top level:
utils.c:131:12: warning: ‘compar_double_desc_order’ defined but not used [-Wunused-function]
131 | static int compar_double_desc_order(const void *p1, const void *p2)
| ^~~~~~~~~~~~~~~~~~~~~~~~
utils.c:121:12: warning: ‘compar_double_asc_order’ defined but not used [-Wunused-function]
121 | static int compar_double_asc_order(const void *p1, const void *p2)
| ^~~~~~~~~~~~~~~~~~~~~~~
/opt/ohpc/pub/compiler/gcc/14.2.0/bin/aarch64-unknown-linux-gnu-g++ -std=gnu++17 -shared -L/home/biocbuild/R/R-4.5.0/lib -L/usr/local/lib -o MSnbase.so RcppExports.o Spectrum1_class.o Spectrum2_class.o imp_neighbour_avg.o utils.o -L/home/biocbuild/R/R-4.5.0/lib -lR
installing to /home/biocbuild/R/R-4.5.0/site-library/00LOCK-MSnbase/00new/MSnbase/libs
** R
** data
*** moving datasets to lazyload DB
Creating a new generic function for ‘trimws’ in package ‘MSnbase’
in method for ‘coerce’ with signature ‘"IBSpectra","MSnSet"’: no definition for class “IBSpectra”
in method for ‘plotMzDelta’ with signature ‘"mzRramp"’: no definition for class “mzRramp”
** inst
** byte-compile and prepare package for lazy loading
Creating a new generic function for ‘trimws’ in package ‘MSnbase’
in method for ‘coerce’ with signature ‘"IBSpectra","MSnSet"’: no definition for class “IBSpectra”
in method for ‘plotMzDelta’ with signature ‘"mzRramp"’: no definition for class “mzRramp”
** help
*** installing help indices
** building package indices
** installing vignettes
** testing if installed package can be loaded from temporary location
** checking absolute paths in shared objects and dynamic libraries
** testing if installed package can be loaded from final location
** testing if installed package keeps a record of temporary installation path
* DONE (MSnbase)
MSnbase.Rcheck/tests/testthat.Rout
R version 4.5.0 (2025-04-11) -- "How About a Twenty-Six"
Copyright (C) 2025 The R Foundation for Statistical Computing
Platform: aarch64-unknown-linux-gnu
R is free software and comes with ABSOLUTELY NO WARRANTY.
You are welcome to redistribute it under certain conditions.
Type 'license()' or 'licence()' for distribution details.
R is a collaborative project with many contributors.
Type 'contributors()' for more information and
'citation()' on how to cite R or R packages in publications.
Type 'demo()' for some demos, 'help()' for on-line help, or
'help.start()' for an HTML browser interface to help.
Type 'q()' to quit R.
> # setting R_TESTS to empty string because of
> # https://github.com/hadley/testthat/issues/144
> # revert this when that issue in R is fixed.
> Sys.setenv("R_TESTS" = "")
> library("testthat")
> library("MSnbase")
Loading required package: BiocGenerics
Loading required package: generics
Attaching package: 'generics'
The following objects are masked from 'package:base':
as.difftime, as.factor, as.ordered, intersect, is.element, setdiff,
setequal, union
Attaching package: 'BiocGenerics'
The following objects are masked from 'package:stats':
IQR, mad, sd, var, xtabs
The following objects are masked from 'package:base':
Filter, Find, Map, Position, Reduce, anyDuplicated, aperm, append,
as.data.frame, basename, cbind, colnames, dirname, do.call,
duplicated, eval, evalq, get, grep, grepl, is.unsorted, lapply,
mapply, match, mget, order, paste, pmax, pmax.int, pmin, pmin.int,
rank, rbind, rownames, sapply, saveRDS, table, tapply, unique,
unsplit, which.max, which.min
Loading required package: Biobase
Welcome to Bioconductor
Vignettes contain introductory material; view with
'browseVignettes()'. To cite Bioconductor, see
'citation("Biobase")', and for packages 'citation("pkgname")'.
Loading required package: mzR
Loading required package: Rcpp
Loading required package: S4Vectors
Loading required package: stats4
Attaching package: 'S4Vectors'
The following object is masked from 'package:utils':
findMatches
The following objects are masked from 'package:base':
I, expand.grid, unname
Loading required package: ProtGenerics
Attaching package: 'ProtGenerics'
The following object is masked from 'package:stats':
smooth
This is MSnbase version 2.36.0
Visit https://lgatto.github.io/MSnbase/ to get started.
Consider switching to the 'R for Mass Spectrometry'
packages - see https://RforMassSpectrometry.org for details.
Attaching package: 'MSnbase'
The following object is masked from 'package:base':
trimws
> setMSnbaseVerbose(FALSE)
> ## register(SerialParam()) ## see issue 205
>
> ## Erwinia
> f <- msdata::proteomics(full.names = TRUE,
+ pattern = "TMT_Erwinia_1uLSike_Top10HCD_isol2_45stepped_60min_01.mzML.gz")
> tmt_erwinia_in_mem_ms1 <- readMSData(f, msLevel = 1)
> tmt_erwinia_in_mem_ms2 <- readMSData(f, msLevel = 2)
> tmt_erwinia_on_disk <- readMSData(f, mode = "onDisk")
> tmt_erwinia_on_disk_ms1 <- readMSData(f, msLevel = 1, mode = "onDisk")
> tmt_erwinia_on_disk_ms2 <- readMSData(f, msLevel = 2, mode = "onDisk")
> ## subset by rt
> tmt_im_ms1_sub <- filterRt(tmt_erwinia_in_mem_ms1, c(1200, 1250))
> tmt_im_ms2_sub <- filterRt(tmt_erwinia_in_mem_ms2, c(1200, 1250))
> tmt_od_sub <- filterRt(tmt_erwinia_on_disk, c(1200, 1250))
> tmt_od_ms1_sub <- filterRt(tmt_erwinia_on_disk_ms1, c(1200, 1250))
> tmt_od_ms2_sub <- filterRt(tmt_erwinia_on_disk_ms2, c(1200, 1250))
>
> ## microtofq
> f <- c(system.file("microtofq/MM14.mzML", package = "msdata"),
+ system.file("microtofq/MM8.mzML", package = "msdata"))
> microtofq_in_mem_ms1 <- readMSData(f, msLevel = 1)
> microtofq_on_disk_ms1 <- readMSData(f, msLevel = 1, mode = "onDisk")
> microtofq_on_disk <- readMSData(f, mode = "onDisk")
>
> ## extdata mzML
> f <- dir(system.file(package = "MSnbase", dir = "extdata"),
+ full.name = TRUE, pattern = "mzXML$")
> extdata_mzXML_in_mem_ms2 <- readMSData(f, verbose = FALSE, centroided. = FALSE)
> extdata_mzXML_on_disk <- readMSData(f, centroided. = FALSE, mode = "onDisk")
> extdata_mzXML_on_disk_ms2 <- readMSData(f, msLevel = 2, centroided. = FALSE, mode = "onDisk")
>
> sf <- dir(system.file("sciex", package = "msdata"), full.names = TRUE)
> sciex <- readMSData(sf, mode = "onDisk")
>
> test_check("MSnbase")
Experiment data
Experimenter name: Laurent Gatto
Laboratory: Cambridge Centre for Proteomics (CCP)
Contact information: Laurent Gatto
Contact email: lg390@cam.ac.uk
Title: Example 'MSnExp' data set
URL:
PMIDs:
No abstract available.
Instrument :
Model: test (1)
Manufacturer:
Customisations:
Use 'msInfo(object)' for more MIAPE-MS information.
Experiment data
Experimenter name: Laurent Gatto
Laboratory: Cambridge Centre for Proteomics (CCP)
Contact information: Laurent Gatto
Contact email: lg390@cam.ac.uk
Title: Example 'MSnExp' data set
URL:
PMIDs:
No abstract available.
notes:
Note1:
First note
MIAPE-MS information:
1. General features:
Date stamp:
Contact: Laurent Gatto
Name: Laurent Gatto
Laboratory: Cambridge Centre for Proteomics (CCP)
Instument model: test
Manufacturer:
Customisations:
Software:
Version:
Switching:
Param file:
2. Ion source
Source:
Source details:
3. Post-source componentry
Analyzer:
Analyzer details:
Collision gas:
Pressure: bars
Energy:
Detector type:
Sensitivity:
MSnbase.Rcheck/MSnbase-Ex.timings
| name | user | system | elapsed | |
| Chromatogram-class | 0.084 | 0.028 | 0.113 | |
| FeatComp-class | 0.308 | 0.008 | 0.333 | |
| FeaturesOfInterest-class | 0.062 | 0.004 | 0.067 | |
| MChromatograms-class | 0.203 | 0.004 | 0.210 | |
| MSmap-class | 0 | 0 | 0 | |
| MSnExp-class | 1.032 | 0.028 | 1.068 | |
| MSnProcess-class | 0.001 | 0.000 | 0.002 | |
| MSnSet-class | 6.776 | 0.108 | 6.907 | |
| MSnSetList-class | 1.381 | 0.004 | 1.391 | |
| MSpectra | 0.102 | 0.000 | 0.102 | |
| MzTab-class | 0.793 | 0.031 | 10.070 | |
| OnDiskMSnExp-class | 10.108 | 0.103 | 10.375 | |
| ProcessingStep-class | 0.003 | 0.000 | 0.003 | |
| ReporterIons-class | 0.010 | 0.004 | 0.014 | |
| TMT6 | 0.008 | 0.000 | 0.009 | |
| addIdentificationData-methods | 1.054 | 0.004 | 1.066 | |
| aggvar | 5.702 | 0.020 | 5.746 | |
| averageMSnSet | 6.848 | 0.194 | 7.420 | |
| bin-methods | 0.403 | 0.000 | 0.405 | |
| calculateFragments-methods | 1.337 | 0.036 | 1.377 | |
| chromatogram-MSnExp-method | 15.221 | 0.281 | 15.573 | |
| clean-methods | 0.177 | 0.020 | 0.198 | |
| combineFeatures | 1.496 | 0.015 | 1.515 | |
| combineSpectra | 5.290 | 0.051 | 5.358 | |
| combineSpectraMovingWindow | 3.425 | 0.020 | 3.454 | |
| commonFeatureNames | 1.587 | 0.028 | 1.619 | |
| compareSpectra-methods | 0.191 | 0.000 | 0.191 | |
| consensusSpectrum | 0.041 | 0.000 | 0.041 | |
| estimateMzResolution | 5.255 | 0.076 | 5.362 | |
| estimateMzScattering | 1.742 | 0.016 | 1.763 | |
| estimateNoise-method | 0.013 | 0.000 | 0.012 | |
| extractPrecSpectra-methods | 1.238 | 0.004 | 1.244 | |
| extractSpectraData | 2.536 | 0.083 | 2.748 | |
| fData-utils | 0.412 | 0.004 | 0.426 | |
| factorsAsStrings | 0.014 | 0.000 | 0.014 | |
| featureCV | 0.026 | 0.000 | 0.026 | |
| fillUp | 0.003 | 0.000 | 0.004 | |
| formatRt | 0 | 0 | 0 | |
| getVariableName | 0.004 | 0.000 | 0.003 | |
| hasSpectraOrChromatograms | 0.371 | 0.012 | 0.395 | |
| iPQF | 0.343 | 0.004 | 0.347 | |
| iTRAQ4 | 0.013 | 0.000 | 0.013 | |
| imageNA2 | 4.320 | 0.004 | 4.337 | |
| impute | 1.408 | 0.015 | 1.430 | |
| isCentroidedFromFile | 2.470 | 0.032 | 2.513 | |
| itraqdata | 0.045 | 0.004 | 0.048 | |
| listOf | 0.001 | 0.000 | 0.001 | |
| makeCamelCase | 0.001 | 0.000 | 0.000 | |
| makeNaData | 0.474 | 0.004 | 0.479 | |
| meanMzInts | 0.051 | 0.000 | 0.051 | |
| missing-data | 4.008 | 0.012 | 4.031 | |
| mzRident2dfr | 0.038 | 0.000 | 0.037 | |
| nFeatures | 0.471 | 0.000 | 0.473 | |
| nQuants | 0.152 | 0.003 | 0.155 | |
| naplot | 0.071 | 0.000 | 0.071 | |
| normToReference | 0.230 | 0.003 | 0.234 | |
| normalise-methods | 0.014 | 0.004 | 0.018 | |
| npcv | 0.006 | 0.000 | 0.005 | |
| pSet-class | 0.001 | 0.000 | 0.001 | |
| pickPeaks-method | 0.417 | 0.008 | 0.426 | |
| plot-methods | 5.277 | 0.084 | 5.496 | |
| plot2d-methods | 0.996 | 0.000 | 0.999 | |
| plotDensity-methods | 1.139 | 0.000 | 1.407 | |
| plotMzDelta-methods | 1.071 | 0.004 | 1.081 | |
| plotNA-methods | 0.932 | 0.000 | 0.935 | |
| plotSpectrumSpectrum-methods | 1.674 | 0.036 | 1.715 | |
| precSelection | 0.009 | 0.000 | 0.009 | |
| purityCorrect-methods | 0.019 | 0.004 | 0.025 | |
| quantify-methods | 3.597 | 0.003 | 3.613 | |
| readMSData | 2.346 | 0.004 | 2.355 | |
| readMSnSet | 0.096 | 0.004 | 0.108 | |
| readMgfData | 1.793 | 0.012 | 1.812 | |
| readMzIdData | 0.702 | 0.088 | 0.927 | |
| readMzTabData | 1.107 | 0.008 | 1.641 | |
| readMzTabData_v0.9 | 0.208 | 0.000 | 1.730 | |
| readSRMData | 1.432 | 0.032 | 1.469 | |
| reduce-data.frame-method | 0.018 | 0.000 | 0.019 | |
| removeNoId-methods | 1.470 | 0.032 | 1.507 | |
| removePeaks-methods | 0.691 | 0.008 | 0.701 | |
| removeReporters-methods | 1.169 | 0.004 | 1.178 | |
| selectFeatureData | 1.457 | 0.016 | 1.501 | |
| smooth-methods | 0.288 | 0.012 | 0.301 | |
| trimMz-methods | 0.192 | 0.020 | 0.213 | |
| writeMgfData-methods | 1.805 | 0.024 | 1.934 | |