| Back to Multiple platform build/check report for BioC 3.21: simplified long |
|
This page was generated on 2025-08-18 11:42 -0400 (Mon, 18 Aug 2025).
| Hostname | OS | Arch (*) | R version | Installed pkgs |
|---|---|---|---|---|
| nebbiolo1 | Linux (Ubuntu 24.04.3 LTS) | x86_64 | 4.5.1 (2025-06-13) -- "Great Square Root" | 4824 |
| palomino7 | Windows Server 2022 Datacenter | x64 | 4.5.1 (2025-06-13 ucrt) -- "Great Square Root" | 4566 |
| merida1 | macOS 12.7.5 Monterey | x86_64 | 4.5.1 RC (2025-06-05 r88288) -- "Great Square Root" | 4604 |
| kjohnson1 | macOS 13.6.6 Ventura | arm64 | 4.5.1 Patched (2025-06-14 r88325) -- "Great Square Root" | 4545 |
| kunpeng2 | Linux (openEuler 24.03 LTS) | aarch64 | R Under development (unstable) (2025-02-19 r87757) -- "Unsuffered Consequences" | 4579 |
| Click on any hostname to see more info about the system (e.g. compilers) (*) as reported by 'uname -p', except on Windows and Mac OS X | ||||
| Package 1195/2341 | Hostname | OS / Arch | INSTALL | BUILD | CHECK | BUILD BIN | ||||||||
| MBECS 1.12.0 (landing page) Michael Olbrich
| nebbiolo1 | Linux (Ubuntu 24.04.3 LTS) / x86_64 | OK | OK | OK | |||||||||
| palomino7 | Windows Server 2022 Datacenter / x64 | OK | OK | OK | OK | |||||||||
| merida1 | macOS 12.7.5 Monterey / x86_64 | OK | OK | OK | OK | |||||||||
| kjohnson1 | macOS 13.6.6 Ventura / arm64 | OK | OK | OK | OK | |||||||||
| kunpeng2 | Linux (openEuler 24.03 LTS) / aarch64 | OK | OK | OK | ||||||||||
|
To the developers/maintainers of the MBECS package: - Allow up to 24 hours (and sometimes 48 hours) for your latest push to git@git.bioconductor.org:packages/MBECS.git to reflect on this report. See Troubleshooting Build Report for more information. - Use the following Renviron settings to reproduce errors and warnings. - If 'R CMD check' started to fail recently on the Linux builder(s) over a missing dependency, add the missing dependency to 'Suggests:' in your DESCRIPTION file. See Renviron.bioc for more information. |
| Package: MBECS |
| Version: 1.12.0 |
| Command: E:\biocbuild\bbs-3.21-bioc\R\bin\R.exe CMD check --no-multiarch --install=check:MBECS.install-out.txt --library=E:\biocbuild\bbs-3.21-bioc\R\library --no-vignettes --timings MBECS_1.12.0.tar.gz |
| StartedAt: 2025-08-15 03:47:53 -0400 (Fri, 15 Aug 2025) |
| EndedAt: 2025-08-15 03:52:51 -0400 (Fri, 15 Aug 2025) |
| EllapsedTime: 298.2 seconds |
| RetCode: 0 |
| Status: OK |
| CheckDir: MBECS.Rcheck |
| Warnings: 0 |
##############################################################################
##############################################################################
###
### Running command:
###
### E:\biocbuild\bbs-3.21-bioc\R\bin\R.exe CMD check --no-multiarch --install=check:MBECS.install-out.txt --library=E:\biocbuild\bbs-3.21-bioc\R\library --no-vignettes --timings MBECS_1.12.0.tar.gz
###
##############################################################################
##############################################################################
* using log directory 'E:/biocbuild/bbs-3.21-bioc/meat/MBECS.Rcheck'
* using R version 4.5.1 (2025-06-13 ucrt)
* using platform: x86_64-w64-mingw32
* R was compiled by
gcc.exe (GCC) 14.2.0
GNU Fortran (GCC) 14.2.0
* running under: Windows Server 2022 x64 (build 20348)
* using session charset: UTF-8
* using option '--no-vignettes'
* checking for file 'MBECS/DESCRIPTION' ... OK
* this is package 'MBECS' version '1.12.0'
* package encoding: UTF-8
* checking package namespace information ... OK
* checking package dependencies ... OK
* checking if this is a source package ... OK
* checking if there is a namespace ... OK
* checking for hidden files and directories ... OK
* checking for portable file names ... OK
* checking whether package 'MBECS' can be installed ... OK
* checking installed package size ... OK
* checking package directory ... OK
* checking 'build' directory ... OK
* checking DESCRIPTION meta-information ... OK
* checking top-level files ... OK
* checking for left-over files ... OK
* checking index information ... OK
* checking package subdirectories ... OK
* checking code files for non-ASCII characters ... OK
* checking R files for syntax errors ... OK
* checking whether the package can be loaded ... OK
* checking whether the package can be loaded with stated dependencies ... OK
* checking whether the package can be unloaded cleanly ... OK
* checking whether the namespace can be loaded with stated dependencies ... OK
* checking whether the namespace can be unloaded cleanly ... OK
* checking dependencies in R code ... OK
* checking S3 generic/method consistency ... OK
* checking replacement functions ... OK
* checking foreign function calls ... OK
* checking R code for possible problems ... OK
* checking Rd files ... OK
* checking Rd metadata ... OK
* checking Rd cross-references ... NOTE
Found the following Rd file(s) with Rd \link{} targets missing package
anchors:
dummy.ps.Rd: phyloseq
Please provide package anchors for all Rd \link{} targets not in the
package itself and the base packages.
* checking for missing documentation entries ... OK
* checking for code/documentation mismatches ... OK
* checking Rd \usage sections ... OK
* checking Rd contents ... OK
* checking for unstated dependencies in examples ... OK
* checking contents of 'data' directory ... OK
* checking data for non-ASCII characters ... OK
* checking data for ASCII and uncompressed saves ... OK
* checking files in 'vignettes' ... OK
* checking examples ... OK
Examples with CPU (user + system) or elapsed time > 5s
user system elapsed
mbecVarianceStatsPlot 6.58 0.07 6.64
mbecModelVariance 6.50 0.08 6.58
mbecCorrection 6.06 0.23 6.30
* checking for unstated dependencies in 'tests' ... OK
* checking tests ...
Running 'testthat.R'
OK
* checking for unstated dependencies in vignettes ... OK
* checking package vignettes ... OK
* checking running R code from vignettes ... SKIPPED
* checking re-building of vignette outputs ... SKIPPED
* checking PDF version of manual ... OK
* DONE
Status: 1 NOTE
See
'E:/biocbuild/bbs-3.21-bioc/meat/MBECS.Rcheck/00check.log'
for details.
MBECS.Rcheck/00install.out
############################################################################## ############################################################################## ### ### Running command: ### ### E:\biocbuild\bbs-3.21-bioc\R\bin\R.exe CMD INSTALL MBECS ### ############################################################################## ############################################################################## * installing to library 'E:/biocbuild/bbs-3.21-bioc/R/library' * installing *source* package 'MBECS' ... ** this is package 'MBECS' version '1.12.0' ** using staged installation ** R ** data ** inst ** byte-compile and prepare package for lazy loading ** help *** installing help indices ** building package indices ** installing vignettes ** testing if installed package can be loaded from temporary location ** testing if installed package can be loaded from final location ** testing if installed package keeps a record of temporary installation path * DONE (MBECS)
MBECS.Rcheck/tests/testthat.Rout
R version 4.5.1 (2025-06-13 ucrt) -- "Great Square Root"
Copyright (C) 2025 The R Foundation for Statistical Computing
Platform: x86_64-w64-mingw32/x64
R is free software and comes with ABSOLUTELY NO WARRANTY.
You are welcome to redistribute it under certain conditions.
Type 'license()' or 'licence()' for distribution details.
R is a collaborative project with many contributors.
Type 'contributors()' for more information and
'citation()' on how to cite R or R packages in publications.
Type 'demo()' for some demos, 'help()' for on-line help, or
'help.start()' for an HTML browser interface to help.
Type 'q()' to quit R.
> library(testthat)
> library(MBECS)
>
> test_check("MBECS")
Set tss-transformed counts.
Found zeros, function will add a small pseudo-count
(1/#features) for log-ratio transformation.
Set tss-transformed counts.
Found zeros, function will add a small pseudo-count
(1/#features) for log-ratio transformation.
Set tss-transformed counts.
Found zeros, function will add a small pseudo-count
(1/#features) for log-ratio transformation.
Set tss-transformed counts.
Found zeros, function will add a small pseudo-count
(1/#features) for log-ratio transformation.
Set tss-transformed counts.
Found zeros, function will add a small pseudo-count
(1/#features) for log-ratio transformation.
No negative control features provided.
Using pseudo-negative controls.
Applying Remove Unwanted Variantion v3 (RUV-III).
No 'sID' column present, creating from rownames now.
No 'sID' column present, creating from rownames now.
Set tss-transformed counts.
No 'sID' column present, creating from rownames now.
Set tss-transformed counts.
Construct lm-formula from covariates.
Construct lm-formula from covariates.
There is a problem with the estimatibility of your model.
Check out covariate: 'sIDS40'
Found zeros, function will add a small pseudo-count
(1/#features) for log-ratio transformation.
Set tss-transformed counts.
Found zeros, function will add a small pseudo-count
(1/#features) for log-ratio transformation.
Set tss-transformed counts.
Found zeros, function will add a small pseudo-count
(1/#features) for log-ratio transformation.
Set tss-transformed counts.
Found zeros, function will add a small pseudo-count
(1/#features) for log-ratio transformation.
Calculating RLE for group: A
Calculating RLE for group: B
Fitting linear model to every feature and extract proportion of
variance explained by covariates.
Construct formula from covariates.
|
| | 0%
|
|==== | 5%
|
|======== | 10%
|
|============ | 15%
|
|================ | 20%
|
|==================== | 25%
|
|======================== | 30%
|
|============================ | 35%
|
|================================ | 40%
|
|==================================== | 45%
|
|======================================== | 50%
|
|============================================ | 55%
|
|================================================ | 60%
|
|==================================================== | 65%
|
|======================================================== | 70%
|
|============================================================ | 75%
|
|================================================================ | 80%
|
|==================================================================== | 85%
|
|======================================================================== | 90%
|
|============================================================================ | 95%
|
|================================================================================| 100%
Fitting linear-mixed model to every feature and extract proportion
of variance explained by covariates.
Construct formula from covariates.
|
| | 0%boundary (singular) fit: see help('isSingular')
|
|==== | 5%boundary (singular) fit: see help('isSingular')
|
|======== | 10%
|
|============ | 15%boundary (singular) fit: see help('isSingular')
|
|================ | 20%
|
|==================== | 25%
|
|======================== | 30%boundary (singular) fit: see help('isSingular')
|
|============================ | 35%
|
|================================ | 40%
|
|==================================== | 45%boundary (singular) fit: see help('isSingular')
|
|======================================== | 50%boundary (singular) fit: see help('isSingular')
|
|============================================ | 55%boundary (singular) fit: see help('isSingular')
|
|================================================ | 60%boundary (singular) fit: see help('isSingular')
|
|==================================================== | 65%boundary (singular) fit: see help('isSingular')
|
|======================================================== | 70%boundary (singular) fit: see help('isSingular')
|
|============================================================ | 75%boundary (singular) fit: see help('isSingular')
|
|================================================================ | 80%boundary (singular) fit: see help('isSingular')
|
|==================================================================== | 85%
|
|======================================================================== | 90%boundary (singular) fit: see help('isSingular')
|
|============================================================================ | 95%boundary (singular) fit: see help('isSingular')
|
|================================================================================| 100%
|
| | 0%
|
|======================================== | 50%
|
|================================================================================| 100%
boundary (singular) fit: see help('isSingular')
boundary (singular) fit: see help('isSingular')
boundary (singular) fit: see help('isSingular')
boundary (singular) fit: see help('isSingular')
boundary (singular) fit: see help('isSingular')
boundary (singular) fit: see help('isSingular')
[1] "batch"
[1] "group"
Set tss-transformed counts.
Found zeros, function will add a small pseudo-count
(1/#features) for log-ratio transformation.
Applying ComBat (sva) for batch-correction.
Found2batches
Adjusting for1covariate(s) or covariate level(s)
Standardizing Data across genes
Fitting L/S model and finding priors
Finding nonparametric adjustments
Adjusting the Data
[ FAIL 0 | WARN 101 | SKIP 0 | PASS 282 ]
[ FAIL 0 | WARN 101 | SKIP 0 | PASS 282 ]
>
> proc.time()
user system elapsed
76.78 2.31 81.26
MBECS.Rcheck/MBECS-Ex.timings
| name | user | system | elapsed | |
| MbecData | 0.16 | 0.02 | 0.17 | |
| colinScore | 0.41 | 0.06 | 0.47 | |
| dot-mbecGetData | 0.06 | 0.00 | 0.06 | |
| dot-mbecGetPhyloseq | 0.06 | 0.02 | 0.08 | |
| dot-mbecSetData | 0.05 | 0.01 | 0.06 | |
| dummy.list | 0.00 | 0.02 | 0.02 | |
| dummy.mbec | 0.03 | 0.00 | 0.03 | |
| dummy.ps | 0.02 | 0.00 | 0.01 | |
| mbecBox | 2.95 | 0.17 | 3.13 | |
| mbecBoxPlot | 2.17 | 0.02 | 2.18 | |
| mbecCorrection | 6.06 | 0.23 | 6.30 | |
| mbecDummy | 0.1 | 0.0 | 0.1 | |
| mbecGetData-MbecData-method | 0.01 | 0.02 | 0.03 | |
| mbecGetData | 0.03 | 0.01 | 0.04 | |
| mbecGetPhyloseq-MbecData-method | 0.03 | 0.02 | 0.05 | |
| mbecGetPhyloseq | 0.05 | 0.00 | 0.05 | |
| mbecHeat | 0.25 | 0.03 | 0.28 | |
| mbecHeatPlot | 0.19 | 0.03 | 0.22 | |
| mbecHelpFactor | 0.01 | 0.00 | 0.01 | |
| mbecLM | 0.86 | 0.05 | 0.91 | |
| mbecMixedVariance | 0.07 | 0.01 | 0.08 | |
| mbecModelVariance | 6.50 | 0.08 | 6.58 | |
| mbecMosaic | 1.01 | 0.02 | 1.03 | |
| mbecMosaicPlot | 0.97 | 0.03 | 1.00 | |
| mbecPCA-MbecData-method | 1.11 | 0.03 | 1.14 | |
| mbecPCA | 1.23 | 0.03 | 1.27 | |
| mbecPCAPlot | 1.13 | 0.08 | 1.20 | |
| mbecPVCAStatsPlot | 1.33 | 0.05 | 1.37 | |
| mbecProcessInput-MbecData-method | 0.01 | 0.02 | 0.03 | |
| mbecProcessInput-list-method | 0.03 | 0.00 | 0.03 | |
| mbecProcessInput-phyloseq-method | 0.02 | 0.01 | 0.04 | |
| mbecProcessInput | 0.02 | 0.03 | 0.04 | |
| mbecRDAStatsPlot | 0.06 | 0.03 | 0.10 | |
| mbecRLE | 0.30 | 0.00 | 0.29 | |
| mbecRLEPlot | 0.14 | 0.02 | 0.16 | |
| mbecReportPost | 3.56 | 0.05 | 3.61 | |
| mbecReportPrelim | 2.20 | 0.04 | 2.25 | |
| mbecRunCorrections | 3.27 | 0.03 | 3.30 | |
| mbecSCOEFStatsPlot | 0.04 | 0.04 | 0.07 | |
| mbecSetData-MbecData-method | 0.07 | 0.01 | 0.08 | |
| mbecSetData | 0.04 | 0.00 | 0.05 | |
| mbecTestModel | 0.03 | 0.02 | 0.05 | |
| mbecTransform | 0.21 | 0.01 | 0.21 | |
| mbecValidateModel | 0.04 | 0.02 | 0.07 | |
| mbecVarianceStats | 0.02 | 0.01 | 0.03 | |
| mbecVarianceStatsPlot | 6.58 | 0.07 | 6.64 | |
| percentileNorm | 2.14 | 0.01 | 2.16 | |
| poscore | 0 | 0 | 0 | |