| Back to Multiple platform build/check report for BioC 3.21: simplified long |
|
This page was generated on 2025-08-18 11:42 -0400 (Mon, 18 Aug 2025).
| Hostname | OS | Arch (*) | R version | Installed pkgs |
|---|---|---|---|---|
| nebbiolo1 | Linux (Ubuntu 24.04.3 LTS) | x86_64 | 4.5.1 (2025-06-13) -- "Great Square Root" | 4824 |
| palomino7 | Windows Server 2022 Datacenter | x64 | 4.5.1 (2025-06-13 ucrt) -- "Great Square Root" | 4566 |
| merida1 | macOS 12.7.5 Monterey | x86_64 | 4.5.1 RC (2025-06-05 r88288) -- "Great Square Root" | 4604 |
| kjohnson1 | macOS 13.6.6 Ventura | arm64 | 4.5.1 Patched (2025-06-14 r88325) -- "Great Square Root" | 4545 |
| kunpeng2 | Linux (openEuler 24.03 LTS) | aarch64 | R Under development (unstable) (2025-02-19 r87757) -- "Unsuffered Consequences" | 4579 |
| Click on any hostname to see more info about the system (e.g. compilers) (*) as reported by 'uname -p', except on Windows and Mac OS X | ||||
| Package 1152/2341 | Hostname | OS / Arch | INSTALL | BUILD | CHECK | BUILD BIN | ||||||||
| M3Drop 1.34.0 (landing page) Tallulah Andrews
| nebbiolo1 | Linux (Ubuntu 24.04.3 LTS) / x86_64 | OK | OK | OK | |||||||||
| palomino7 | Windows Server 2022 Datacenter / x64 | OK | OK | OK | OK | |||||||||
| merida1 | macOS 12.7.5 Monterey / x86_64 | OK | OK | OK | OK | |||||||||
| kjohnson1 | macOS 13.6.6 Ventura / arm64 | OK | OK | OK | OK | |||||||||
| kunpeng2 | Linux (openEuler 24.03 LTS) / aarch64 | OK | OK | OK | ||||||||||
|
To the developers/maintainers of the M3Drop package: - Allow up to 24 hours (and sometimes 48 hours) for your latest push to git@git.bioconductor.org:packages/M3Drop.git to reflect on this report. See Troubleshooting Build Report for more information. - Use the following Renviron settings to reproduce errors and warnings. - If 'R CMD check' started to fail recently on the Linux builder(s) over a missing dependency, add the missing dependency to 'Suggests:' in your DESCRIPTION file. See Renviron.bioc for more information. |
| Package: M3Drop |
| Version: 1.34.0 |
| Command: E:\biocbuild\bbs-3.21-bioc\R\bin\R.exe CMD check --no-multiarch --install=check:M3Drop.install-out.txt --library=E:\biocbuild\bbs-3.21-bioc\R\library --no-vignettes --timings M3Drop_1.34.0.tar.gz |
| StartedAt: 2025-08-15 03:40:26 -0400 (Fri, 15 Aug 2025) |
| EndedAt: 2025-08-15 03:47:40 -0400 (Fri, 15 Aug 2025) |
| EllapsedTime: 434.0 seconds |
| RetCode: 0 |
| Status: OK |
| CheckDir: M3Drop.Rcheck |
| Warnings: 0 |
##############################################################################
##############################################################################
###
### Running command:
###
### E:\biocbuild\bbs-3.21-bioc\R\bin\R.exe CMD check --no-multiarch --install=check:M3Drop.install-out.txt --library=E:\biocbuild\bbs-3.21-bioc\R\library --no-vignettes --timings M3Drop_1.34.0.tar.gz
###
##############################################################################
##############################################################################
* using log directory 'E:/biocbuild/bbs-3.21-bioc/meat/M3Drop.Rcheck'
* using R version 4.5.1 (2025-06-13 ucrt)
* using platform: x86_64-w64-mingw32
* R was compiled by
gcc.exe (GCC) 14.2.0
GNU Fortran (GCC) 14.2.0
* running under: Windows Server 2022 x64 (build 20348)
* using session charset: UTF-8
* using option '--no-vignettes'
* checking for file 'M3Drop/DESCRIPTION' ... OK
* this is package 'M3Drop' version '1.34.0'
* checking package namespace information ... OK
* checking package dependencies ... OK
* checking if this is a source package ... OK
* checking if there is a namespace ... OK
* checking for hidden files and directories ... OK
* checking for portable file names ... OK
* checking whether package 'M3Drop' can be installed ... OK
* checking installed package size ... OK
* checking package directory ... OK
* checking 'build' directory ... OK
* checking DESCRIPTION meta-information ... OK
* checking top-level files ... OK
* checking for left-over files ... OK
* checking index information ... OK
* checking package subdirectories ... OK
* checking code files for non-ASCII characters ... OK
* checking R files for syntax errors ... OK
* checking whether the package can be loaded ... OK
* checking whether the package can be loaded with stated dependencies ... OK
* checking whether the package can be unloaded cleanly ... OK
* checking whether the namespace can be loaded with stated dependencies ... OK
* checking whether the namespace can be unloaded cleanly ... OK
* checking dependencies in R code ... NOTE
Namespace in Imports field not imported from: 'scater'
All declared Imports should be used.
* checking S3 generic/method consistency ... OK
* checking replacement functions ... OK
* checking foreign function calls ... OK
* checking R code for possible problems ... NOTE
M3DropConvertData: no visible global function definition for 'assays'
NBumiConvertData: no visible global function definition for 'assays'
bg__filter_cells: no visible binding for global variable 'x'
bg__get_extreme_residuals: no visible binding for global variable 'x'
Undefined global functions or variables:
assays x
* checking Rd files ... NOTE
prepare_Rd: NBumi_FSOther.Rd:8-10: Dropping empty section \usage
prepare_Rd: NBumi_TradDE.Rd:7-8: Dropping empty section \usage
* checking Rd metadata ... OK
* checking Rd cross-references ... OK
* checking for missing documentation entries ... OK
* checking for code/documentation mismatches ... OK
* checking Rd \usage sections ... OK
* checking Rd contents ... OK
* checking for unstated dependencies in examples ... OK
* checking sizes of PDF files under 'inst/doc' ... OK
* checking files in 'vignettes' ... OK
* checking examples ... OK
Examples with CPU (user + system) or elapsed time > 5s
user system elapsed
NewSimulations 132.97 2.09 135.08
Imputation 77.83 0.43 78.28
M3D_getmarkers 44.72 1.19 45.91
M3D_ConverData 7.52 0.25 7.77
* checking for unstated dependencies in vignettes ... OK
* checking package vignettes ... OK
* checking running R code from vignettes ... SKIPPED
* checking re-building of vignette outputs ... SKIPPED
* checking PDF version of manual ... OK
* DONE
Status: 3 NOTEs
See
'E:/biocbuild/bbs-3.21-bioc/meat/M3Drop.Rcheck/00check.log'
for details.
M3Drop.Rcheck/00install.out
############################################################################## ############################################################################## ### ### Running command: ### ### E:\biocbuild\bbs-3.21-bioc\R\bin\R.exe CMD INSTALL M3Drop ### ############################################################################## ############################################################################## * installing to library 'E:/biocbuild/bbs-3.21-bioc/R/library' * installing *source* package 'M3Drop' ... ** this is package 'M3Drop' version '1.34.0' ** using staged installation ** R ** inst ** byte-compile and prepare package for lazy loading ** help *** installing help indices ** building package indices ** installing vignettes ** testing if installed package can be loaded from temporary location ** testing if installed package can be loaded from final location ** testing if installed package keeps a record of temporary installation path * DONE (M3Drop)
M3Drop.Rcheck/M3Drop-Ex.timings
| name | user | system | elapsed | |
| Brennecke_getVariableGenes | 3.85 | 0.15 | 4.12 | |
| Consensus_FS | 0.23 | 0.07 | 0.32 | |
| Fitting_Dropout_Models | 0 | 0 | 0 | |
| Imputation | 77.83 | 0.43 | 78.28 | |
| M3D_Clean_Data | 1.65 | 0.10 | 1.75 | |
| M3D_ConverData | 7.52 | 0.25 | 7.77 | |
| M3D_Differential_Expression | 2.37 | 0.09 | 2.47 | |
| M3D_Dropout_Models | 1.23 | 0.11 | 1.34 | |
| M3D_Expression_Heatmap | 0.61 | 0.02 | 0.62 | |
| M3D_Get_Extremes | 2.97 | 0.28 | 3.25 | |
| M3D_Get_Heatmap_Cell_Clusters | 0.50 | 0.01 | 0.52 | |
| M3D_Simulations | 0 | 0 | 0 | |
| M3D_Test_Shift | 0.77 | 0.06 | 0.83 | |
| M3D_ThreeSet_Venn | 0.35 | 0.00 | 0.35 | |
| M3D_TraditionalDE | 0 | 0 | 0 | |
| M3D_getmarkers | 44.72 | 1.19 | 45.91 | |
| M3D_horz_res | 0 | 0 | 0 | |
| NBumi_CheckFit | 2.39 | 0.22 | 2.61 | |
| NBumi_CoExpression | 1.62 | 0.15 | 1.78 | |
| NBumi_CompareModels | 2.65 | 0.24 | 2.87 | |
| NBumi_ConvertToInteger | 0 | 0 | 0 | |
| NBumi_ConvrtData | 0.31 | 0.06 | 0.37 | |
| NBumi_FSDrop | 2.00 | 0.16 | 2.16 | |
| NBumi_FSHighVar | 0.78 | 0.07 | 0.86 | |
| NBumi_FSOther | 0.02 | 0.00 | 0.01 | |
| NBumi_FitDisp | 0 | 0 | 0 | |
| NBumi_FitDispVsMean | 1.33 | 0.08 | 1.41 | |
| NBumi_FitModel | 0.87 | 0.13 | 1.00 | |
| NBumi_HVG | 0.93 | 0.17 | 1.09 | |
| NBumi_PearsonResiduals | 1.67 | 0.16 | 1.83 | |
| NBumi_TradDE | 0 | 0 | 0 | |
| NewSimulations | 132.97 | 2.09 | 135.08 | |
| Other_FS | 1.15 | 0.03 | 1.19 | |
| PoissonUMIFeatureSelectionDropouts | 0.63 | 0.14 | 0.76 | |
| bg__fit_gamma | 0 | 0 | 0 | |
| bg__get_stats | 0 | 0 | 0 | |
| bg__mean2disp | 0 | 0 | 0 | |
| bg__shift_size | 0 | 0 | 0 | |
| bg__var_vs_drop | 0 | 0 | 0 | |