Back to Multiple platform build/check report for BioC 3.22:   simplified   long
ABCDEFGHIJKL[M]NOPQRSTUVWXYZ

This page was generated on 2025-11-11 12:02 -0500 (Tue, 11 Nov 2025).

HostnameOSArch (*)R versionInstalled pkgs
nebbiolo2Linux (Ubuntu 24.04.3 LTS)x86_644.5.1 Patched (2025-08-23 r88802) -- "Great Square Root" 4902
kjohnson3macOS 13.7.7 Venturaarm644.5.1 Patched (2025-09-10 r88807) -- "Great Square Root" 4638
Click on any hostname to see more info about the system (e.g. compilers)      (*) as reported by 'uname -p', except on Windows and Mac OS X

Package 1167/2361HostnameOS / ArchINSTALLBUILDCHECKBUILD BIN
M3Drop 1.36.0  (landing page)
Tallulah Andrews
Snapshot Date: 2025-11-10 13:45 -0500 (Mon, 10 Nov 2025)
git_url: https://git.bioconductor.org/packages/M3Drop
git_branch: RELEASE_3_22
git_last_commit: 27208a6
git_last_commit_date: 2025-10-29 10:35:19 -0500 (Wed, 29 Oct 2025)
nebbiolo2Linux (Ubuntu 24.04.3 LTS) / x86_64  OK    OK    OK  UNNEEDED, same version is already published
kjohnson3macOS 13.7.7 Ventura / arm64  OK    OK    OK    OK  UNNEEDED, same version is already published


CHECK results for M3Drop on nebbiolo2

To the developers/maintainers of the M3Drop package:
- Allow up to 24 hours (and sometimes 48 hours) for your latest push to git@git.bioconductor.org:packages/M3Drop.git to reflect on this report. See Troubleshooting Build Report for more information.
- Use the following Renviron settings to reproduce errors and warnings.
- If 'R CMD check' started to fail recently on the Linux builder(s) over a missing dependency, add the missing dependency to 'Suggests:' in your DESCRIPTION file. See Renviron.bioc for more information.

raw results


Summary

Package: M3Drop
Version: 1.36.0
Command: /home/biocbuild/bbs-3.22-bioc/R/bin/R CMD check --install=check:M3Drop.install-out.txt --library=/home/biocbuild/bbs-3.22-bioc/R/site-library --timings M3Drop_1.36.0.tar.gz
StartedAt: 2025-11-11 01:11:35 -0500 (Tue, 11 Nov 2025)
EndedAt: 2025-11-11 01:18:34 -0500 (Tue, 11 Nov 2025)
EllapsedTime: 418.7 seconds
RetCode: 0
Status:   OK  
CheckDir: M3Drop.Rcheck
Warnings: 0

Command output

##############################################################################
##############################################################################
###
### Running command:
###
###   /home/biocbuild/bbs-3.22-bioc/R/bin/R CMD check --install=check:M3Drop.install-out.txt --library=/home/biocbuild/bbs-3.22-bioc/R/site-library --timings M3Drop_1.36.0.tar.gz
###
##############################################################################
##############################################################################


* using log directory ‘/home/biocbuild/bbs-3.22-bioc/meat/M3Drop.Rcheck’
* using R version 4.5.1 Patched (2025-08-23 r88802)
* using platform: x86_64-pc-linux-gnu
* R was compiled by
    gcc (Ubuntu 13.3.0-6ubuntu2~24.04) 13.3.0
    GNU Fortran (Ubuntu 13.3.0-6ubuntu2~24.04) 13.3.0
* running under: Ubuntu 24.04.3 LTS
* using session charset: UTF-8
* checking for file ‘M3Drop/DESCRIPTION’ ... OK
* this is package ‘M3Drop’ version ‘1.36.0’
* checking package namespace information ... OK
* checking package dependencies ... OK
* checking if this is a source package ... OK
* checking if there is a namespace ... OK
* checking for hidden files and directories ... OK
* checking for portable file names ... OK
* checking for sufficient/correct file permissions ... OK
* checking whether package ‘M3Drop’ can be installed ... OK
* checking installed package size ... OK
* checking package directory ... OK
* checking ‘build’ directory ... OK
* checking DESCRIPTION meta-information ... OK
* checking top-level files ... OK
* checking for left-over files ... OK
* checking index information ... OK
* checking package subdirectories ... OK
* checking code files for non-ASCII characters ... OK
* checking R files for syntax errors ... OK
* checking whether the package can be loaded ... OK
* checking whether the package can be loaded with stated dependencies ... OK
* checking whether the package can be unloaded cleanly ... OK
* checking whether the namespace can be loaded with stated dependencies ... OK
* checking whether the namespace can be unloaded cleanly ... OK
* checking loading without being on the library search path ... OK
* checking dependencies in R code ... NOTE
Namespace in Imports field not imported from: ‘scater’
  All declared Imports should be used.
* checking S3 generic/method consistency ... OK
* checking replacement functions ... OK
* checking foreign function calls ... OK
* checking R code for possible problems ... NOTE
M3DropConvertData: no visible global function definition for ‘assays’
NBumiConvertData: no visible global function definition for ‘assays’
bg__filter_cells: no visible binding for global variable ‘x’
bg__get_extreme_residuals: no visible binding for global variable ‘x’
Undefined global functions or variables:
  assays x
* checking Rd files ... NOTE
prepare_Rd: NBumi_FSOther.Rd:8-10: Dropping empty section \usage
prepare_Rd: NBumi_TradDE.Rd:7-8: Dropping empty section \usage
* checking Rd metadata ... OK
* checking Rd cross-references ... OK
* checking for missing documentation entries ... OK
* checking for code/documentation mismatches ... OK
* checking Rd \usage sections ... OK
* checking Rd contents ... OK
* checking for unstated dependencies in examples ... OK
* checking files in ‘vignettes’ ... OK
* checking examples ... OK
Examples with CPU (user + system) or elapsed time > 5s
                  user system elapsed
NewSimulations 103.214  1.341 104.560
Imputation      41.434  0.125  41.838
M3D_getmarkers  31.593  0.188  31.782
M3D_ConverData   5.394  0.186   5.579
* checking for unstated dependencies in vignettes ... OK
* checking package vignettes ... OK
* checking re-building of vignette outputs ... OK
* checking PDF version of manual ... OK
* DONE

Status: 3 NOTEs
See
  ‘/home/biocbuild/bbs-3.22-bioc/meat/M3Drop.Rcheck/00check.log’
for details.


Installation output

M3Drop.Rcheck/00install.out

##############################################################################
##############################################################################
###
### Running command:
###
###   /home/biocbuild/bbs-3.22-bioc/R/bin/R CMD INSTALL M3Drop
###
##############################################################################
##############################################################################


* installing to library ‘/home/biocbuild/bbs-3.22-bioc/R/site-library’
* installing *source* package ‘M3Drop’ ...
** this is package ‘M3Drop’ version ‘1.36.0’
** using staged installation
** R
** inst
** byte-compile and prepare package for lazy loading
** help
*** installing help indices
** building package indices
** installing vignettes
** testing if installed package can be loaded from temporary location
** testing if installed package can be loaded from final location
** testing if installed package keeps a record of temporary installation path
* DONE (M3Drop)

Tests output


Example timings

M3Drop.Rcheck/M3Drop-Ex.timings

nameusersystemelapsed
Brennecke_getVariableGenes3.4070.1493.562
Consensus_FS0.6020.0050.607
Fitting_Dropout_Models000
Imputation41.434 0.12541.838
M3D_Clean_Data1.2990.1051.404
M3D_ConverData5.3940.1865.579
M3D_Differential_Expression1.4130.0601.474
M3D_Dropout_Models1.6210.0661.687
M3D_Expression_Heatmap0.4700.0030.473
M3D_Get_Extremes2.2530.0912.345
M3D_Get_Heatmap_Cell_Clusters0.4230.0040.427
M3D_Simulations000
M3D_Test_Shift0.5640.0140.579
M3D_ThreeSet_Venn0.3200.0020.322
M3D_TraditionalDE0.0070.0010.008
M3D_getmarkers31.593 0.18831.782
M3D_horz_res0.0000.0000.001
NBumi_CheckFit1.8880.1422.030
NBumi_CoExpression0.6230.0240.648
NBumi_CompareModels2.6350.0172.651
NBumi_ConvertToInteger000
NBumi_ConvrtData0.2100.0030.212
NBumi_FSDrop0.8120.0350.847
NBumi_FSHighVar1.3220.0041.327
NBumi_FSOther0.0080.0010.008
NBumi_FitDisp000
NBumi_FitDispVsMean0.4660.0000.466
NBumi_FitModel0.6150.0260.641
NBumi_HVG0.7480.0000.749
NBumi_PearsonResiduals1.2530.0111.264
NBumi_TradDE000
NewSimulations103.214 1.341104.560
Other_FS1.6690.1221.792
PoissonUMIFeatureSelectionDropouts0.5760.0540.629
bg__fit_gamma000
bg__get_stats000
bg__mean2disp0.0010.0000.000
bg__shift_size000
bg__var_vs_drop000