| Back to Multiple platform build/check report for BioC 3.22: simplified long |
|
This page was generated on 2025-11-04 12:04 -0500 (Tue, 04 Nov 2025).
| Hostname | OS | Arch (*) | R version | Installed pkgs |
|---|---|---|---|---|
| nebbiolo2 | Linux (Ubuntu 24.04.3 LTS) | x86_64 | 4.5.1 Patched (2025-08-23 r88802) -- "Great Square Root" | 4902 |
| lconway | macOS 12.7.6 Monterey | x86_64 | 4.5.1 Patched (2025-09-10 r88807) -- "Great Square Root" | 4692 |
| kjohnson3 | macOS 13.7.7 Ventura | arm64 | 4.5.1 Patched (2025-09-10 r88807) -- "Great Square Root" | 4638 |
| Click on any hostname to see more info about the system (e.g. compilers) (*) as reported by 'uname -p', except on Windows and Mac OS X | ||||
| Package 1167/2361 | Hostname | OS / Arch | INSTALL | BUILD | CHECK | BUILD BIN | ||||||||
| M3Drop 1.36.0 (landing page) Tallulah Andrews
| nebbiolo2 | Linux (Ubuntu 24.04.3 LTS) / x86_64 | OK | OK | OK | |||||||||
| lconway | macOS 12.7.6 Monterey / x86_64 | OK | OK | OK | OK | |||||||||
| kjohnson3 | macOS 13.7.7 Ventura / arm64 | OK | OK | OK | OK | |||||||||
|
To the developers/maintainers of the M3Drop package: - Allow up to 24 hours (and sometimes 48 hours) for your latest push to git@git.bioconductor.org:packages/M3Drop.git to reflect on this report. See Troubleshooting Build Report for more information. - Use the following Renviron settings to reproduce errors and warnings. - If 'R CMD check' started to fail recently on the Linux builder(s) over a missing dependency, add the missing dependency to 'Suggests:' in your DESCRIPTION file. See Renviron.bioc for more information. |
| Package: M3Drop |
| Version: 1.36.0 |
| Command: /Library/Frameworks/R.framework/Resources/bin/R CMD check --install=check:M3Drop.install-out.txt --library=/Library/Frameworks/R.framework/Resources/library --no-vignettes --timings M3Drop_1.36.0.tar.gz |
| StartedAt: 2025-11-03 22:12:04 -0500 (Mon, 03 Nov 2025) |
| EndedAt: 2025-11-03 22:17:56 -0500 (Mon, 03 Nov 2025) |
| EllapsedTime: 352.4 seconds |
| RetCode: 0 |
| Status: OK |
| CheckDir: M3Drop.Rcheck |
| Warnings: 0 |
##############################################################################
##############################################################################
###
### Running command:
###
### /Library/Frameworks/R.framework/Resources/bin/R CMD check --install=check:M3Drop.install-out.txt --library=/Library/Frameworks/R.framework/Resources/library --no-vignettes --timings M3Drop_1.36.0.tar.gz
###
##############################################################################
##############################################################################
* using log directory ‘/Users/biocbuild/bbs-3.22-bioc/meat/M3Drop.Rcheck’
* using R version 4.5.1 Patched (2025-09-10 r88807)
* using platform: x86_64-apple-darwin20
* R was compiled by
Apple clang version 14.0.0 (clang-1400.0.29.202)
GNU Fortran (GCC) 14.2.0
* running under: macOS Monterey 12.7.6
* using session charset: UTF-8
* using option ‘--no-vignettes’
* checking for file ‘M3Drop/DESCRIPTION’ ... OK
* this is package ‘M3Drop’ version ‘1.36.0’
* checking package namespace information ... OK
* checking package dependencies ... OK
* checking if this is a source package ... OK
* checking if there is a namespace ... OK
* checking for hidden files and directories ... OK
* checking for portable file names ... OK
* checking for sufficient/correct file permissions ... OK
* checking whether package ‘M3Drop’ can be installed ... OK
* checking installed package size ... OK
* checking package directory ... OK
* checking ‘build’ directory ... OK
* checking DESCRIPTION meta-information ... OK
* checking top-level files ... OK
* checking for left-over files ... OK
* checking index information ... OK
* checking package subdirectories ... OK
* checking code files for non-ASCII characters ... OK
* checking R files for syntax errors ... OK
* checking whether the package can be loaded ... OK
* checking whether the package can be loaded with stated dependencies ... OK
* checking whether the package can be unloaded cleanly ... OK
* checking whether the namespace can be loaded with stated dependencies ... OK
* checking whether the namespace can be unloaded cleanly ... OK
* checking dependencies in R code ... NOTE
Namespace in Imports field not imported from: ‘scater’
All declared Imports should be used.
* checking S3 generic/method consistency ... OK
* checking replacement functions ... OK
* checking foreign function calls ... OK
* checking R code for possible problems ... NOTE
M3DropConvertData: no visible global function definition for ‘assays’
NBumiConvertData: no visible global function definition for ‘assays’
bg__filter_cells: no visible binding for global variable ‘x’
bg__get_extreme_residuals: no visible binding for global variable ‘x’
Undefined global functions or variables:
assays x
* checking Rd files ... NOTE
prepare_Rd: NBumi_FSOther.Rd:8-10: Dropping empty section \usage
prepare_Rd: NBumi_TradDE.Rd:7-8: Dropping empty section \usage
* checking Rd metadata ... OK
* checking Rd cross-references ... OK
* checking for missing documentation entries ... OK
* checking for code/documentation mismatches ... OK
* checking Rd \usage sections ... OK
* checking Rd contents ... OK
* checking for unstated dependencies in examples ... OK
* checking sizes of PDF files under ‘inst/doc’ ... OK
* checking files in ‘vignettes’ ... OK
* checking examples ... OK
Examples with CPU (user + system) or elapsed time > 5s
user system elapsed
NewSimulations 112.875 1.480 115.091
Imputation 41.085 0.242 41.576
M3D_getmarkers 36.807 0.590 37.688
M3D_ConverData 5.794 0.251 6.078
* checking for unstated dependencies in vignettes ... OK
* checking package vignettes ... OK
* checking running R code from vignettes ... SKIPPED
* checking re-building of vignette outputs ... SKIPPED
* checking PDF version of manual ... OK
* DONE
Status: 3 NOTEs
See
‘/Users/biocbuild/bbs-3.22-bioc/meat/M3Drop.Rcheck/00check.log’
for details.
M3Drop.Rcheck/00install.out
############################################################################## ############################################################################## ### ### Running command: ### ### /Library/Frameworks/R.framework/Resources/bin/R CMD INSTALL M3Drop ### ############################################################################## ############################################################################## * installing to library ‘/Library/Frameworks/R.framework/Versions/4.5-x86_64/Resources/library’ * installing *source* package ‘M3Drop’ ... ** this is package ‘M3Drop’ version ‘1.36.0’ ** using staged installation ** R ** inst ** byte-compile and prepare package for lazy loading ** help *** installing help indices ** building package indices ** installing vignettes ** testing if installed package can be loaded from temporary location ** testing if installed package can be loaded from final location ** testing if installed package keeps a record of temporary installation path * DONE (M3Drop)
M3Drop.Rcheck/M3Drop-Ex.timings
| name | user | system | elapsed | |
| Brennecke_getVariableGenes | 3.142 | 0.178 | 3.345 | |
| Consensus_FS | 0.325 | 0.018 | 0.347 | |
| Fitting_Dropout_Models | 0.000 | 0.000 | 0.001 | |
| Imputation | 41.085 | 0.242 | 41.576 | |
| M3D_Clean_Data | 2.084 | 0.113 | 2.209 | |
| M3D_ConverData | 5.794 | 0.251 | 6.078 | |
| M3D_Differential_Expression | 2.056 | 0.073 | 2.142 | |
| M3D_Dropout_Models | 0.942 | 0.074 | 1.023 | |
| M3D_Expression_Heatmap | 0.582 | 0.027 | 0.616 | |
| M3D_Get_Extremes | 2.164 | 0.125 | 2.308 | |
| M3D_Get_Heatmap_Cell_Clusters | 0.486 | 0.011 | 0.499 | |
| M3D_Simulations | 0.000 | 0.001 | 0.001 | |
| M3D_Test_Shift | 0.516 | 0.054 | 0.574 | |
| M3D_ThreeSet_Venn | 0.357 | 0.010 | 0.370 | |
| M3D_TraditionalDE | 0.014 | 0.001 | 0.015 | |
| M3D_getmarkers | 36.807 | 0.590 | 37.688 | |
| M3D_horz_res | 0 | 0 | 0 | |
| NBumi_CheckFit | 2.163 | 0.159 | 2.372 | |
| NBumi_CoExpression | 0.819 | 0.037 | 0.861 | |
| NBumi_CompareModels | 2.735 | 0.172 | 2.970 | |
| NBumi_ConvertToInteger | 0.001 | 0.000 | 0.000 | |
| NBumi_ConvrtData | 0.352 | 0.020 | 0.386 | |
| NBumi_FSDrop | 0.989 | 0.040 | 1.044 | |
| NBumi_FSHighVar | 0.753 | 0.040 | 0.799 | |
| NBumi_FSOther | 0.015 | 0.001 | 0.016 | |
| NBumi_FitDisp | 0.000 | 0.000 | 0.001 | |
| NBumi_FitDispVsMean | 1.175 | 0.035 | 1.220 | |
| NBumi_FitModel | 0.720 | 0.054 | 0.781 | |
| NBumi_HVG | 0.832 | 0.063 | 0.903 | |
| NBumi_PearsonResiduals | 0.870 | 0.068 | 0.952 | |
| NBumi_TradDE | 0.000 | 0.000 | 0.001 | |
| NewSimulations | 112.875 | 1.480 | 115.091 | |
| Other_FS | 1.207 | 0.025 | 1.241 | |
| PoissonUMIFeatureSelectionDropouts | 0.705 | 0.050 | 0.760 | |
| bg__fit_gamma | 0 | 0 | 0 | |
| bg__get_stats | 0 | 0 | 0 | |
| bg__mean2disp | 0 | 0 | 0 | |
| bg__shift_size | 0.000 | 0.000 | 0.001 | |
| bg__var_vs_drop | 0 | 0 | 0 | |