| Back to Multiple platform build/check report for BioC 3.22: simplified long |
|
This page was generated on 2025-11-12 11:58 -0500 (Wed, 12 Nov 2025).
| Hostname | OS | Arch (*) | R version | Installed pkgs |
|---|---|---|---|---|
| nebbiolo2 | Linux (Ubuntu 24.04.3 LTS) | x86_64 | 4.5.1 Patched (2025-08-23 r88802) -- "Great Square Root" | 4902 |
| taishan | Linux (openEuler 24.03 LTS) | aarch64 | 4.5.0 (2025-04-11) -- "How About a Twenty-Six" | 4668 |
| Click on any hostname to see more info about the system (e.g. compilers) (*) as reported by 'uname -p', except on Windows and Mac OS X | ||||
| Package 1165/2361 | Hostname | OS / Arch | INSTALL | BUILD | CHECK | BUILD BIN | ||||||||
| LymphoSeq 1.38.0 (landing page) David Coffey
| nebbiolo2 | Linux (Ubuntu 24.04.3 LTS) / x86_64 | OK | OK | OK | |||||||||
| taishan | Linux (openEuler 24.03 LTS) / aarch64 | OK | OK | OK | ||||||||||
|
To the developers/maintainers of the LymphoSeq package: - Allow up to 24 hours (and sometimes 48 hours) for your latest push to git@git.bioconductor.org:packages/LymphoSeq.git to reflect on this report. See Troubleshooting Build Report for more information. - Use the following Renviron settings to reproduce errors and warnings. - If 'R CMD check' started to fail recently on the Linux builder(s) over a missing dependency, add the missing dependency to 'Suggests:' in your DESCRIPTION file. See Renviron.bioc for more information. - See Martin Grigorov's blog post for how to debug Linux ARM64 related issues on a x86_64 host. |
| Package: LymphoSeq |
| Version: 1.38.0 |
| Command: /home/biocbuild/R/R/bin/R CMD check --install=check:LymphoSeq.install-out.txt --library=/home/biocbuild/R/R/site-library --no-vignettes --timings LymphoSeq_1.38.0.tar.gz |
| StartedAt: 2025-11-11 11:16:03 -0000 (Tue, 11 Nov 2025) |
| EndedAt: 2025-11-11 11:20:15 -0000 (Tue, 11 Nov 2025) |
| EllapsedTime: 251.4 seconds |
| RetCode: 0 |
| Status: OK |
| CheckDir: LymphoSeq.Rcheck |
| Warnings: 0 |
##############################################################################
##############################################################################
###
### Running command:
###
### /home/biocbuild/R/R/bin/R CMD check --install=check:LymphoSeq.install-out.txt --library=/home/biocbuild/R/R/site-library --no-vignettes --timings LymphoSeq_1.38.0.tar.gz
###
##############################################################################
##############################################################################
* using log directory ‘/home/biocbuild/bbs-3.22-bioc/meat/LymphoSeq.Rcheck’
* using R version 4.5.0 (2025-04-11)
* using platform: aarch64-unknown-linux-gnu
* R was compiled by
aarch64-unknown-linux-gnu-gcc (GCC) 14.2.0
GNU Fortran (GCC) 14.2.0
* running under: openEuler 24.03 (LTS)
* using session charset: UTF-8
* using option ‘--no-vignettes’
* checking for file ‘LymphoSeq/DESCRIPTION’ ... OK
* this is package ‘LymphoSeq’ version ‘1.38.0’
* checking package namespace information ... OK
* checking package dependencies ... OK
* checking if this is a source package ... OK
* checking if there is a namespace ... OK
* checking for hidden files and directories ... OK
* checking for portable file names ... OK
* checking for sufficient/correct file permissions ... OK
* checking whether package ‘LymphoSeq’ can be installed ... OK
* checking installed package size ... INFO
installed size is 5.7Mb
sub-directories of 1Mb or more:
extdata 5.5Mb
* checking package directory ... OK
* checking ‘build’ directory ... OK
* checking DESCRIPTION meta-information ... OK
* checking top-level files ... OK
* checking for left-over files ... OK
* checking index information ... OK
* checking package subdirectories ... OK
* checking code files for non-ASCII characters ... OK
* checking R files for syntax errors ... OK
* checking whether the package can be loaded ... OK
* checking whether the package can be loaded with stated dependencies ... OK
* checking whether the package can be unloaded cleanly ... OK
* checking whether the namespace can be loaded with stated dependencies ... OK
* checking whether the namespace can be unloaded cleanly ... OK
* checking loading without being on the library search path ... OK
* checking dependencies in R code ... OK
* checking S3 generic/method consistency ... OK
* checking replacement functions ... OK
* checking foreign function calls ... OK
* checking R code for possible problems ... OK
* checking Rd files ... OK
* checking Rd metadata ... OK
* checking Rd cross-references ... OK
* checking for missing documentation entries ... OK
* checking for code/documentation mismatches ... OK
* checking Rd \usage sections ... OK
* checking Rd contents ... OK
* checking for unstated dependencies in examples ... OK
* checking files in ‘vignettes’ ... OK
* checking examples ... OK
Examples with CPU (user + system) or elapsed time > 5s
user system elapsed
cloneTrack 32.090 1.446 33.710
productiveSeq 24.497 0.315 24.857
phyloTree 6.834 0.092 6.943
* checking for unstated dependencies in vignettes ... OK
* checking package vignettes ... OK
* checking running R code from vignettes ... SKIPPED
* checking re-building of vignette outputs ... SKIPPED
* checking PDF version of manual ... OK
* DONE
Status: OK
LymphoSeq.Rcheck/00install.out
############################################################################## ############################################################################## ### ### Running command: ### ### /home/biocbuild/R/R/bin/R CMD INSTALL LymphoSeq ### ############################################################################## ############################################################################## * installing to library ‘/home/biocbuild/R/R-4.5.0/site-library’ * installing *source* package ‘LymphoSeq’ ... ** this is package ‘LymphoSeq’ version ‘1.38.0’ ** using staged installation ** R ** inst ** byte-compile and prepare package for lazy loading ** help *** installing help indices ** building package indices ** installing vignettes ** testing if installed package can be loaded from temporary location ** testing if installed package can be loaded from final location ** testing if installed package keeps a record of temporary installation path * DONE (LymphoSeq)
LymphoSeq.Rcheck/LymphoSeq-Ex.timings
| name | user | system | elapsed | |
| alignSeq | 0.849 | 0.091 | 0.986 | |
| bhattacharyyaCoefficient | 0.313 | 0.028 | 0.383 | |
| bhattacharyyaMatrix | 0.570 | 0.080 | 0.652 | |
| chordDiagramVDJ | 1.161 | 0.144 | 1.308 | |
| clonalRelatedness | 1.254 | 0.010 | 0.671 | |
| clonality | 0.058 | 0.013 | 0.071 | |
| cloneTrack | 32.090 | 1.446 | 33.710 | |
| commonSeqs | 0.176 | 0.016 | 0.192 | |
| commonSeqsBar | 1.430 | 0.192 | 1.624 | |
| commonSeqsPlot | 2.659 | 0.132 | 2.795 | |
| commonSeqsVenn | 0.864 | 0.011 | 0.878 | |
| differentialAbundance | 2.786 | 0.056 | 2.847 | |
| exportFasta | 0.229 | 0.032 | 0.261 | |
| geneFreq | 3.456 | 0.092 | 3.555 | |
| lorenzCurve | 1.777 | 0.012 | 1.793 | |
| mergeFiles | 0.089 | 0.000 | 0.089 | |
| pairwisePlot | 1.490 | 0.004 | 1.499 | |
| phyloTree | 6.834 | 0.092 | 6.943 | |
| productive | 0.064 | 0.000 | 0.065 | |
| productiveSeq | 24.497 | 0.315 | 24.857 | |
| readImmunoSeq | 0.036 | 0.020 | 0.056 | |
| removeSeq | 0.064 | 0.008 | 0.072 | |
| searchPublished | 0.191 | 0.012 | 0.204 | |
| searchSeq | 0.439 | 0.008 | 0.448 | |
| seqMatrix | 4.362 | 0.171 | 4.543 | |
| similarityMatrix | 0.188 | 0.004 | 0.192 | |
| similarityScore | 0.173 | 0.000 | 0.173 | |
| topFreq | 1.541 | 0.040 | 1.584 | |
| topSeqs | 0.170 | 0.008 | 0.178 | |
| topSeqsPlot | 0.856 | 0.004 | 0.862 | |
| uniqueSeqs | 0.211 | 0.004 | 0.215 | |