| Back to Build/check report for BioC 3.22: simplified long |
|
This page was generated on 2025-11-13 11:55 -0500 (Thu, 13 Nov 2025).
| Hostname | OS | Arch (*) | R version | Installed pkgs |
|---|---|---|---|---|
| taishan | Linux (openEuler 24.03 LTS) | aarch64 | 4.5.0 (2025-04-11) -- "How About a Twenty-Six" | 4668 |
| Click on any hostname to see more info about the system (e.g. compilers) (*) as reported by 'uname -p', except on Windows and Mac OS X | ||||
| Package 1158/2361 | Hostname | OS / Arch | INSTALL | BUILD | CHECK | BUILD BIN | ||||||||
| LPE 1.84.0 (landing page) Nitin Jain
| taishan | Linux (openEuler 24.03 LTS) / aarch64 | OK | OK | OK | |||||||||
|
To the developers/maintainers of the LPE package: - Allow up to 24 hours (and sometimes 48 hours) for your latest push to git@git.bioconductor.org:packages/LPE.git to reflect on this report. See Troubleshooting Build Report for more information. - Use the following Renviron settings to reproduce errors and warnings. - If 'R CMD check' started to fail recently on the Linux builder(s) over a missing dependency, add the missing dependency to 'Suggests:' in your DESCRIPTION file. See Renviron.bioc for more information. - See Martin Grigorov's blog post for how to debug Linux ARM64 related issues on a x86_64 host. |
| Package: LPE |
| Version: 1.84.0 |
| Command: /home/biocbuild/R/R/bin/R CMD check --install=check:LPE.install-out.txt --library=/home/biocbuild/R/R/site-library --no-vignettes --timings LPE_1.84.0.tar.gz |
| StartedAt: 2025-11-11 11:15:02 -0000 (Tue, 11 Nov 2025) |
| EndedAt: 2025-11-11 11:15:25 -0000 (Tue, 11 Nov 2025) |
| EllapsedTime: 23.0 seconds |
| RetCode: 0 |
| Status: OK |
| CheckDir: LPE.Rcheck |
| Warnings: 0 |
##############################################################################
##############################################################################
###
### Running command:
###
### /home/biocbuild/R/R/bin/R CMD check --install=check:LPE.install-out.txt --library=/home/biocbuild/R/R/site-library --no-vignettes --timings LPE_1.84.0.tar.gz
###
##############################################################################
##############################################################################
* using log directory ‘/home/biocbuild/bbs-3.22-bioc/meat/LPE.Rcheck’
* using R version 4.5.0 (2025-04-11)
* using platform: aarch64-unknown-linux-gnu
* R was compiled by
aarch64-unknown-linux-gnu-gcc (GCC) 14.2.0
GNU Fortran (GCC) 14.2.0
* running under: openEuler 24.03 (LTS)
* using session charset: UTF-8
* using option ‘--no-vignettes’
* checking for file ‘LPE/DESCRIPTION’ ... OK
* this is package ‘LPE’ version ‘1.84.0’
* checking package namespace information ... OK
* checking package dependencies ... OK
* checking if this is a source package ... OK
* checking if there is a namespace ... OK
* checking for hidden files and directories ... OK
* checking for portable file names ... OK
* checking for sufficient/correct file permissions ... OK
* checking whether package ‘LPE’ can be installed ... OK
* checking installed package size ... OK
* checking package directory ... OK
* checking ‘build’ directory ... OK
* checking DESCRIPTION meta-information ... OK
* checking top-level files ... OK
* checking for left-over files ... OK
* checking index information ... OK
* checking package subdirectories ... NOTE
Problems with news in ‘NEWS’:
Cannot process chunk/lines:
Updated the file am.trans.R for faster computations.
* checking code files for non-ASCII characters ... OK
* checking R files for syntax errors ... OK
* checking whether the package can be loaded ... OK
* checking whether the package can be loaded with stated dependencies ... OK
* checking whether the package can be unloaded cleanly ... OK
* checking whether the namespace can be loaded with stated dependencies ... OK
* checking whether the namespace can be unloaded cleanly ... OK
* checking loading without being on the library search path ... OK
* checking dependencies in R code ... OK
* checking S3 generic/method consistency ... OK
* checking replacement functions ... OK
* checking foreign function calls ... OK
* checking R code for possible problems ... OK
* checking Rd files ... OK
* checking Rd metadata ... OK
* checking Rd cross-references ... OK
* checking for missing documentation entries ... OK
* checking for code/documentation mismatches ... OK
* checking Rd \usage sections ... OK
* checking Rd contents ... OK
* checking for unstated dependencies in examples ... OK
* checking contents of ‘data’ directory ... OK
* checking data for non-ASCII characters ... OK
* checking data for ASCII and uncompressed saves ... OK
* checking files in ‘vignettes’ ... OK
* checking examples ... OK
* checking for unstated dependencies in vignettes ... OK
* checking package vignettes ... OK
* checking running R code from vignettes ... SKIPPED
* checking re-building of vignette outputs ... SKIPPED
* checking PDF version of manual ... OK
* DONE
Status: 1 NOTE
See
‘/home/biocbuild/bbs-3.22-bioc/meat/LPE.Rcheck/00check.log’
for details.
LPE.Rcheck/00install.out
############################################################################## ############################################################################## ### ### Running command: ### ### /home/biocbuild/R/R/bin/R CMD INSTALL LPE ### ############################################################################## ############################################################################## * installing to library ‘/home/biocbuild/R/R-4.5.0/site-library’ * installing *source* package ‘LPE’ ... ** this is package ‘LPE’ version ‘1.84.0’ ** using staged installation ** R ** data ** byte-compile and prepare package for lazy loading ** help *** installing help indices ** building package indices ** installing vignettes ** testing if installed package can be loaded from temporary location ** testing if installed package can be loaded from final location ** testing if installed package keeps a record of temporary installation path * DONE (LPE)
LPE.Rcheck/LPE-Ex.timings
| name | user | system | elapsed | |
| am.trans | 0.000 | 0.001 | 0.001 | |
| baseOlig.error | 0.280 | 0.015 | 0.297 | |
| baseOlig.error.step1 | 0.139 | 0.004 | 0.143 | |
| baseOlig.error.step2 | 0.231 | 0.003 | 0.235 | |
| fdr.adjust | 1.459 | 0.044 | 1.508 | |
| fixbounds.predict.smooth.spline | 0.301 | 0.000 | 0.302 | |
| iqr | 0.001 | 0.000 | 0.000 | |
| lowess.normalize | 0.035 | 0.004 | 0.039 | |
| lpe | 0.539 | 0.004 | 0.545 | |
| mt.rawp2adjp | 0.452 | 0.007 | 0.461 | |
| n.genes.adaptive.int | 0.156 | 0.000 | 0.156 | |
| permute | 0.001 | 0.000 | 0.000 | |
| preprocess | 0.090 | 0.004 | 0.094 | |
| quan.norm | 0.000 | 0.000 | 0.001 | |
| quartile.normalize | 0.031 | 0.004 | 0.035 | |
| resamp.adj | 1.912 | 0.020 | 1.938 | |