Back to Multiple platform build/check report for BioC 3.22:   simplified   long
ABCDEFGH[I]JKLMNOPQRSTUVWXYZ

This page was generated on 2025-11-12 11:58 -0500 (Wed, 12 Nov 2025).

HostnameOSArch (*)R versionInstalled pkgs
nebbiolo2Linux (Ubuntu 24.04.3 LTS)x86_644.5.1 Patched (2025-08-23 r88802) -- "Great Square Root" 4902
taishanLinux (openEuler 24.03 LTS)aarch644.5.0 (2025-04-11) -- "How About a Twenty-Six" 4668
Click on any hostname to see more info about the system (e.g. compilers)      (*) as reported by 'uname -p', except on Windows and Mac OS X

Package 1081/2361HostnameOS / ArchINSTALLBUILDCHECKBUILD BIN
ISAnalytics 1.20.0  (landing page)
Francesco Gazzo
Snapshot Date: 2025-11-11 13:45 -0500 (Tue, 11 Nov 2025)
git_url: https://git.bioconductor.org/packages/ISAnalytics
git_branch: RELEASE_3_22
git_last_commit: 72d44b9
git_last_commit_date: 2025-10-29 11:01:52 -0500 (Wed, 29 Oct 2025)
nebbiolo2Linux (Ubuntu 24.04.3 LTS) / x86_64  OK    OK    OK  UNNEEDED, same version is already published
taishanLinux (openEuler 24.03 LTS) / aarch64  OK    OK    OK  


CHECK results for ISAnalytics on taishan

To the developers/maintainers of the ISAnalytics package:
- Allow up to 24 hours (and sometimes 48 hours) for your latest push to git@git.bioconductor.org:packages/ISAnalytics.git to reflect on this report. See Troubleshooting Build Report for more information.
- Use the following Renviron settings to reproduce errors and warnings.
- If 'R CMD check' started to fail recently on the Linux builder(s) over a missing dependency, add the missing dependency to 'Suggests:' in your DESCRIPTION file. See Renviron.bioc for more information.
- See Martin Grigorov's blog post for how to debug Linux ARM64 related issues on a x86_64 host.

raw results


Summary

Package: ISAnalytics
Version: 1.20.0
Command: /home/biocbuild/R/R/bin/R CMD check --install=check:ISAnalytics.install-out.txt --library=/home/biocbuild/R/R/site-library --no-vignettes --timings ISAnalytics_1.20.0.tar.gz
StartedAt: 2025-11-11 10:57:16 -0000 (Tue, 11 Nov 2025)
EndedAt: 2025-11-11 11:08:36 -0000 (Tue, 11 Nov 2025)
EllapsedTime: 680.8 seconds
RetCode: 0
Status:   OK  
CheckDir: ISAnalytics.Rcheck
Warnings: 0

Command output

##############################################################################
##############################################################################
###
### Running command:
###
###   /home/biocbuild/R/R/bin/R CMD check --install=check:ISAnalytics.install-out.txt --library=/home/biocbuild/R/R/site-library --no-vignettes --timings ISAnalytics_1.20.0.tar.gz
###
##############################################################################
##############################################################################


* using log directory ‘/home/biocbuild/bbs-3.22-bioc/meat/ISAnalytics.Rcheck’
* using R version 4.5.0 (2025-04-11)
* using platform: aarch64-unknown-linux-gnu
* R was compiled by
    aarch64-unknown-linux-gnu-gcc (GCC) 14.2.0
    GNU Fortran (GCC) 14.2.0
* running under: openEuler 24.03 (LTS)
* using session charset: UTF-8
* using option ‘--no-vignettes’
* checking for file ‘ISAnalytics/DESCRIPTION’ ... OK
* this is package ‘ISAnalytics’ version ‘1.20.0’
* package encoding: UTF-8
* checking package namespace information ... OK
* checking package dependencies ... INFO
Imports includes 22 non-default packages.
Importing from so many packages makes the package vulnerable to any of
them becoming unavailable.  Move as many as possible to Suggests and
use conditionally.
* checking if this is a source package ... OK
* checking if there is a namespace ... OK
* checking for hidden files and directories ... OK
* checking for portable file names ... OK
* checking for sufficient/correct file permissions ... OK
* checking whether package ‘ISAnalytics’ can be installed ... OK
* checking installed package size ... INFO
  installed size is  8.3Mb
  sub-directories of 1Mb or more:
    data   5.8Mb
* checking package directory ... OK
* checking ‘build’ directory ... OK
* checking DESCRIPTION meta-information ... OK
* checking top-level files ... OK
* checking for left-over files ... OK
* checking index information ... OK
* checking package subdirectories ... OK
* checking code files for non-ASCII characters ... OK
* checking R files for syntax errors ... OK
* checking whether the package can be loaded ... OK
* checking whether the package can be loaded with stated dependencies ... OK
* checking whether the package can be unloaded cleanly ... OK
* checking whether the namespace can be loaded with stated dependencies ... OK
* checking whether the namespace can be unloaded cleanly ... OK
* checking loading without being on the library search path ... OK
* checking whether startup messages can be suppressed ... OK
* checking dependencies in R code ... OK
* checking S3 generic/method consistency ... OK
* checking replacement functions ... OK
* checking foreign function calls ... OK
* checking R code for possible problems ... OK
* checking Rd files ... NOTE
checkRd: (-1) refGenes_hg19.Rd:21: Lost braces; missing escapes or markup?
    21 | \item Download from {http://hgdownload.soe.ucsc.edu/goldenPath/hg19/database/}
       |                     ^
* checking Rd metadata ... OK
* checking Rd cross-references ... OK
* checking for missing documentation entries ... OK
* checking for code/documentation mismatches ... OK
* checking Rd \usage sections ... OK
* checking Rd contents ... OK
* checking for unstated dependencies in examples ... OK
* checking contents of ‘data’ directory ... OK
* checking data for non-ASCII characters ... OK
* checking data for ASCII and uncompressed saves ... OK
* checking files in ‘vignettes’ ... OK
* checking examples ... OK
Examples with CPU (user + system) or elapsed time > 5s
                                user system elapsed
sharing_venn                   5.567  1.054  48.521
integration_alluvial_plot      4.975  0.240  11.473
import_parallel_Vispa2Matrices 3.161  0.387  20.856
sharing_heatmap                2.642  0.241  14.562
top_cis_overtime_heatmap       2.145  0.323  11.369
import_Vispa2_stats            2.062  0.185   9.666
CIS_grubbs_overtime            2.036  0.116   9.265
remove_collisions              1.411  0.615   9.758
HSC_population_plot            1.835  0.044   5.835
iss_source                     1.646  0.063  10.717
is_sharing                     1.626  0.059  11.941
HSC_population_size_estimate   1.259  0.132   5.368
realign_after_collisions       1.374  0.000   9.228
compute_near_integrations      1.040  0.242   5.429
* checking for unstated dependencies in ‘tests’ ... OK
* checking tests ...
  Running ‘testthat.R’
 OK
* checking for unstated dependencies in vignettes ... OK
* checking package vignettes ... OK
* checking running R code from vignettes ... SKIPPED
* checking re-building of vignette outputs ... SKIPPED
* checking PDF version of manual ... OK
* DONE

Status: 1 NOTE
See
  ‘/home/biocbuild/bbs-3.22-bioc/meat/ISAnalytics.Rcheck/00check.log’
for details.


Installation output

ISAnalytics.Rcheck/00install.out

##############################################################################
##############################################################################
###
### Running command:
###
###   /home/biocbuild/R/R/bin/R CMD INSTALL ISAnalytics
###
##############################################################################
##############################################################################


* installing to library ‘/home/biocbuild/R/R-4.5.0/site-library’
* installing *source* package ‘ISAnalytics’ ...
** this is package ‘ISAnalytics’ version ‘1.20.0’
** using staged installation
** R
** data
** inst
** byte-compile and prepare package for lazy loading
** help
*** installing help indices
*** copying figures
** building package indices
** installing vignettes
** testing if installed package can be loaded from temporary location
** testing if installed package can be loaded from final location
** testing if installed package keeps a record of temporary installation path
* DONE (ISAnalytics)

Tests output

ISAnalytics.Rcheck/tests/testthat.Rout


R version 4.5.0 (2025-04-11) -- "How About a Twenty-Six"
Copyright (C) 2025 The R Foundation for Statistical Computing
Platform: aarch64-unknown-linux-gnu

R is free software and comes with ABSOLUTELY NO WARRANTY.
You are welcome to redistribute it under certain conditions.
Type 'license()' or 'licence()' for distribution details.

R is a collaborative project with many contributors.
Type 'contributors()' for more information and
'citation()' on how to cite R or R packages in publications.

Type 'demo()' for some demos, 'help()' for on-line help, or
'help.start()' for an HTML browser interface to help.
Type 'q()' to quit R.

> library(testthat)
> library(ISAnalytics)
> 
> test_check("ISAnalytics")
Loading required namespace: plotly
Loading required namespace: rmarkdown
Report correctly saved
i Report saved to: /home/biocbuild/tmp/RtmpuzMYQf/file27993841df461/2025-11-11_collision_removal_report.html
Report correctly saved
i Report saved to: /home/biocbuild/tmp/RtmpuzMYQf/file2799384ee4c01/2025-11-11_outlier_test_pool_fragments_report.html
[ FAIL 0 | WARN 0 | SKIP 0 | PASS 834 ]
> 
> proc.time()
   user  system elapsed 
141.936   8.957 383.794 

Example timings

ISAnalytics.Rcheck/ISAnalytics-Ex.timings

nameusersystemelapsed
CIS_grubbs1.1910.0161.211
CIS_grubbs_overtime2.0360.1169.265
CIS_volcano_plot2.1780.0722.256
HSC_population_plot1.8350.0445.835
HSC_population_size_estimate1.2590.1325.368
NGSdataExplorer000
aggregate_metadata0.1530.0020.156
aggregate_values_by_key0.0940.0010.094
annotation_issues0.0340.0030.037
as_sparse_matrix0.0730.0000.072
available_outlier_tests000
available_tags0.0300.0000.031
blood_lineages_default0.0420.0000.042
circos_genomic_density000
clinical_relevant_suspicious_genes0.0180.0000.018
comparison_matrix0.0430.0430.087
compute_abundance0.0680.0240.093
compute_near_integrations1.0400.2425.429
cumulative_count_union000
cumulative_is0.2440.0040.248
date_formats0.0010.0000.000
default_af_transform0.0010.0000.001
default_iss_file_prefixes000
default_meta_agg0.0220.0040.026
default_rec_agg_lambdas000
default_report_path0.010.000.01
default_stats1.3600.0761.440
enable_progress_bars0.0200.0000.021
export_ISA_settings0.0980.0080.107
fisher_scatterplot1.7640.1041.873
gene_frequency_fisher1.2630.0441.309
generate_Vispa2_launch_AF0.3090.0310.339
generate_blank_association_file0.0190.0000.019
generate_default_folder_structure0.5180.0740.595
import_ISA_settings0.0850.0000.086
import_Vispa2_stats2.0620.1859.666
import_association_file0.7720.1560.937
import_parallel_Vispa2Matrices 3.161 0.38720.856
import_single_Vispa2Matrix0.9950.2171.219
inspect_tags0.0210.0000.022
integration_alluvial_plot 4.975 0.24011.473
is_sharing 1.626 0.05911.941
iss_source 1.646 0.06310.717
known_clinical_oncogenes0.0160.0000.016
mandatory_IS_vars0.1410.0000.141
matching_options000
outlier_filter0.2190.0000.220
outliers_by_pool_fragments0.2210.0200.241
pcr_id_column0.0260.0000.025
purity_filter0.4700.0040.476
quantification_types000
realign_after_collisions1.3740.0009.228
reduced_AF_columns0.0640.0000.065
refGene_table_cols000
remove_collisions1.4110.6159.758
reset_mandatory_IS_vars0.0070.0000.007
sample_statistics0.4490.0400.491
separate_quant_matrices0.020.000.02
set_mandatory_IS_vars0.1190.0120.132
set_matrix_file_suffixes0.0270.0000.027
sharing_heatmap 2.642 0.24114.562
sharing_venn 5.567 1.05448.521
threshold_filter000
top_abund_tableGrob1.0010.0631.067
top_cis_overtime_heatmap 2.145 0.32311.369
top_integrations0.0420.0000.043
top_targeted_genes0.6810.0040.688
transform_columns0.0280.0000.027