Back to Multiple platform build/check report for BioC 3.22:   simplified   long
ABCDEFG[H]IJKLMNOPQRSTUVWXYZ

This page was generated on 2025-11-12 11:58 -0500 (Wed, 12 Nov 2025).

HostnameOSArch (*)R versionInstalled pkgs
nebbiolo2Linux (Ubuntu 24.04.3 LTS)x86_644.5.1 Patched (2025-08-23 r88802) -- "Great Square Root" 4902
taishanLinux (openEuler 24.03 LTS)aarch644.5.0 (2025-04-11) -- "How About a Twenty-Six" 4668
Click on any hostname to see more info about the system (e.g. compilers)      (*) as reported by 'uname -p', except on Windows and Mac OS X

Package 980/2361HostnameOS / ArchINSTALLBUILDCHECKBUILD BIN
HiCDCPlus 1.18.0  (landing page)
Merve Sahin
Snapshot Date: 2025-11-11 13:45 -0500 (Tue, 11 Nov 2025)
git_url: https://git.bioconductor.org/packages/HiCDCPlus
git_branch: RELEASE_3_22
git_last_commit: 2c8bd39
git_last_commit_date: 2025-10-29 11:06:20 -0500 (Wed, 29 Oct 2025)
nebbiolo2Linux (Ubuntu 24.04.3 LTS) / x86_64  OK    OK    OK  UNNEEDED, same version is already published
taishanLinux (openEuler 24.03 LTS) / aarch64  OK    OK    OK  


CHECK results for HiCDCPlus on taishan

To the developers/maintainers of the HiCDCPlus package:
- Allow up to 24 hours (and sometimes 48 hours) for your latest push to git@git.bioconductor.org:packages/HiCDCPlus.git to reflect on this report. See Troubleshooting Build Report for more information.
- Use the following Renviron settings to reproduce errors and warnings.
- If 'R CMD check' started to fail recently on the Linux builder(s) over a missing dependency, add the missing dependency to 'Suggests:' in your DESCRIPTION file. See Renviron.bioc for more information.
- See Martin Grigorov's blog post for how to debug Linux ARM64 related issues on a x86_64 host.

raw results


Summary

Package: HiCDCPlus
Version: 1.18.0
Command: /home/biocbuild/R/R/bin/R CMD check --install=check:HiCDCPlus.install-out.txt --library=/home/biocbuild/R/R/site-library --no-vignettes --timings HiCDCPlus_1.18.0.tar.gz
StartedAt: 2025-11-11 10:39:30 -0000 (Tue, 11 Nov 2025)
EndedAt: 2025-11-11 10:46:12 -0000 (Tue, 11 Nov 2025)
EllapsedTime: 401.4 seconds
RetCode: 0
Status:   OK  
CheckDir: HiCDCPlus.Rcheck
Warnings: 0

Command output

##############################################################################
##############################################################################
###
### Running command:
###
###   /home/biocbuild/R/R/bin/R CMD check --install=check:HiCDCPlus.install-out.txt --library=/home/biocbuild/R/R/site-library --no-vignettes --timings HiCDCPlus_1.18.0.tar.gz
###
##############################################################################
##############################################################################


* using log directory ‘/home/biocbuild/bbs-3.22-bioc/meat/HiCDCPlus.Rcheck’
* using R version 4.5.0 (2025-04-11)
* using platform: aarch64-unknown-linux-gnu
* R was compiled by
    aarch64-unknown-linux-gnu-gcc (GCC) 14.2.0
    GNU Fortran (GCC) 14.2.0
* running under: openEuler 24.03 (LTS)
* using session charset: UTF-8
* using option ‘--no-vignettes’
* checking for file ‘HiCDCPlus/DESCRIPTION’ ... OK
* checking extension type ... Package
* this is package ‘HiCDCPlus’ version ‘1.18.0’
* package encoding: UTF-8
* checking package namespace information ... OK
* checking package dependencies ... OK
* checking if this is a source package ... OK
* checking if there is a namespace ... OK
* checking for hidden files and directories ... OK
* checking for portable file names ... OK
* checking for sufficient/correct file permissions ... OK
* checking whether package ‘HiCDCPlus’ can be installed ... OK
* used C++ compiler: ‘aarch64-unknown-linux-gnu-g++ (GCC) 14.2.0’
* checking C++ specification ... NOTE
  Specified C++11: please drop specification unless essential
* checking installed package size ... INFO
  installed size is  5.4Mb
  sub-directories of 1Mb or more:
    extdata   3.3Mb
    libs      1.5Mb
* checking package directory ... OK
* checking ‘build’ directory ... OK
* checking DESCRIPTION meta-information ... OK
* checking top-level files ... OK
* checking for left-over files ... OK
* checking index information ... OK
* checking package subdirectories ... OK
* checking code files for non-ASCII characters ... OK
* checking R files for syntax errors ... OK
* checking whether the package can be loaded ... OK
* checking whether the package can be loaded with stated dependencies ... OK
* checking whether the package can be unloaded cleanly ... OK
* checking whether the namespace can be loaded with stated dependencies ... OK
* checking whether the namespace can be unloaded cleanly ... OK
* checking loading without being on the library search path ... OK
* checking dependencies in R code ... OK
* checking S3 generic/method consistency ... OK
* checking replacement functions ... OK
* checking foreign function calls ... OK
* checking R code for possible problems ... OK
* checking Rd files ... OK
* checking Rd metadata ... OK
* checking Rd cross-references ... OK
* checking for missing documentation entries ... OK
* checking for code/documentation mismatches ... OK
* checking Rd \usage sections ... OK
* checking Rd contents ... OK
* checking for unstated dependencies in examples ... OK
* checking line endings in C/C++/Fortran sources/headers ... OK
* checking line endings in Makefiles ... OK
* checking compilation flags in Makevars ... OK
* checking for GNU extensions in Makefiles ... OK
* checking for portable use of $(BLAS_LIBS) and $(LAPACK_LIBS) ... OK
* checking use of PKG_*FLAGS in Makefiles ... OK
* checking compiled code ... NOTE
Note: information on .o files is not available
* checking files in ‘vignettes’ ... OK
* checking examples ... OK
Examples with CPU (user + system) or elapsed time > 5s
                             user system elapsed
HTClist2gi_list             9.228  0.778  10.033
construct_features          7.927  0.962   8.911
construct_features_chr      6.124  0.083   6.231
HiCDCPlus_parallel          0.618  0.013  16.634
construct_features_parallel 0.012  0.016  23.945
* checking for unstated dependencies in ‘tests’ ... OK
* checking tests ...
  Running ‘runTests.R’
 OK
* checking for unstated dependencies in vignettes ... OK
* checking package vignettes ... OK
* checking running R code from vignettes ... SKIPPED
* checking re-building of vignette outputs ... SKIPPED
* checking PDF version of manual ... OK
* DONE

Status: 2 NOTEs
See
  ‘/home/biocbuild/bbs-3.22-bioc/meat/HiCDCPlus.Rcheck/00check.log’
for details.


Installation output

HiCDCPlus.Rcheck/00install.out

##############################################################################
##############################################################################
###
### Running command:
###
###   /home/biocbuild/R/R/bin/R CMD INSTALL HiCDCPlus
###
##############################################################################
##############################################################################


* installing to library ‘/home/biocbuild/R/R-4.5.0/site-library’
* installing *source* package ‘HiCDCPlus’ ...
** this is package ‘HiCDCPlus’ version ‘1.18.0’
** using staged installation
** libs
using C++ compiler: ‘aarch64-unknown-linux-gnu-g++ (GCC) 14.2.0’
using C++11
/opt/ohpc/pub/compiler/gcc/14.2.0/bin/aarch64-unknown-linux-gnu-g++ -std=gnu++11 -I"/home/biocbuild/R/R-4.5.0/include" -DNDEBUG  -I'/home/biocbuild/R/R-4.5.0/site-library/Rcpp/include' -I/usr/local/include    -fPIC  -g -O2  -Wall -Werror=format-security  -c RcppExports.cpp -o RcppExports.o
/opt/ohpc/pub/compiler/gcc/14.2.0/bin/aarch64-unknown-linux-gnu-g++ -std=gnu++11 -I"/home/biocbuild/R/R-4.5.0/include" -DNDEBUG  -I'/home/biocbuild/R/R-4.5.0/site-library/Rcpp/include' -I/usr/local/include    -fPIC  -g -O2  -Wall -Werror=format-security  -c straw.cpp -o straw.o
/opt/ohpc/pub/compiler/gcc/14.2.0/bin/aarch64-unknown-linux-gnu-g++ -std=gnu++11 -shared -L/home/biocbuild/R/R-4.5.0/lib -L/usr/local/lib -o HiCDCPlus.so RcppExports.o straw.o -lz -L/home/biocbuild/R/R-4.5.0/lib -lR
installing to /home/biocbuild/R/R-4.5.0/site-library/00LOCK-HiCDCPlus/00new/HiCDCPlus/libs
** R
** inst
** byte-compile and prepare package for lazy loading
** help
*** installing help indices
*** copying figures
** building package indices
** installing vignettes
** testing if installed package can be loaded from temporary location
** checking absolute paths in shared objects and dynamic libraries
** testing if installed package can be loaded from final location
** testing if installed package keeps a record of temporary installation path
* DONE (HiCDCPlus)

Tests output

HiCDCPlus.Rcheck/tests/runTests.Rout


R version 4.5.0 (2025-04-11) -- "How About a Twenty-Six"
Copyright (C) 2025 The R Foundation for Statistical Computing
Platform: aarch64-unknown-linux-gnu

R is free software and comes with ABSOLUTELY NO WARRANTY.
You are welcome to redistribute it under certain conditions.
Type 'license()' or 'licence()' for distribution details.

R is a collaborative project with many contributors.
Type 'contributors()' for more information and
'citation()' on how to cite R or R packages in publications.

Type 'demo()' for some demos, 'help()' for on-line help, or
'help.start()' for an HTML browser interface to help.
Type 'q()' to quit R.

> BiocGenerics:::testPackage("HiCDCPlus")
Loading required package: BSgenome
Loading required package: BiocGenerics
Loading required package: generics

Attaching package: 'generics'

The following objects are masked from 'package:base':

    as.difftime, as.factor, as.ordered, intersect, is.element, setdiff,
    setequal, union


Attaching package: 'BiocGenerics'

The following objects are masked from 'package:stats':

    IQR, mad, sd, var, xtabs

The following objects are masked from 'package:base':

    Filter, Find, Map, Position, Reduce, anyDuplicated, aperm, append,
    as.data.frame, basename, cbind, colnames, dirname, do.call,
    duplicated, eval, evalq, get, grep, grepl, is.unsorted, lapply,
    mapply, match, mget, order, paste, pmax, pmax.int, pmin, pmin.int,
    rank, rbind, rownames, sapply, saveRDS, table, tapply, unique,
    unsplit, which.max, which.min

Loading required package: S4Vectors
Loading required package: stats4

Attaching package: 'S4Vectors'

The following object is masked from 'package:utils':

    findMatches

The following objects are masked from 'package:base':

    I, expand.grid, unname

Loading required package: IRanges
Loading required package: Seqinfo
Loading required package: GenomicRanges
Loading required package: Biostrings
Loading required package: XVector

Attaching package: 'Biostrings'

The following object is masked from 'package:base':

    strsplit

Loading required package: BiocIO
Loading required package: rtracklayer


RUNIT TEST PROTOCOL -- Tue Nov 11 10:46:07 2025 
*********************************************** 
Number of test functions: 1 
Number of errors: 0 
Number of failures: 0 

 
1 Test Suite : 
HiCDCPlus RUnit Tests - 1 test function, 0 errors, 0 failures
Number of test functions: 1 
Number of errors: 0 
Number of failures: 0 
> 
> proc.time()
   user  system elapsed 
 14.025   0.504  14.549 

Example timings

HiCDCPlus.Rcheck/HiCDCPlus-Ex.timings

nameusersystemelapsed
HTClist2gi_list 9.228 0.77810.033
HiCDCPlus2.4130.0482.467
HiCDCPlus_chr2.1270.0562.187
HiCDCPlus_parallel 0.618 0.01316.634
add_1D_features0.0990.0040.104
add_2D_features0.4870.0040.492
add_hic_counts0.5850.0080.595
construct_features7.9270.9628.911
construct_features_chr6.1240.0836.231
construct_features_parallel 0.012 0.01623.945
expand_1D_features0.1390.0120.152
extract_hic_eigenvectors2.7130.2212.664
generate_binned_gi_list0.3810.0320.414
generate_bintolen_gi_list0.5780.0480.629
generate_df_gi_list0.3670.0320.400
get_chr_sizes0.3240.0160.342
get_chrs0.3210.0080.331
get_enzyme_cutsites1.6270.1511.786
gi_list2HTClist0.6120.0640.677
gi_list_Dthreshold.detect0.3390.0240.365
gi_list_binsize_detect0.3520.0190.373
gi_list_read0.4800.0470.534
gi_list_topdom2.7860.1672.968
gi_list_validate0.3510.0110.366
gi_list_write0.4110.0120.426
hic2icenorm_gi_list1.3850.2861.685
hicdc2hic2.9400.2132.183
hicdcdiff3.4610.4943.982