| Back to Multiple platform build/check report for BioC 3.21: simplified long |
|
This page was generated on 2025-10-16 11:41 -0400 (Thu, 16 Oct 2025).
| Hostname | OS | Arch (*) | R version | Installed pkgs |
|---|---|---|---|---|
| nebbiolo1 | Linux (Ubuntu 24.04.3 LTS) | x86_64 | 4.5.1 (2025-06-13) -- "Great Square Root" | 4833 |
| merida1 | macOS 12.7.6 Monterey | x86_64 | 4.5.1 RC (2025-06-05 r88288) -- "Great Square Root" | 4614 |
| kjohnson1 | macOS 13.7.5 Ventura | arm64 | 4.5.1 Patched (2025-06-14 r88325) -- "Great Square Root" | 4555 |
| kunpeng2 | Linux (openEuler 24.03 LTS) | aarch64 | R Under development (unstable) (2025-02-19 r87757) -- "Unsuffered Consequences" | 4586 |
| Click on any hostname to see more info about the system (e.g. compilers) (*) as reported by 'uname -p', except on Windows and Mac OS X | ||||
| Package 986/2341 | Hostname | OS / Arch | INSTALL | BUILD | CHECK | BUILD BIN | ||||||||
| HIPPO 1.20.0 (landing page) Tae Kim
| nebbiolo1 | Linux (Ubuntu 24.04.3 LTS) / x86_64 | OK | OK | OK | |||||||||
| merida1 | macOS 12.7.6 Monterey / x86_64 | OK | OK | OK | OK | |||||||||
| kjohnson1 | macOS 13.7.5 Ventura / arm64 | OK | OK | OK | OK | |||||||||
| kunpeng2 | Linux (openEuler 24.03 LTS) / aarch64 | OK | OK | OK | ||||||||||
|
To the developers/maintainers of the HIPPO package: - Allow up to 24 hours (and sometimes 48 hours) for your latest push to git@git.bioconductor.org:packages/HIPPO.git to reflect on this report. See Troubleshooting Build Report for more information. - Use the following Renviron settings to reproduce errors and warnings. - If 'R CMD check' started to fail recently on the Linux builder(s) over a missing dependency, add the missing dependency to 'Suggests:' in your DESCRIPTION file. See Renviron.bioc for more information. - See Martin Grigorov's blog post for how to debug Linux ARM64 related issues on a x86_64 host. |
| Package: HIPPO |
| Version: 1.20.0 |
| Command: /home/biocbuild/R/R/bin/R CMD check --install=check:HIPPO.install-out.txt --library=/home/biocbuild/R/R/site-library --no-vignettes --timings HIPPO_1.20.0.tar.gz |
| StartedAt: 2025-10-14 10:10:52 -0000 (Tue, 14 Oct 2025) |
| EndedAt: 2025-10-14 10:15:08 -0000 (Tue, 14 Oct 2025) |
| EllapsedTime: 256.2 seconds |
| RetCode: 0 |
| Status: OK |
| CheckDir: HIPPO.Rcheck |
| Warnings: 0 |
##############################################################################
##############################################################################
###
### Running command:
###
### /home/biocbuild/R/R/bin/R CMD check --install=check:HIPPO.install-out.txt --library=/home/biocbuild/R/R/site-library --no-vignettes --timings HIPPO_1.20.0.tar.gz
###
##############################################################################
##############################################################################
* using log directory ‘/home/biocbuild/bbs-3.21-bioc/meat/HIPPO.Rcheck’
* using R Under development (unstable) (2025-02-19 r87757)
* using platform: aarch64-unknown-linux-gnu
* R was compiled by
aarch64-unknown-linux-gnu-gcc (GCC) 14.2.0
GNU Fortran (GCC) 14.2.0
* running under: openEuler 24.03 (LTS-SP1)
* using session charset: UTF-8
* using option ‘--no-vignettes’
* checking for file ‘HIPPO/DESCRIPTION’ ... OK
* checking extension type ... Package
* this is package ‘HIPPO’ version ‘1.20.0’
* package encoding: UTF-8
* checking package namespace information ... OK
* checking package dependencies ... OK
* checking if this is a source package ... OK
* checking if there is a namespace ... OK
* checking for hidden files and directories ... OK
* checking for portable file names ... OK
* checking for sufficient/correct file permissions ... OK
* checking whether package ‘HIPPO’ can be installed ... OK
* checking installed package size ... OK
* checking package directory ... OK
* checking DESCRIPTION meta-information ... OK
* checking top-level files ... OK
* checking for left-over files ... OK
* checking index information ... OK
* checking package subdirectories ... OK
* checking code files for non-ASCII characters ... OK
* checking R files for syntax errors ... OK
* checking whether the package can be loaded ... OK
* checking whether the package can be loaded with stated dependencies ... OK
* checking whether the package can be unloaded cleanly ... OK
* checking whether the namespace can be loaded with stated dependencies ... OK
* checking whether the namespace can be unloaded cleanly ... OK
* checking loading without being on the library search path ... OK
* checking dependencies in R code ... OK
* checking S3 generic/method consistency ... OK
* checking replacement functions ... OK
* checking foreign function calls ... OK
* checking R code for possible problems ... NOTE
ensg_to_hgnc: no visible global function definition for ‘data’
ensg_to_hgnc: no visible binding for global variable ‘ensg_hgnc’
hippo: no visible global function definition for ‘is’
hippo_feature_heatmap: no visible binding for global variable ‘zvalue’
hippo_tsne_plot: no visible binding for global variable ‘K’
hippo_umap_plot: no visible binding for global variable ‘K’
preprocess_homogeneous: no visible global function definition for ‘is’
zero_proportion_plot: no visible binding for global variable ‘K’
zero_proportion_plot: no visible binding for global variable ‘zvalue’
zero_proportion_plot: no visible binding for global variable
‘featurecount’
Undefined global functions or variables:
K data ensg_hgnc featurecount is zvalue
Consider adding
importFrom("methods", "is")
importFrom("utils", "data")
to your NAMESPACE file (and ensure that your DESCRIPTION Imports field
contains 'methods').
* checking Rd files ... OK
* checking Rd metadata ... OK
* checking Rd cross-references ... OK
* checking for missing documentation entries ... OK
* checking for code/documentation mismatches ... OK
* checking Rd \usage sections ... OK
* checking Rd contents ... OK
* checking for unstated dependencies in examples ... OK
* checking contents of ‘data’ directory ... OK
* checking data for non-ASCII characters ... OK
* checking LazyData ... OK
* checking data for ASCII and uncompressed saves ... OK
* checking files in ‘vignettes’ ... OK
* checking examples ... OK
* checking for unstated dependencies in vignettes ... OK
* checking package vignettes ... OK
* checking running R code from vignettes ... SKIPPED
* checking re-building of vignette outputs ... SKIPPED
* checking PDF version of manual ... OK
* DONE
Status: 1 NOTE
See
‘/home/biocbuild/bbs-3.21-bioc/meat/HIPPO.Rcheck/00check.log’
for details.
HIPPO.Rcheck/00install.out
############################################################################## ############################################################################## ### ### Running command: ### ### /home/biocbuild/R/R/bin/R CMD INSTALL HIPPO ### ############################################################################## ############################################################################## * installing to library ‘/home/biocbuild/R/R-devel_2025-02-19/site-library’ * installing *source* package ‘HIPPO’ ... ** this is package ‘HIPPO’ version ‘1.20.0’ ** using staged installation ** R ** data *** moving datasets to lazyload DB ** byte-compile and prepare package for lazy loading ** help *** installing help indices ** building package indices ** installing vignettes ** testing if installed package can be loaded from temporary location ** testing if installed package can be loaded from final location ** testing if installed package keeps a record of temporary installation path * DONE (HIPPO)
HIPPO.Rcheck/HIPPO-Ex.timings
| name | user | system | elapsed | |
| get_data_from_sce | 0.922 | 0.163 | 1.089 | |
| get_hippo | 0.387 | 0.012 | 0.400 | |
| get_hippo_diffexp | 1.576 | 0.024 | 1.604 | |
| hippo | 0.422 | 0.020 | 0.443 | |
| hippo_diagnostic_plot | 1.474 | 0.044 | 1.521 | |
| hippo_diffexp | 1.375 | 0.036 | 1.414 | |
| hippo_dimension_reduction | 1.396 | 0.016 | 1.415 | |
| hippo_feature_heatmap | 1.615 | 0.060 | 1.678 | |
| hippo_pca_plot | 0.846 | 0.000 | 0.848 | |
| hippo_tsne_plot | 2.146 | 0.036 | 2.187 | |
| hippo_umap_plot | 1.755 | 0.016 | 1.784 | |
| nb_prob_zero | 0 | 0 | 0 | |
| pois_prob_zero | 0 | 0 | 0 | |
| preprocess_heterogeneous | 0.234 | 0.000 | 0.234 | |
| preprocess_homogeneous | 0.231 | 0.000 | 0.232 | |
| zero_proportion_plot | 1.385 | 0.020 | 1.412 | |
| zinb_prob_zero | 0 | 0 | 0 | |