| Back to Multiple platform build/check report for BioC 3.22: simplified long |
|
This page was generated on 2025-11-12 11:58 -0500 (Wed, 12 Nov 2025).
| Hostname | OS | Arch (*) | R version | Installed pkgs |
|---|---|---|---|---|
| nebbiolo2 | Linux (Ubuntu 24.04.3 LTS) | x86_64 | 4.5.1 Patched (2025-08-23 r88802) -- "Great Square Root" | 4902 |
| taishan | Linux (openEuler 24.03 LTS) | aarch64 | 4.5.0 (2025-04-11) -- "How About a Twenty-Six" | 4668 |
| Click on any hostname to see more info about the system (e.g. compilers) (*) as reported by 'uname -p', except on Windows and Mac OS X | ||||
| Package 897/2361 | Hostname | OS / Arch | INSTALL | BUILD | CHECK | BUILD BIN | ||||||||
| GloScope 2.0.0 (landing page) William Torous
| nebbiolo2 | Linux (Ubuntu 24.04.3 LTS) / x86_64 | OK | OK | ERROR | |||||||||
| taishan | Linux (openEuler 24.03 LTS) / aarch64 | OK | OK | ERROR | ||||||||||
|
To the developers/maintainers of the GloScope package: - Allow up to 24 hours (and sometimes 48 hours) for your latest push to git@git.bioconductor.org:packages/GloScope.git to reflect on this report. See Troubleshooting Build Report for more information. - Use the following Renviron settings to reproduce errors and warnings. - If 'R CMD check' started to fail recently on the Linux builder(s) over a missing dependency, add the missing dependency to 'Suggests:' in your DESCRIPTION file. See Renviron.bioc for more information. - See Martin Grigorov's blog post for how to debug Linux ARM64 related issues on a x86_64 host. |
| Package: GloScope |
| Version: 2.0.0 |
| Command: /home/biocbuild/R/R/bin/R CMD check --install=check:GloScope.install-out.txt --library=/home/biocbuild/R/R/site-library --no-vignettes --timings GloScope_2.0.0.tar.gz |
| StartedAt: 2025-11-11 10:19:13 -0000 (Tue, 11 Nov 2025) |
| EndedAt: 2025-11-11 10:26:54 -0000 (Tue, 11 Nov 2025) |
| EllapsedTime: 460.4 seconds |
| RetCode: 1 |
| Status: ERROR |
| CheckDir: GloScope.Rcheck |
| Warnings: NA |
##############################################################################
##############################################################################
###
### Running command:
###
### /home/biocbuild/R/R/bin/R CMD check --install=check:GloScope.install-out.txt --library=/home/biocbuild/R/R/site-library --no-vignettes --timings GloScope_2.0.0.tar.gz
###
##############################################################################
##############################################################################
* using log directory ‘/home/biocbuild/bbs-3.22-bioc/meat/GloScope.Rcheck’
* using R version 4.5.0 (2025-04-11)
* using platform: aarch64-unknown-linux-gnu
* R was compiled by
aarch64-unknown-linux-gnu-gcc (GCC) 14.2.0
GNU Fortran (GCC) 14.2.0
* running under: openEuler 24.03 (LTS)
* using session charset: UTF-8
* using option ‘--no-vignettes’
* checking for file ‘GloScope/DESCRIPTION’ ... OK
* checking extension type ... Package
* this is package ‘GloScope’ version ‘2.0.0’
* package encoding: UTF-8
* checking package namespace information ... OK
* checking package dependencies ... OK
* checking if this is a source package ... OK
* checking if there is a namespace ... OK
* checking for hidden files and directories ... OK
* checking for portable file names ... OK
* checking for sufficient/correct file permissions ... OK
* checking whether package ‘GloScope’ can be installed ... OK
* checking installed package size ... OK
* checking package directory ... OK
* checking ‘build’ directory ... OK
* checking DESCRIPTION meta-information ... OK
* checking top-level files ... OK
* checking for left-over files ... OK
* checking index information ... OK
* checking package subdirectories ... OK
* checking code files for non-ASCII characters ... OK
* checking R files for syntax errors ... OK
* checking whether the package can be loaded ... OK
* checking whether the package can be loaded with stated dependencies ... OK
* checking whether the package can be unloaded cleanly ... OK
* checking whether the namespace can be loaded with stated dependencies ... OK
* checking whether the namespace can be unloaded cleanly ... OK
* checking loading without being on the library search path ... OK
* checking dependencies in R code ... OK
* checking S3 generic/method consistency ... OK
* checking replacement functions ... OK
* checking foreign function calls ... OK
* checking R code for possible problems ... OK
* checking Rd files ... OK
* checking Rd metadata ... OK
* checking Rd cross-references ... OK
* checking for missing documentation entries ... OK
* checking for code/documentation mismatches ... OK
* checking Rd \usage sections ... OK
* checking Rd contents ... OK
* checking for unstated dependencies in examples ... OK
* checking contents of ‘data’ directory ... OK
* checking data for non-ASCII characters ... OK
* checking data for ASCII and uncompressed saves ... OK
* checking files in ‘vignettes’ ... OK
* checking examples ... OK
Examples with CPU (user + system) or elapsed time > 5s
user system elapsed
getMetrics 32.784 0.136 33.016
plotCI 16.206 0.071 16.326
* checking for unstated dependencies in ‘tests’ ... OK
* checking tests ...
Running ‘testthat.R’
ERROR
Running the tests in ‘tests/testthat.R’ failed.
Last 13 lines of output:
1 remote errors, element index: 1
1 unevaluated and other errors
first remote error:
Error in dimnames(x) <- dn: length of 'dimnames' [2] not equal to array extent
Backtrace:
▆
1. └─GloScope:::.calc_dens(...) at test-cell.R:140:3
2. ├─BiocParallel::bplapply(...)
3. └─BiocParallel::bplapply(...)
4. └─BiocParallel:::.bpinit(...)
[ FAIL 2 | WARN 0 | SKIP 0 | PASS 78 ]
Error: Test failures
Execution halted
* checking for unstated dependencies in vignettes ... OK
* checking package vignettes ... OK
* checking running R code from vignettes ... SKIPPED
* checking re-building of vignette outputs ... SKIPPED
* checking PDF version of manual ... OK
* DONE
Status: 1 ERROR
See
‘/home/biocbuild/bbs-3.22-bioc/meat/GloScope.Rcheck/00check.log’
for details.
GloScope.Rcheck/00install.out
############################################################################## ############################################################################## ### ### Running command: ### ### /home/biocbuild/R/R/bin/R CMD INSTALL GloScope ### ############################################################################## ############################################################################## * installing to library ‘/home/biocbuild/R/R-4.5.0/site-library’ * installing *source* package ‘GloScope’ ... ** this is package ‘GloScope’ version ‘2.0.0’ ** using staged installation ** R ** data ** inst ** byte-compile and prepare package for lazy loading ** help *** installing help indices ** building package indices ** installing vignettes ** testing if installed package can be loaded from temporary location ** testing if installed package can be loaded from final location ** testing if installed package keeps a record of temporary installation path * DONE (GloScope)
GloScope.Rcheck/tests/testthat.Rout.fail
R version 4.5.0 (2025-04-11) -- "How About a Twenty-Six"
Copyright (C) 2025 The R Foundation for Statistical Computing
Platform: aarch64-unknown-linux-gnu
R is free software and comes with ABSOLUTELY NO WARRANTY.
You are welcome to redistribute it under certain conditions.
Type 'license()' or 'licence()' for distribution details.
R is a collaborative project with many contributors.
Type 'contributors()' for more information and
'citation()' on how to cite R or R packages in publications.
Type 'demo()' for some demos, 'help()' for on-line help, or
'help.start()' for an HTML browser interface to help.
Type 'q()' to quit R.
> library(testthat)
> library(GloScope)
>
> test_check("GloScope")
'nperm' >= set of all permutations: complete enumeration.
Set of permutations < 'minperm'. Generating entire set.
'nperm' >= set of all permutations: complete enumeration.
Set of permutations < 'minperm'. Generating entire set.
[ FAIL 2 | WARN 0 | SKIP 0 | PASS 78 ]
══ Failed tests ════════════════════════════════════════════════════════════════
── Error ('test-cell.R:100:3'): JS divergences are properly implemented ────────
<bplist_error/bperror/error/condition>
Error: BiocParallel errors
1 remote errors, element index: 1
1 unevaluated and other errors
first remote error:
Error in dimnames(x) <- dn: length of 'dimnames' [2] not equal to array extent
Backtrace:
▆
1. └─GloScope:::.calc_dens(...) at test-cell.R:100:3
2. ├─BiocParallel::bplapply(...)
3. └─BiocParallel::bplapply(...)
4. └─BiocParallel:::.bpinit(...)
── Error ('test-cell.R:140:3'): the sKL divergences are properly implemented ───
<bplist_error/bperror/error/condition>
Error: BiocParallel errors
1 remote errors, element index: 1
1 unevaluated and other errors
first remote error:
Error in dimnames(x) <- dn: length of 'dimnames' [2] not equal to array extent
Backtrace:
▆
1. └─GloScope:::.calc_dens(...) at test-cell.R:140:3
2. ├─BiocParallel::bplapply(...)
3. └─BiocParallel::bplapply(...)
4. └─BiocParallel:::.bpinit(...)
[ FAIL 2 | WARN 0 | SKIP 0 | PASS 78 ]
Error: Test failures
Execution halted
GloScope.Rcheck/GloScope-Ex.timings
| name | user | system | elapsed | |
| data | 0.479 | 0.004 | 0.485 | |
| getMetrics | 32.784 | 0.136 | 33.016 | |
| gloscope | 0.822 | 0.008 | 0.832 | |
| gloscopeProp | 0.041 | 0.004 | 0.045 | |
| plotCI | 16.206 | 0.071 | 16.326 | |
| plotHeatmap | 0.911 | 0.004 | 0.917 | |
| plotMDS | 1.705 | 0.016 | 1.725 | |