Back to Multiple platform build/check report for BioC 3.22:   simplified   long
ABCDEF[G]HIJKLMNOPQRSTUVWXYZ

This page was generated on 2025-11-12 11:57 -0500 (Wed, 12 Nov 2025).

HostnameOSArch (*)R versionInstalled pkgs
nebbiolo2Linux (Ubuntu 24.04.3 LTS)x86_644.5.1 Patched (2025-08-23 r88802) -- "Great Square Root" 4902
taishanLinux (openEuler 24.03 LTS)aarch644.5.0 (2025-04-11) -- "How About a Twenty-Six" 4668
Click on any hostname to see more info about the system (e.g. compilers)      (*) as reported by 'uname -p', except on Windows and Mac OS X

All results for package GenomicAlignments


To the developers/maintainers of the GenomicAlignments package:
- Allow up to 24 hours (and sometimes 48 hours) for your latest push to git@git.bioconductor.org:packages/GenomicAlignments.git to reflect on this report. See Troubleshooting Build Report for more information.
- Use the following Renviron settings to reproduce errors and warnings.
- If 'R CMD check' started to fail recently on the Linux builder(s) over a missing dependency, add the missing dependency to 'Suggests:' in your DESCRIPTION file. See Renviron.bioc for more information.

raw results

Package 842/2361HostnameOS / ArchINSTALLBUILDCHECKBUILD BIN
GenomicAlignments 1.46.0  (landing page)
Hervé Pagès
Snapshot Date: 2025-11-11 13:45 -0500 (Tue, 11 Nov 2025)
git_url: https://git.bioconductor.org/packages/GenomicAlignments
git_branch: RELEASE_3_22
git_last_commit: 4bd0167
git_last_commit_date: 2025-10-29 13:50:18 -0500 (Wed, 29 Oct 2025)
nebbiolo2Linux (Ubuntu 24.04.3 LTS) / x86_64  OK    OK    OK  UNNEEDED, same version is already published
taishanLinux (openEuler 24.03 LTS) / aarch64  OK    OK    OK  



Results for Bioconductor software packages that depend directly on package GenomicAlignments

QUICK STATSOS / ArchINSTALLBUILDCHECKBUILD BIN
nebbiolo2Linux (Ubuntu 24.04.3 LTS) / x86_64
03102
0897
062269
taishanLinux (openEuler 24.03 LTS) / aarch64
02103
0798
192167
Package 1/105HostnameOS / ArchINSTALLBUILDCHECKBUILD BIN
AllelicImbalance 1.48.0  (landing page)
Jesper R Gadin
git_last_commit: 556446f
git_last_commit_date: 2025-10-29 10:16:36 -0500
nebbiolo2Linux (Ubuntu 24.04.3 LTS) / x86_64  OK    OK    OK  UNNEEDED, same version is already published
taishanLinux (openEuler 24.03 LTS) / aarch64  OK    OK    OK  
Package 2/105HostnameOS / ArchINSTALLBUILDCHECKBUILD BIN
APAlyzer 1.24.0  (landing page)
Ruijia Wang
git_last_commit: d565f62
git_last_commit_date: 2025-10-29 10:53:34 -0500
nebbiolo2Linux (Ubuntu 24.04.3 LTS) / x86_64  OK    OK    ERROR  
taishanLinux (openEuler 24.03 LTS) / aarch64  OK    OK    ERROR  
Package 3/105HostnameOS / ArchINSTALLBUILDCHECKBUILD BIN
ASpli 2.20.0  (landing page)
Ariel Chernomoretz
git_last_commit: 3c6d496
git_last_commit_date: 2025-10-29 10:33:32 -0500
nebbiolo2Linux (Ubuntu 24.04.3 LTS) / x86_64  OK    OK    WARNINGS  UNNEEDED, same version is already published
taishanLinux (openEuler 24.03 LTS) / aarch64  OK    OK    WARNINGS  
Package 4/105HostnameOS / ArchINSTALLBUILDCHECKBUILD BIN
ATACseqQC 1.34.0  (landing page)
Jianhong Ou
git_last_commit: 9b61612
git_last_commit_date: 2025-10-29 10:38:34 -0500
nebbiolo2Linux (Ubuntu 24.04.3 LTS) / x86_64  OK    OK    OK  UNNEEDED, same version is already published
taishanLinux (openEuler 24.03 LTS) / aarch64  OK    OK    OK  
Package 5/105HostnameOS / ArchINSTALLBUILDCHECKBUILD BIN
ATACseqTFEA 1.12.0  (landing page)
Jianhong Ou
git_last_commit: 77ec3ae
git_last_commit_date: 2025-10-29 11:18:13 -0500
nebbiolo2Linux (Ubuntu 24.04.3 LTS) / x86_64  OK    OK    OK  UNNEEDED, same version is already published
taishanLinux (openEuler 24.03 LTS) / aarch64  OK    OK    OK  
Package 6/105HostnameOS / ArchINSTALLBUILDCHECKBUILD BIN
atena 1.16.0  (landing page)
Robert Castelo
git_last_commit: 93211ad
git_last_commit_date: 2025-10-29 11:12:14 -0500
nebbiolo2Linux (Ubuntu 24.04.3 LTS) / x86_64  OK    OK    OK  UNNEEDED, same version is already published
taishanLinux (openEuler 24.03 LTS) / aarch64  OK    OK    ERROR  
Package 7/105HostnameOS / ArchINSTALLBUILDCHECKBUILD BIN
BaalChIP 1.36.0  (landing page)
Ines de Santiago
git_last_commit: 4f4fba9
git_last_commit_date: 2025-10-29 10:34:21 -0500
nebbiolo2Linux (Ubuntu 24.04.3 LTS) / x86_64  OK    OK    WARNINGS  UNNEEDED, same version is already published
taishanLinux (openEuler 24.03 LTS) / aarch64  OK    OK    WARNINGS  
Package 8/105HostnameOS / ArchINSTALLBUILDCHECKBUILD BIN
bambu 3.12.0  (landing page)
Ying Chen
git_last_commit: 4b0b622
git_last_commit_date: 2025-10-29 11:03:46 -0500
nebbiolo2Linux (Ubuntu 24.04.3 LTS) / x86_64  OK    OK    OK  UNNEEDED, same version is already published
taishanLinux (openEuler 24.03 LTS) / aarch64  OK    OK    OK  
Package 9/105HostnameOS / ArchINSTALLBUILDCHECKBUILD BIN
Basic4Cseq 1.46.0  (landing page)
Carolin Walter
git_last_commit: 9e614cc
git_last_commit_date: 2025-10-29 10:18:19 -0500
nebbiolo2Linux (Ubuntu 24.04.3 LTS) / x86_64  OK    OK    OK  UNNEEDED, same version is already published
taishanLinux (openEuler 24.03 LTS) / aarch64  OK    OK    OK  
Package 10/105HostnameOS / ArchINSTALLBUILDCHECKBUILD BIN
BasicSTARRseq 1.38.0  (landing page)
Annika Buerger
git_last_commit: e00f13d
git_last_commit_date: 2025-10-29 10:29:46 -0500
nebbiolo2Linux (Ubuntu 24.04.3 LTS) / x86_64  OK    OK    OK  UNNEEDED, same version is already published
taishanLinux (openEuler 24.03 LTS) / aarch64  OK    OK    OK  
Package 11/105HostnameOS / ArchINSTALLBUILDCHECKBUILD BIN
biovizBase 1.58.0  (landing page)
Michael Lawrence
git_last_commit: 1f6087b
git_last_commit_date: 2025-10-29 10:09:04 -0500
nebbiolo2Linux (Ubuntu 24.04.3 LTS) / x86_64  OK    OK    WARNINGS  UNNEEDED, same version is already published
taishanLinux (openEuler 24.03 LTS) / aarch64  OK    OK    WARNINGS  
Package 12/105HostnameOS / ArchINSTALLBUILDCHECKBUILD BIN
breakpointR 1.28.0  (landing page)
David Porubsky
git_last_commit: 65b23a9
git_last_commit_date: 2025-10-29 10:47:40 -0500
nebbiolo2Linux (Ubuntu 24.04.3 LTS) / x86_64  OK    OK    OK  UNNEEDED, same version is already published
taishanLinux (openEuler 24.03 LTS) / aarch64  OK    OK    OK  
Package 13/105HostnameOS / ArchINSTALLBUILDCHECKBUILD BIN
CAGEfightR 1.30.0  (landing page)
Malte Thodberg
git_last_commit: eda75c3
git_last_commit_date: 2025-10-29 10:45:17 -0500
nebbiolo2Linux (Ubuntu 24.04.3 LTS) / x86_64  OK    OK    OK  UNNEEDED, same version is already published
taishanLinux (openEuler 24.03 LTS) / aarch64  OK    OK    OK  
Package 14/105HostnameOS / ArchINSTALLBUILDCHECKBUILD BIN
CAGEr 2.16.0  (landing page)
Charles Plessy
git_last_commit: b717389
git_last_commit_date: 2025-10-29 10:13:45 -0500
nebbiolo2Linux (Ubuntu 24.04.3 LTS) / x86_64  OK    OK    OK  UNNEEDED, same version is already published
taishanLinux (openEuler 24.03 LTS) / aarch64  OK    OK    OK  
Package 15/105HostnameOS / ArchINSTALLBUILDCHECKBUILD BIN
cfDNAPro 1.16.0  (landing page)
Haichao Wang
git_last_commit: 910ff77
git_last_commit_date: 2025-10-29 11:11:06 -0500
nebbiolo2Linux (Ubuntu 24.04.3 LTS) / x86_64  OK    OK    WARNINGS  UNNEEDED, same version is already published
taishanLinux (openEuler 24.03 LTS) / aarch64  OK    OK    WARNINGS  
Package 16/105HostnameOS / ArchINSTALLBUILDCHECKBUILD BIN
chimeraviz 1.36.0  (landing page)
Stian Lågstad
git_last_commit: 36b8261
git_last_commit_date: 2025-10-29 10:35:50 -0500
nebbiolo2Linux (Ubuntu 24.04.3 LTS) / x86_64  OK    OK    OK  UNNEEDED, same version is already published
taishanLinux (openEuler 24.03 LTS) / aarch64  OK    OK    OK  
Package 17/105HostnameOS / ArchINSTALLBUILDCHECKBUILD BIN
ChIPexoQual 1.34.0  (landing page)
Rene Welch
git_last_commit: fb0fa9b
git_last_commit_date: 2025-10-29 10:36:27 -0500
nebbiolo2Linux (Ubuntu 24.04.3 LTS) / x86_64  OK    OK    OK  UNNEEDED, same version is already published
taishanLinux (openEuler 24.03 LTS) / aarch64  OK    OK    OK  
Package 18/105HostnameOS / ArchINSTALLBUILDCHECKBUILD BIN
ChIPpeakAnno 3.44.0  (landing page)
Jianhong Ou
git_last_commit: 2b855fa
git_last_commit_date: 2025-10-29 10:03:18 -0500
nebbiolo2Linux (Ubuntu 24.04.3 LTS) / x86_64  OK    OK    OK  UNNEEDED, same version is already published
taishanLinux (openEuler 24.03 LTS) / aarch64  OK    OK    OK  
Package 19/105HostnameOS / ArchINSTALLBUILDCHECKBUILD BIN
ChIPQC 1.46.0  (landing page)
Tom Carroll , Rory Stark
git_last_commit: bf87702
git_last_commit_date: 2025-10-29 10:18:53 -0500
nebbiolo2Linux (Ubuntu 24.04.3 LTS) / x86_64  ERROR    ERROR  skipped
taishanLinux (openEuler 24.03 LTS) / aarch64  OK    OK    OK  
Package 20/105HostnameOS / ArchINSTALLBUILDCHECKBUILD BIN
CNEr 1.46.0  (landing page)
Boris Lenhard Damir Baranasic
git_last_commit: a5d64f4
git_last_commit_date: 2025-10-29 10:18:00 -0500
nebbiolo2Linux (Ubuntu 24.04.3 LTS) / x86_64  OK    OK    WARNINGS  UNNEEDED, same version is already published
taishanLinux (openEuler 24.03 LTS) / aarch64  OK    OK    WARNINGS  
Package 21/105HostnameOS / ArchINSTALLBUILDCHECKBUILD BIN
consensusDE 1.28.0  (landing page)
Ashley J. Waardenberg
git_last_commit: 7c6b138
git_last_commit_date: 2025-10-29 10:48:35 -0500
nebbiolo2Linux (Ubuntu 24.04.3 LTS) / x86_64  OK    OK    OK  UNNEEDED, same version is already published
taishanLinux (openEuler 24.03 LTS) / aarch64  OK    OK    OK  
Package 22/105HostnameOS / ArchINSTALLBUILDCHECKBUILD BIN
CoverageView 1.48.0  (landing page)
Ernesto Lowy
git_last_commit: 714038d
git_last_commit_date: 2025-10-29 10:19:06 -0500
nebbiolo2Linux (Ubuntu 24.04.3 LTS) / x86_64  OK    OK    WARNINGS  UNNEEDED, same version is already published
taishanLinux (openEuler 24.03 LTS) / aarch64  OK    OK    WARNINGS  
Package 23/105HostnameOS / ArchINSTALLBUILDCHECKBUILD BIN
CrispRVariants 1.38.0  (landing page)
Helen Lindsay
git_last_commit: d78780f
git_last_commit_date: 2025-10-29 10:29:17 -0500
nebbiolo2Linux (Ubuntu 24.04.3 LTS) / x86_64  OK    OK    WARNINGS  UNNEEDED, same version is already published
taishanLinux (openEuler 24.03 LTS) / aarch64  OK    OK    WARNINGS  
Package 24/105HostnameOS / ArchINSTALLBUILDCHECKBUILD BIN
crupR 1.2.0  (landing page)
Persia Akbari Omgba
git_last_commit: 01667b7
git_last_commit_date: 2025-10-29 11:36:29 -0500
nebbiolo2Linux (Ubuntu 24.04.3 LTS) / x86_64  OK    OK    OK  UNNEEDED, same version is already published
taishanLinux (openEuler 24.03 LTS) / aarch64  OK    OK    OK  
Package 25/105HostnameOS / ArchINSTALLBUILDCHECKBUILD BIN
CSSQ 1.22.0  (landing page)
Fan Lab at Georgia Institute of Technology
git_last_commit: 8bbe42d
git_last_commit_date: 2025-10-29 10:56:02 -0500
nebbiolo2Linux (Ubuntu 24.04.3 LTS) / x86_64  OK    OK    OK  UNNEEDED, same version is already published
taishanLinux (openEuler 24.03 LTS) / aarch64  OK    OK    OK  
Package 26/105HostnameOS / ArchINSTALLBUILDCHECKBUILD BIN
customProDB 1.50.0  (landing page)
Xiaojing Wang
git_last_commit: e4b2f17
git_last_commit_date: 2025-10-29 10:15:09 -0500
nebbiolo2Linux (Ubuntu 24.04.3 LTS) / x86_64  OK    OK    ERROR  
taishanLinux (openEuler 24.03 LTS) / aarch64  OK    OK    ERROR  
Package 27/105HostnameOS / ArchINSTALLBUILDCHECKBUILD BIN
DAMEfinder 1.22.0  (landing page)
Stephany Orjuela
git_last_commit: a1490db
git_last_commit_date: 2025-10-29 10:56:31 -0500
nebbiolo2Linux (Ubuntu 24.04.3 LTS) / x86_64  OK    OK    OK  UNNEEDED, same version is already published
taishanLinux (openEuler 24.03 LTS) / aarch64  OK    OK    OK  
Package 28/105HostnameOS / ArchINSTALLBUILDCHECKBUILD BIN
DegNorm 1.20.0  (landing page)
Ji-Ping Wang
git_last_commit: cca8a9e
git_last_commit_date: 2025-10-29 10:59:52 -0500
nebbiolo2Linux (Ubuntu 24.04.3 LTS) / x86_64  OK    OK    OK  UNNEEDED, same version is already published
taishanLinux (openEuler 24.03 LTS) / aarch64  OK    OK    OK  
Package 29/105HostnameOS / ArchINSTALLBUILDCHECKBUILD BIN
derfinder 1.44.0  (landing page)
Leonardo Collado-Torres
git_last_commit: 7fd222b
git_last_commit_date: 2025-10-29 10:21:48 -0500
nebbiolo2Linux (Ubuntu 24.04.3 LTS) / x86_64  OK    OK    OK  UNNEEDED, same version is already published
taishanLinux (openEuler 24.03 LTS) / aarch64  OK    OK    OK  
Package 30/105HostnameOS / ArchINSTALLBUILDCHECKBUILD BIN
DEScan2 1.30.0  (landing page)
Dario Righelli
git_last_commit: 5e4b7c2
git_last_commit_date: 2025-10-29 10:43:47 -0500
nebbiolo2Linux (Ubuntu 24.04.3 LTS) / x86_64  OK    OK    OK  UNNEEDED, same version is already published
taishanLinux (openEuler 24.03 LTS) / aarch64  OK    OK    OK  
Package 31/105HostnameOS / ArchINSTALLBUILDCHECKBUILD BIN
DiffBind 3.20.0  (landing page)
Rory Stark
git_last_commit: fc696a0
git_last_commit_date: 2025-10-29 10:08:58 -0500
nebbiolo2Linux (Ubuntu 24.04.3 LTS) / x86_64  OK    OK    OK  UNNEEDED, same version is already published
taishanLinux (openEuler 24.03 LTS) / aarch64  OK    OK    OK  
Package 32/105HostnameOS / ArchINSTALLBUILDCHECKBUILD BIN
DMRcaller 1.42.0  (landing page)
Nicolae Radu Zabet
git_last_commit: ba466d4
git_last_commit_date: 2025-10-29 10:25:12 -0500
nebbiolo2Linux (Ubuntu 24.04.3 LTS) / x86_64  OK    OK    OK  UNNEEDED, same version is already published
taishanLinux (openEuler 24.03 LTS) / aarch64  OK    OK    OK  
Package 33/105HostnameOS / ArchINSTALLBUILDCHECKBUILD BIN
DNAfusion 1.12.0  (landing page)
Christoffer Trier Maansson
git_last_commit: 7226d68
git_last_commit_date: 2025-10-29 11:19:47 -0500
nebbiolo2Linux (Ubuntu 24.04.3 LTS) / x86_64  OK    OK    OK  UNNEEDED, same version is already published
taishanLinux (openEuler 24.03 LTS) / aarch64  OK    OK    OK  
Package 34/105HostnameOS / ArchINSTALLBUILDCHECKBUILD BIN
DuplexDiscovereR 1.4.0  (landing page)
Egor Semenchenko
git_last_commit: 38c4e52
git_last_commit_date: 2025-10-29 11:32:35 -0500
nebbiolo2Linux (Ubuntu 24.04.3 LTS) / x86_64  OK    OK    OK  UNNEEDED, same version is already published
taishanLinux (openEuler 24.03 LTS) / aarch64  OK    OK    OK  
Package 35/105HostnameOS / ArchINSTALLBUILDCHECKBUILD BIN
easyRNASeq 2.46.0  (landing page)
Nicolas Delhomme
git_last_commit: e268573
git_last_commit_date: 2025-10-29 10:10:00 -0500
nebbiolo2Linux (Ubuntu 24.04.3 LTS) / x86_64  OK    OK    WARNINGS  UNNEEDED, same version is already published
taishanLinux (openEuler 24.03 LTS) / aarch64  OK    OK    WARNINGS  
Package 36/105HostnameOS / ArchINSTALLBUILDCHECKBUILD BIN
esATAC 1.32.0  (landing page)
Zheng Wei
git_last_commit: 6d7ce39
git_last_commit_date: 2025-10-29 10:42:12 -0500
nebbiolo2Linux (Ubuntu 24.04.3 LTS) / x86_64  OK    OK    OK  UNNEEDED, same version is already published
taishanLinux (openEuler 24.03 LTS) / aarch64  OK    OK    OK  
Package 37/105HostnameOS / ArchINSTALLBUILDCHECKBUILD BIN
FLAMES 2.4.1  (landing page)
Changqing Wang
git_last_commit: 41bbd55
git_last_commit_date: 2025-10-31 01:50:56 -0500
nebbiolo2Linux (Ubuntu 24.04.3 LTS) / x86_64  OK    OK    OK  UNNEEDED, same version is already published
taishanLinux (openEuler 24.03 LTS) / aarch64  ERROR    ERROR  skipped
Package 38/105HostnameOS / ArchINSTALLBUILDCHECKBUILD BIN
FRASER 2.6.0  (landing page)
Christian Mertes
git_last_commit: b8faec2
git_last_commit_date: 2025-10-29 10:58:54 -0500
nebbiolo2Linux (Ubuntu 24.04.3 LTS) / x86_64  OK    OK    OK  UNNEEDED, same version is already published
taishanLinux (openEuler 24.03 LTS) / aarch64  OK    OK    OK  
Package 39/105HostnameOS / ArchINSTALLBUILDCHECKBUILD BIN
gcapc 1.34.0  (landing page)
Mingxiang Teng
git_last_commit: 689a02e
git_last_commit_date: 2025-10-29 10:35:52 -0500
nebbiolo2Linux (Ubuntu 24.04.3 LTS) / x86_64  OK    OK    OK  UNNEEDED, same version is already published
taishanLinux (openEuler 24.03 LTS) / aarch64  OK    OK    OK  
Package 40/105HostnameOS / ArchINSTALLBUILDCHECKBUILD BIN
gDNAx 1.8.0  (landing page)
Robert Castelo
git_last_commit: b09db45
git_last_commit_date: 2025-10-29 11:24:57 -0500
nebbiolo2Linux (Ubuntu 24.04.3 LTS) / x86_64  OK    ERROR  skipped
taishanLinux (openEuler 24.03 LTS) / aarch64  OK    OK    OK  
Package 41/105HostnameOS / ArchINSTALLBUILDCHECKBUILD BIN
genomation 1.42.0  (landing page)
Altuna Akalin , Vedran Franke
git_last_commit: 01d23ac
git_last_commit_date: 2025-10-29 10:23:07 -0500
nebbiolo2Linux (Ubuntu 24.04.3 LTS) / x86_64  OK    OK    WARNINGS  UNNEEDED, same version is already published
taishanLinux (openEuler 24.03 LTS) / aarch64  OK    OK    WARNINGS  
Package 42/105HostnameOS / ArchINSTALLBUILDCHECKBUILD BIN
GenomicFiles 1.46.0  (landing page)
Bioconductor Package Maintainer
git_last_commit: a7f3143
git_last_commit_date: 2025-10-29 10:19:18 -0500
nebbiolo2Linux (Ubuntu 24.04.3 LTS) / x86_64  OK    OK    OK  UNNEEDED, same version is already published
taishanLinux (openEuler 24.03 LTS) / aarch64  OK    OK    OK  
Package 43/105HostnameOS / ArchINSTALLBUILDCHECKBUILD BIN
GenomicPlot 1.8.0  (landing page)
Shuye Pu
git_last_commit: e9ce4a7
git_last_commit_date: 2025-10-29 11:24:51 -0500
nebbiolo2Linux (Ubuntu 24.04.3 LTS) / x86_64  OK    OK    OK  UNNEEDED, same version is already published
taishanLinux (openEuler 24.03 LTS) / aarch64  OK    OK    OK  
Package 44/105HostnameOS / ArchINSTALLBUILDCHECKBUILD BIN
ggbio 1.58.0  (landing page)
Michael Lawrence
git_last_commit: 678f10e
git_last_commit_date: 2025-10-29 10:09:27 -0500
nebbiolo2Linux (Ubuntu 24.04.3 LTS) / x86_64  OK    OK    WARNINGS  UNNEEDED, same version is already published
taishanLinux (openEuler 24.03 LTS) / aarch64  OK    OK    WARNINGS  
Package 45/105HostnameOS / ArchINSTALLBUILDCHECKBUILD BIN
gmapR 1.52.0  (landing page)
Michael Lawrence
git_last_commit: 10d6080
git_last_commit_date: 2025-10-29 10:11:34 -0500
nebbiolo2Linux (Ubuntu 24.04.3 LTS) / x86_64  OK    ERROR  skipped
taishanLinux (openEuler 24.03 LTS) / aarch64  OK    ERROR  skipped
Package 46/105HostnameOS / ArchINSTALLBUILDCHECKBUILD BIN
gmoviz 1.22.0  (landing page)
Kathleen Zeglinski
git_last_commit: 64c2454
git_last_commit_date: 2025-10-29 10:57:48 -0500
nebbiolo2Linux (Ubuntu 24.04.3 LTS) / x86_64  OK    OK    OK  UNNEEDED, same version is already published
taishanLinux (openEuler 24.03 LTS) / aarch64  OK    OK    OK  
Package 47/105HostnameOS / ArchINSTALLBUILDCHECKBUILD BIN
GreyListChIP 1.42.0  (landing page)
Matt Eldridge
git_last_commit: df5cbdf
git_last_commit_date: 2025-10-29 10:23:48 -0500
nebbiolo2Linux (Ubuntu 24.04.3 LTS) / x86_64  OK    OK    OK  UNNEEDED, same version is already published
taishanLinux (openEuler 24.03 LTS) / aarch64  OK    OK    OK  
Package 48/105HostnameOS / ArchINSTALLBUILDCHECKBUILD BIN
groHMM 1.44.0  (landing page)
Tulip Nandu
git_last_commit: 28ddd37
git_last_commit_date: 2025-10-29 10:22:29 -0500
nebbiolo2Linux (Ubuntu 24.04.3 LTS) / x86_64  OK    OK    WARNINGS  UNNEEDED, same version is already published
taishanLinux (openEuler 24.03 LTS) / aarch64  OK    OK    WARNINGS  
Package 49/105HostnameOS / ArchINSTALLBUILDCHECKBUILD BIN
GUIDEseq 1.40.0  (landing page)
Lihua Julie Zhu
git_last_commit: 45a0042
git_last_commit_date: 2025-10-29 10:28:16 -0500
nebbiolo2Linux (Ubuntu 24.04.3 LTS) / x86_64  OK    OK    OK  UNNEEDED, same version is already published
taishanLinux (openEuler 24.03 LTS) / aarch64  OK    OK    OK  
Package 50/105HostnameOS / ArchINSTALLBUILDCHECKBUILD BIN
Gviz 1.54.0  (landing page)
Robert Ivanek
git_last_commit: 05ebfa6
git_last_commit_date: 2025-10-29 10:10:17 -0500
nebbiolo2Linux (Ubuntu 24.04.3 LTS) / x86_64  OK    OK    OK  UNNEEDED, same version is already published
taishanLinux (openEuler 24.03 LTS) / aarch64  OK    OK    OK  
Package 51/105HostnameOS / ArchINSTALLBUILDCHECKBUILD BIN
HelloRanges 1.36.0  (landing page)
Michael Lawrence
git_last_commit: 8035909
git_last_commit_date: 2025-10-29 10:35:10 -0500
nebbiolo2Linux (Ubuntu 24.04.3 LTS) / x86_64  OK    OK    OK  UNNEEDED, same version is already published
taishanLinux (openEuler 24.03 LTS) / aarch64  OK    OK    OK  
Package 52/105HostnameOS / ArchINSTALLBUILDCHECKBUILD BIN
hiReadsProcessor 1.46.0  (landing page)
Nirav V Malani
git_last_commit: 8ccca6d
git_last_commit_date: 2025-10-29 10:21:04 -0500
nebbiolo2Linux (Ubuntu 24.04.3 LTS) / x86_64  OK    OK    ERROR  
taishanLinux (openEuler 24.03 LTS) / aarch64  OK    OK    ERROR  
Package 53/105HostnameOS / ArchINSTALLBUILDCHECKBUILD BIN
icetea 1.28.0  (landing page)
Vivek Bhardwaj
git_last_commit: f7f280d
git_last_commit_date: 2025-10-29 10:45:57 -0500
nebbiolo2Linux (Ubuntu 24.04.3 LTS) / x86_64  OK    OK    WARNINGS  UNNEEDED, same version is already published
taishanLinux (openEuler 24.03 LTS) / aarch64  OK    OK    WARNINGS  
Package 54/105HostnameOS / ArchINSTALLBUILDCHECKBUILD BIN
igvR 1.30.0  (landing page)
Arkadiusz Gladki
git_last_commit: a0c5ecf
git_last_commit_date: 2025-10-29 10:45:01 -0500
nebbiolo2Linux (Ubuntu 24.04.3 LTS) / x86_64  OK    OK    OK  UNNEEDED, same version is already published
taishanLinux (openEuler 24.03 LTS) / aarch64  OK    OK    OK  
Package 55/105HostnameOS / ArchINSTALLBUILDCHECKBUILD BIN
IMAS 1.34.0  (landing page)
Seonggyun Han
git_last_commit: ec268ac
git_last_commit_date: 2025-10-29 10:38:10 -0500
nebbiolo2Linux (Ubuntu 24.04.3 LTS) / x86_64  OK    ERROR  skipped
taishanLinux (openEuler 24.03 LTS) / aarch64  OK    ERROR  skipped
Package 56/105HostnameOS / ArchINSTALLBUILDCHECKBUILD BIN
INSPEcT 1.40.0  (landing page)
Stefano de Pretis
git_last_commit: c9f5ce1
git_last_commit_date: 2025-10-29 10:26:37 -0500
nebbiolo2Linux (Ubuntu 24.04.3 LTS) / x86_64  OK    OK    OK  UNNEEDED, same version is already published
taishanLinux (openEuler 24.03 LTS) / aarch64  OK    OK    OK  
Package 57/105HostnameOS / ArchINSTALLBUILDCHECKBUILD BIN
IntEREst 1.34.0  (landing page)
Ali Oghabian
git_last_commit: 8a4b0c3
git_last_commit_date: 2025-10-29 10:37:18 -0500
nebbiolo2Linux (Ubuntu 24.04.3 LTS) / x86_64  OK    OK    OK  UNNEEDED, same version is already published
taishanLinux (openEuler 24.03 LTS) / aarch64  OK    OK    OK  
Package 58/105HostnameOS / ArchINSTALLBUILDCHECKBUILD BIN
MADSEQ 1.36.0  (landing page)
Yu Kong
git_last_commit: 856530e
git_last_commit_date: 2025-10-29 10:32:36 -0500
nebbiolo2Linux (Ubuntu 24.04.3 LTS) / x86_64  ERROR    ERROR  skipped
taishanLinux (openEuler 24.03 LTS) / aarch64  ERROR    ERROR  skipped
Package 59/105HostnameOS / ArchINSTALLBUILDCHECKBUILD BIN
MDTS 1.30.0  (landing page)
Jack M.. Fu
git_last_commit: 2e2c502
git_last_commit_date: 2025-10-29 10:43:45 -0500
nebbiolo2Linux (Ubuntu 24.04.3 LTS) / x86_64  OK    OK    OK  UNNEEDED, same version is already published
taishanLinux (openEuler 24.03 LTS) / aarch64  OK    OK    OK  
Package 60/105HostnameOS / ArchINSTALLBUILDCHECKBUILD BIN
metagene2 1.26.0  (landing page)
Eric Fournier
git_last_commit: 6ab755a
git_last_commit_date: 2025-10-29 10:52:02 -0500
nebbiolo2Linux (Ubuntu 24.04.3 LTS) / x86_64  OK    OK    WARNINGS  UNNEEDED, same version is already published
taishanLinux (openEuler 24.03 LTS) / aarch64  OK    OK    WARNINGS  
Package 61/105HostnameOS / ArchINSTALLBUILDCHECKBUILD BIN
metaseqR2 1.22.0  (landing page)
Panagiotis Moulos
git_last_commit: e5e7809
git_last_commit_date: 2025-10-29 10:59:18 -0500
nebbiolo2Linux (Ubuntu 24.04.3 LTS) / x86_64  OK    ERROR  skipped
taishanLinux (openEuler 24.03 LTS) / aarch64  OK    OK    ERROR  
Package 62/105HostnameOS / ArchINSTALLBUILDCHECKBUILD BIN
methylPipe 1.44.0  (landing page)
Mattia Furlan
git_last_commit: ba28f43
git_last_commit_date: 2025-10-29 10:21:09 -0500
nebbiolo2Linux (Ubuntu 24.04.3 LTS) / x86_64  OK    OK    WARNINGS  UNNEEDED, same version is already published
taishanLinux (openEuler 24.03 LTS) / aarch64  OK    OK    WARNINGS  
Package 63/105HostnameOS / ArchINSTALLBUILDCHECKBUILD BIN
mosaics 2.48.0  (landing page)
Dongjun Chung
git_last_commit: 80f962c
git_last_commit_date: 2025-10-29 10:06:36 -0500
nebbiolo2Linux (Ubuntu 24.04.3 LTS) / x86_64  OK    OK    OK  UNNEEDED, same version is already published
taishanLinux (openEuler 24.03 LTS) / aarch64  OK    OK    OK  
Package 64/105HostnameOS / ArchINSTALLBUILDCHECKBUILD BIN
Motif2Site 1.14.0  (landing page)
Peyman Zarrineh
git_last_commit: ce0607c
git_last_commit_date: 2025-10-29 11:15:00 -0500
nebbiolo2Linux (Ubuntu 24.04.3 LTS) / x86_64  OK    OK    OK  UNNEEDED, same version is already published
taishanLinux (openEuler 24.03 LTS) / aarch64  OK    OK    OK  
Package 65/105HostnameOS / ArchINSTALLBUILDCHECKBUILD BIN
MotifPeeker 1.2.0  (landing page)
Hiranyamaya Dash
git_last_commit: aee3e06
git_last_commit_date: 2025-10-29 11:33:15 -0500
nebbiolo2Linux (Ubuntu 24.04.3 LTS) / x86_64  OK    OK    OK  UNNEEDED, same version is already published
taishanLinux (openEuler 24.03 LTS) / aarch64  OK    OK    TIMEOUT  
Package 66/105HostnameOS / ArchINSTALLBUILDCHECKBUILD BIN
msgbsR 1.34.0  (landing page)
Benjamin Mayne
git_last_commit: 1016b01
git_last_commit_date: 2025-10-29 10:38:42 -0500
nebbiolo2Linux (Ubuntu 24.04.3 LTS) / x86_64  OK    OK    OK  UNNEEDED, same version is already published
taishanLinux (openEuler 24.03 LTS) / aarch64  OK    OK    OK  
Package 67/105HostnameOS / ArchINSTALLBUILDCHECKBUILD BIN
NADfinder 1.34.0  (landing page)
Jianhong Ou
git_last_commit: 24bbc3f
git_last_commit_date: 2025-10-29 10:37:48 -0500
nebbiolo2Linux (Ubuntu 24.04.3 LTS) / x86_64  OK    OK    OK  UNNEEDED, same version is already published
taishanLinux (openEuler 24.03 LTS) / aarch64  OK    OK    OK  
Package 68/105HostnameOS / ArchINSTALLBUILDCHECKBUILD BIN
ORFik 1.30.0  (landing page)
Haakon Tjeldnes
git_last_commit: b860267
git_last_commit_date: 2025-10-29 10:45:22 -0500
nebbiolo2Linux (Ubuntu 24.04.3 LTS) / x86_64  OK    OK    ERROR  
taishanLinux (openEuler 24.03 LTS) / aarch64  OK    OK    OK  
Package 69/105HostnameOS / ArchINSTALLBUILDCHECKBUILD BIN
PICB 1.2.0  (landing page)
Franziska Ahrend
git_last_commit: b93bc74
git_last_commit_date: 2025-10-29 11:34:05 -0500
nebbiolo2Linux (Ubuntu 24.04.3 LTS) / x86_64  OK    OK    OK  UNNEEDED, same version is already published
taishanLinux (openEuler 24.03 LTS) / aarch64  OK    OK    OK  
Package 70/105HostnameOS / ArchINSTALLBUILDCHECKBUILD BIN
plyranges 1.30.0  (landing page)
Michael Love
git_last_commit: 6243859
git_last_commit_date: 2025-10-29 10:44:22 -0500
nebbiolo2Linux (Ubuntu 24.04.3 LTS) / x86_64  OK    OK    OK  UNNEEDED, same version is already published
taishanLinux (openEuler 24.03 LTS) / aarch64  OK    OK    OK  
Package 71/105HostnameOS / ArchINSTALLBUILDCHECKBUILD BIN
pram 1.26.0  (landing page)
Peng Liu
git_last_commit: 18e4eb0
git_last_commit_date: 2025-10-29 10:50:34 -0500
nebbiolo2Linux (Ubuntu 24.04.3 LTS) / x86_64  OK    OK    OK  UNNEEDED, same version is already published
taishanLinux (openEuler 24.03 LTS) / aarch64  OK    OK    OK  
Package 72/105HostnameOS / ArchINSTALLBUILDCHECKBUILD BIN
prebs 1.50.0  (landing page)
Karolis Uziela
git_last_commit: a3b9bf7
git_last_commit_date: 2025-10-29 10:14:39 -0500
nebbiolo2Linux (Ubuntu 24.04.3 LTS) / x86_64  OK    OK    OK  UNNEEDED, same version is already published
taishanLinux (openEuler 24.03 LTS) / aarch64  OK    OK    OK  
Package 73/105HostnameOS / ArchINSTALLBUILDCHECKBUILD BIN
proActiv 1.20.0  (landing page)
Joseph Lee
git_last_commit: 69c3302
git_last_commit_date: 2025-10-29 11:02:09 -0500
nebbiolo2Linux (Ubuntu 24.04.3 LTS) / x86_64  OK    OK    OK  UNNEEDED, same version is already published
taishanLinux (openEuler 24.03 LTS) / aarch64  OK    OK    OK  
Package 74/105HostnameOS / ArchINSTALLBUILDCHECKBUILD BIN
raer 1.8.0  (landing page)
Kent Riemondy
git_last_commit: 1e83c0c
git_last_commit_date: 2025-10-29 11:26:05 -0500
nebbiolo2Linux (Ubuntu 24.04.3 LTS) / x86_64  OK    OK    OK  UNNEEDED, same version is already published
taishanLinux (openEuler 24.03 LTS) / aarch64  OK    ERROR  skipped
Package 75/105HostnameOS / ArchINSTALLBUILDCHECKBUILD BIN
ramwas 1.34.0  (landing page)
Andrey A Shabalin
git_last_commit: aedf8f9
git_last_commit_date: 2025-10-29 10:36:00 -0500
nebbiolo2Linux (Ubuntu 24.04.3 LTS) / x86_64  OK    OK    OK  UNNEEDED, same version is already published
taishanLinux (openEuler 24.03 LTS) / aarch64  OK    OK    OK  
Package 76/105HostnameOS / ArchINSTALLBUILDCHECKBUILD BIN
recoup 1.38.0  (landing page)
Panagiotis Moulos
git_last_commit: 7728d2d
git_last_commit_date: 2025-10-29 10:31:02 -0500
nebbiolo2Linux (Ubuntu 24.04.3 LTS) / x86_64  OK    OK    OK  UNNEEDED, same version is already published
taishanLinux (openEuler 24.03 LTS) / aarch64  OK    OK    OK  
Package 77/105HostnameOS / ArchINSTALLBUILDCHECKBUILD BIN
Repitools 1.56.0  (landing page)
Mark Robinson
git_last_commit: e46521a
git_last_commit_date: 2025-10-29 10:08:02 -0500
nebbiolo2Linux (Ubuntu 24.04.3 LTS) / x86_64  ERROR    ERROR  skipped
taishanLinux (openEuler 24.03 LTS) / aarch64  OK    OK    ERROR  
Package 78/105HostnameOS / ArchINSTALLBUILDCHECKBUILD BIN
RiboDiPA 1.18.0  (landing page)
Ji-Ping Wang
git_last_commit: 44db22f
git_last_commit_date: 2025-10-29 11:05:49 -0500
nebbiolo2Linux (Ubuntu 24.04.3 LTS) / x86_64  OK    OK    OK  UNNEEDED, same version is already published
taishanLinux (openEuler 24.03 LTS) / aarch64  OK    OK    OK  
Package 79/105HostnameOS / ArchINSTALLBUILDCHECKBUILD BIN
RiboProfiling 1.40.0  (landing page)
A. Popa
git_last_commit: 43cc4ee
git_last_commit_date: 2025-10-29 10:28:21 -0500
nebbiolo2Linux (Ubuntu 24.04.3 LTS) / x86_64  OK    ERROR  skipped
taishanLinux (openEuler 24.03 LTS) / aarch64  OK    ERROR  skipped
Package 80/105HostnameOS / ArchINSTALLBUILDCHECKBUILD BIN
ribosomeProfilingQC 1.22.0  (landing page)
Jianhong Ou
git_last_commit: d8ce3bd
git_last_commit_date: 2025-10-29 10:57:03 -0500
nebbiolo2Linux (Ubuntu 24.04.3 LTS) / x86_64  OK    OK    OK  UNNEEDED, same version is already published
taishanLinux (openEuler 24.03 LTS) / aarch64  OK    OK    OK  
Package 81/105HostnameOS / ArchINSTALLBUILDCHECKBUILD BIN
RNAmodR 1.24.0  (landing page)
Felix G.M. Ernst
git_last_commit: 683b357
git_last_commit_date: 2025-10-29 10:52:38 -0500
nebbiolo2Linux (Ubuntu 24.04.3 LTS) / x86_64  OK    OK    OK  UNNEEDED, same version is already published
taishanLinux (openEuler 24.03 LTS) / aarch64  OK    OK    OK  
Package 82/105HostnameOS / ArchINSTALLBUILDCHECKBUILD BIN
roar 1.46.0  (landing page)
Elena Grassi
git_last_commit: bb81790
git_last_commit_date: 2025-10-29 10:17:36 -0500
nebbiolo2Linux (Ubuntu 24.04.3 LTS) / x86_64  OK    OK    OK  UNNEEDED, same version is already published
taishanLinux (openEuler 24.03 LTS) / aarch64  OK    OK    OK  
Package 83/105HostnameOS / ArchINSTALLBUILDCHECKBUILD BIN
Rqc 1.44.0  (landing page)
Welliton Souza
git_last_commit: e28c456
git_last_commit_date: 2025-10-29 10:22:46 -0500
nebbiolo2Linux (Ubuntu 24.04.3 LTS) / x86_64  OK    OK    OK  UNNEEDED, same version is already published
taishanLinux (openEuler 24.03 LTS) / aarch64  OK    OK    OK  
Package 84/105HostnameOS / ArchINSTALLBUILDCHECKBUILD BIN
rtracklayer 1.70.0  (landing page)
Michael Lawrence
git_last_commit: b6dc2ec
git_last_commit_date: 2025-10-29 10:00:29 -0500
nebbiolo2Linux (Ubuntu 24.04.3 LTS) / x86_64  OK    OK    WARNINGS  UNNEEDED, same version is already published
taishanLinux (openEuler 24.03 LTS) / aarch64  OK    OK    WARNINGS  
Package 85/105HostnameOS / ArchINSTALLBUILDCHECKBUILD BIN
saseR 1.6.0  (landing page)
Alexandre Segers
git_last_commit: 8ee3ecc
git_last_commit_date: 2025-10-29 11:27:12 -0500
nebbiolo2Linux (Ubuntu 24.04.3 LTS) / x86_64  OK    OK    WARNINGS  UNNEEDED, same version is already published
taishanLinux (openEuler 24.03 LTS) / aarch64  OK    OK    WARNINGS  
Package 86/105HostnameOS / ArchINSTALLBUILDCHECKBUILD BIN
scPipe 2.10.0  (landing page)
Shian Su
git_last_commit: c021029
git_last_commit_date: 2025-10-29 10:41:31 -0500
nebbiolo2Linux (Ubuntu 24.04.3 LTS) / x86_64  OK    OK    OK  UNNEEDED, same version is already published
taishanLinux (openEuler 24.03 LTS) / aarch64  OK    OK    OK  
Package 87/105HostnameOS / ArchINSTALLBUILDCHECKBUILD BIN
scruff 1.28.0  (landing page)
Zhe Wang
git_last_commit: 085152e
git_last_commit_date: 2025-10-29 10:46:27 -0500
nebbiolo2Linux (Ubuntu 24.04.3 LTS) / x86_64  OK    OK    OK  UNNEEDED, same version is already published
taishanLinux (openEuler 24.03 LTS) / aarch64  OK    OK    OK  
Package 88/105HostnameOS / ArchINSTALLBUILDCHECKBUILD BIN
seqsetvis 1.30.0  (landing page)
Joseph R Boyd
git_last_commit: 079b602
git_last_commit_date: 2025-10-29 10:44:19 -0500
nebbiolo2Linux (Ubuntu 24.04.3 LTS) / x86_64  OK    OK    OK  UNNEEDED, same version is already published
taishanLinux (openEuler 24.03 LTS) / aarch64  OK    OK    OK  
Package 89/105HostnameOS / ArchINSTALLBUILDCHECKBUILD BIN
SGSeq 1.44.0  (landing page)
Leonard Goldstein
git_last_commit: 2a90d1b
git_last_commit_date: 2025-10-29 10:22:27 -0500
nebbiolo2Linux (Ubuntu 24.04.3 LTS) / x86_64  OK    OK    OK  UNNEEDED, same version is already published
taishanLinux (openEuler 24.03 LTS) / aarch64  OK    OK    OK  
Package 90/105HostnameOS / ArchINSTALLBUILDCHECKBUILD BIN
ShortRead 1.68.0  (landing page)
Bioconductor Package Maintainer
git_last_commit: df90c87
git_last_commit_date: 2025-10-29 10:00:34 -0500
nebbiolo2Linux (Ubuntu 24.04.3 LTS) / x86_64  OK    OK    WARNINGS  UNNEEDED, same version is already published
taishanLinux (openEuler 24.03 LTS) / aarch64  OK    OK    ERROR  
Package 91/105HostnameOS / ArchINSTALLBUILDCHECKBUILD BIN
soGGi 1.42.0  (landing page)
Tom Carroll
git_last_commit: 857d021
git_last_commit_date: 2025-10-29 10:25:37 -0500
nebbiolo2Linux (Ubuntu 24.04.3 LTS) / x86_64  OK    OK    ERROR  
taishanLinux (openEuler 24.03 LTS) / aarch64  OK    OK    ERROR  
Package 92/105HostnameOS / ArchINSTALLBUILDCHECKBUILD BIN
spiky 1.16.0  (landing page)
Tim Triche
git_last_commit: e4c8b36
git_last_commit_date: 2025-10-29 11:10:11 -0500
nebbiolo2Linux (Ubuntu 24.04.3 LTS) / x86_64  OK    OK    OK  UNNEEDED, same version is already published
taishanLinux (openEuler 24.03 LTS) / aarch64  OK    OK    OK  
Package 93/105HostnameOS / ArchINSTALLBUILDCHECKBUILD BIN
SplicingGraphs 1.50.1  (landing page)
H. Pagès
git_last_commit: 02123b2
git_last_commit_date: 2025-11-02 12:50:45 -0500
nebbiolo2Linux (Ubuntu 24.04.3 LTS) / x86_64  OK    OK    WARNINGS  UNNEEDED, same version is already published
taishanLinux (openEuler 24.03 LTS) / aarch64  OK    OK    WARNINGS  
Package 94/105HostnameOS / ArchINSTALLBUILDCHECKBUILD BIN
SPLINTER 1.36.0  (landing page)
Diana Low
git_last_commit: 00c62ac
git_last_commit_date: 2025-10-29 10:34:37 -0500
nebbiolo2Linux (Ubuntu 24.04.3 LTS) / x86_64  OK    OK    OK  UNNEEDED, same version is already published
taishanLinux (openEuler 24.03 LTS) / aarch64  OK    ERROR  skipped
Package 95/105HostnameOS / ArchINSTALLBUILDCHECKBUILD BIN
srnadiff 1.30.0  (landing page)
Zytnicki Matthias
git_last_commit: 809d1c9
git_last_commit_date: 2025-10-29 10:43:01 -0500
nebbiolo2Linux (Ubuntu 24.04.3 LTS) / x86_64  OK    OK    WARNINGS  UNNEEDED, same version is already published
taishanLinux (openEuler 24.03 LTS) / aarch64  OK    OK    WARNINGS  
Package 96/105HostnameOS / ArchINSTALLBUILDCHECKBUILD BIN
strandCheckR 1.28.0  (landing page)
Thu-Hien To
git_last_commit: 01a9239
git_last_commit_date: 2025-10-29 10:46:35 -0500
nebbiolo2Linux (Ubuntu 24.04.3 LTS) / x86_64  OK    OK    OK  UNNEEDED, same version is already published
taishanLinux (openEuler 24.03 LTS) / aarch64  OK    OK    OK  
Package 97/105HostnameOS / ArchINSTALLBUILDCHECKBUILD BIN
TAPseq 1.22.0  (landing page)
Andreas R. Gschwind
git_last_commit: d0aad39
git_last_commit_date: 2025-10-29 10:57:19 -0500
nebbiolo2Linux (Ubuntu 24.04.3 LTS) / x86_64  OK    OK    WARNINGS  UNNEEDED, same version is already published
taishanLinux (openEuler 24.03 LTS) / aarch64  OK    OK    WARNINGS  
Package 98/105HostnameOS / ArchINSTALLBUILDCHECKBUILD BIN
TCseq 1.34.0  (landing page)
Mengjun Wu
git_last_commit: 406875c
git_last_commit_date: 2025-10-29 10:36:13 -0500
nebbiolo2Linux (Ubuntu 24.04.3 LTS) / x86_64  OK    OK    WARNINGS  UNNEEDED, same version is already published
taishanLinux (openEuler 24.03 LTS) / aarch64  OK    OK    WARNINGS  
Package 99/105HostnameOS / ArchINSTALLBUILDCHECKBUILD BIN
trackViewer 1.46.0  (landing page)
Jianhong Ou
git_last_commit: 7f9ba3a
git_last_commit_date: 2025-10-29 10:17:52 -0500
nebbiolo2Linux (Ubuntu 24.04.3 LTS) / x86_64  OK    OK    OK  UNNEEDED, same version is already published
taishanLinux (openEuler 24.03 LTS) / aarch64  OK    OK    OK  
Package 100/105HostnameOS / ArchINSTALLBUILDCHECKBUILD BIN
transcriptR 1.38.0  (landing page)
Armen R. Karapetyan
git_last_commit: 15da834
git_last_commit_date: 2025-10-29 10:29:09 -0500
nebbiolo2Linux (Ubuntu 24.04.3 LTS) / x86_64  OK    OK    ERROR  
taishanLinux (openEuler 24.03 LTS) / aarch64  OK    OK    ERROR  
Package 101/105HostnameOS / ArchINSTALLBUILDCHECKBUILD BIN
Ularcirc 1.28.0  (landing page)
David Humphreys
git_last_commit: e6f04b4
git_last_commit_date: 2025-10-29 10:45:47 -0500
nebbiolo2Linux (Ubuntu 24.04.3 LTS) / x86_64  OK    OK    WARNINGS  UNNEEDED, same version is already published
taishanLinux (openEuler 24.03 LTS) / aarch64  OK    OK    WARNINGS  
Package 102/105HostnameOS / ArchINSTALLBUILDCHECKBUILD BIN
UMI4Cats 1.20.0  (landing page)
Mireia Ramos-Rodriguez
git_last_commit: ddc6b2d
git_last_commit_date: 2025-10-29 11:01:19 -0500
nebbiolo2Linux (Ubuntu 24.04.3 LTS) / x86_64  OK    OK    OK  UNNEEDED, same version is already published
taishanLinux (openEuler 24.03 LTS) / aarch64  OK    OK    OK  
Package 103/105HostnameOS / ArchINSTALLBUILDCHECKBUILD BIN
VaSP 1.22.0  (landing page)
Huihui Yu
git_last_commit: 905a5ca
git_last_commit_date: 2025-10-29 10:57:01 -0500
nebbiolo2Linux (Ubuntu 24.04.3 LTS) / x86_64  OK    OK    OK  UNNEEDED, same version is already published
taishanLinux (openEuler 24.03 LTS) / aarch64  OK    OK    OK  
Package 104/105HostnameOS / ArchINSTALLBUILDCHECKBUILD BIN
VplotR 1.20.0  (landing page)
Jacques Serizay
git_last_commit: 33ae55c
git_last_commit_date: 2025-10-29 11:01:33 -0500
nebbiolo2Linux (Ubuntu 24.04.3 LTS) / x86_64  OK    OK    OK  UNNEEDED, same version is already published
taishanLinux (openEuler 24.03 LTS) / aarch64  OK    OK    OK  
Package 105/105HostnameOS / ArchINSTALLBUILDCHECKBUILD BIN
ZygosityPredictor 1.10.0  (landing page)
Marco Rheinnecker
git_last_commit: 52dc6d0
git_last_commit_date: 2025-10-29 11:22:08 -0500
nebbiolo2Linux (Ubuntu 24.04.3 LTS) / x86_64  OK    OK    OK  UNNEEDED, same version is already published
taishanLinux (openEuler 24.03 LTS) / aarch64  OK    OK    OK