| Back to Multiple platform build/check report for BioC 3.21: simplified long |
|
This page was generated on 2025-10-16 11:39 -0400 (Thu, 16 Oct 2025).
| Hostname | OS | Arch (*) | R version | Installed pkgs |
|---|---|---|---|---|
| nebbiolo1 | Linux (Ubuntu 24.04.3 LTS) | x86_64 | 4.5.1 (2025-06-13) -- "Great Square Root" | 4833 |
| merida1 | macOS 12.7.6 Monterey | x86_64 | 4.5.1 RC (2025-06-05 r88288) -- "Great Square Root" | 4614 |
| kjohnson1 | macOS 13.7.5 Ventura | arm64 | 4.5.1 Patched (2025-06-14 r88325) -- "Great Square Root" | 4555 |
| kunpeng2 | Linux (openEuler 24.03 LTS) | aarch64 | R Under development (unstable) (2025-02-19 r87757) -- "Unsuffered Consequences" | 4586 |
| Click on any hostname to see more info about the system (e.g. compilers) (*) as reported by 'uname -p', except on Windows and Mac OS X | ||||
| Package 830/2341 | Hostname | OS / Arch | INSTALL | BUILD | CHECK | BUILD BIN | ||||||||
| GenomAutomorphism 1.10.0 (landing page) Robersy Sanchez
| nebbiolo1 | Linux (Ubuntu 24.04.3 LTS) / x86_64 | OK | OK | OK | |||||||||
| merida1 | macOS 12.7.6 Monterey / x86_64 | OK | OK | OK | OK | |||||||||
| kjohnson1 | macOS 13.7.5 Ventura / arm64 | OK | OK | OK | OK | |||||||||
| kunpeng2 | Linux (openEuler 24.03 LTS) / aarch64 | OK | OK | OK | ||||||||||
|
To the developers/maintainers of the GenomAutomorphism package: - Allow up to 24 hours (and sometimes 48 hours) for your latest push to git@git.bioconductor.org:packages/GenomAutomorphism.git to reflect on this report. See Troubleshooting Build Report for more information. - Use the following Renviron settings to reproduce errors and warnings. - If 'R CMD check' started to fail recently on the Linux builder(s) over a missing dependency, add the missing dependency to 'Suggests:' in your DESCRIPTION file. See Renviron.bioc for more information. |
| Package: GenomAutomorphism |
| Version: 1.10.0 |
| Command: /Library/Frameworks/R.framework/Resources/bin/R CMD check --install=check:GenomAutomorphism.install-out.txt --library=/Library/Frameworks/R.framework/Resources/library --no-vignettes --timings GenomAutomorphism_1.10.0.tar.gz |
| StartedAt: 2025-10-14 04:15:47 -0400 (Tue, 14 Oct 2025) |
| EndedAt: 2025-10-14 04:28:49 -0400 (Tue, 14 Oct 2025) |
| EllapsedTime: 782.3 seconds |
| RetCode: 0 |
| Status: OK |
| CheckDir: GenomAutomorphism.Rcheck |
| Warnings: 0 |
##############################################################################
##############################################################################
###
### Running command:
###
### /Library/Frameworks/R.framework/Resources/bin/R CMD check --install=check:GenomAutomorphism.install-out.txt --library=/Library/Frameworks/R.framework/Resources/library --no-vignettes --timings GenomAutomorphism_1.10.0.tar.gz
###
##############################################################################
##############################################################################
* using log directory ‘/Users/biocbuild/bbs-3.21-bioc/meat/GenomAutomorphism.Rcheck’
* using R version 4.5.1 RC (2025-06-05 r88288)
* using platform: x86_64-apple-darwin20
* R was compiled by
Apple clang version 14.0.0 (clang-1400.0.29.202)
GNU Fortran (GCC) 14.2.0
* running under: macOS Monterey 12.7.6
* using session charset: UTF-8
* using option ‘--no-vignettes’
* checking for file ‘GenomAutomorphism/DESCRIPTION’ ... OK
* this is package ‘GenomAutomorphism’ version ‘1.10.0’
* package encoding: UTF-8
* checking package namespace information ... OK
* checking package dependencies ... OK
* checking if this is a source package ... OK
* checking if there is a namespace ... OK
* checking for hidden files and directories ... OK
* checking for portable file names ... OK
* checking for sufficient/correct file permissions ... OK
* checking whether package ‘GenomAutomorphism’ can be installed ... OK
* checking installed package size ... OK
* checking package directory ... OK
* checking ‘build’ directory ... OK
* checking DESCRIPTION meta-information ... OK
* checking top-level files ... OK
* checking for left-over files ... OK
* checking index information ... OK
* checking package subdirectories ... OK
* checking code files for non-ASCII characters ... OK
* checking R files for syntax errors ... OK
* checking whether the package can be loaded ... OK
* checking whether the package can be loaded with stated dependencies ... OK
* checking whether the package can be unloaded cleanly ... OK
* checking whether the namespace can be loaded with stated dependencies ... OK
* checking whether the namespace can be unloaded cleanly ... OK
* checking dependencies in R code ... OK
* checking S3 generic/method consistency ... OK
* checking replacement functions ... OK
* checking foreign function calls ... OK
* checking R code for possible problems ... OK
* checking Rd files ... OK
* checking Rd metadata ... OK
* checking Rd cross-references ... NOTE
Non-topic package-anchored link(s) in Rd file 'reexports.Rd':
‘[S4Vectors:S4Vectors-internals]{setValidity2}’
See section 'Cross-references' in the 'Writing R Extensions' manual.
* checking for missing documentation entries ... OK
* checking for code/documentation mismatches ... OK
* checking Rd \usage sections ... OK
* checking Rd contents ... OK
* checking for unstated dependencies in examples ... OK
* checking contents of ‘data’ directory ... OK
* checking data for non-ASCII characters ... OK
* checking data for ASCII and uncompressed saves ... OK
* checking files in ‘vignettes’ ... OK
* checking examples ... OK
Examples with CPU (user + system) or elapsed time > 5s
user system elapsed
automorphisms 7.840 0.238 119.098
aminoacid_dist 4.405 1.273 18.696
AutomorphismList 5.493 0.116 5.845
autZ64 2.826 0.077 40.437
aut3D 2.460 0.184 39.121
autZ125 2.418 0.071 31.175
autZ5 1.823 0.074 38.791
codon_dist_matrix 0.077 0.016 14.286
* checking for unstated dependencies in ‘tests’ ... OK
* checking tests ...
Running ‘spelling.R’
Running ‘testthat.R’
OK
* checking for unstated dependencies in vignettes ... OK
* checking package vignettes ... OK
* checking running R code from vignettes ... SKIPPED
* checking re-building of vignette outputs ... SKIPPED
* checking PDF version of manual ... OK
* DONE
Status: 1 NOTE
See
‘/Users/biocbuild/bbs-3.21-bioc/meat/GenomAutomorphism.Rcheck/00check.log’
for details.
GenomAutomorphism.Rcheck/00install.out
############################################################################## ############################################################################## ### ### Running command: ### ### /Library/Frameworks/R.framework/Resources/bin/R CMD INSTALL GenomAutomorphism ### ############################################################################## ############################################################################## * installing to library ‘/Library/Frameworks/R.framework/Versions/4.5-x86_64/Resources/library’ * installing *source* package ‘GenomAutomorphism’ ... ** this is package ‘GenomAutomorphism’ version ‘1.10.0’ ** using staged installation ** R ** data ** inst ** byte-compile and prepare package for lazy loading ** help *** installing help indices *** copying figures ** building package indices ** installing vignettes ** testing if installed package can be loaded from temporary location ** testing if installed package can be loaded from final location ** testing if installed package keeps a record of temporary installation path * DONE (GenomAutomorphism)
GenomAutomorphism.Rcheck/tests/spelling.Rout
R version 4.5.1 RC (2025-06-05 r88288) -- "Great Square Root"
Copyright (C) 2025 The R Foundation for Statistical Computing
Platform: x86_64-apple-darwin20
R is free software and comes with ABSOLUTELY NO WARRANTY.
You are welcome to redistribute it under certain conditions.
Type 'license()' or 'licence()' for distribution details.
R is a collaborative project with many contributors.
Type 'contributors()' for more information and
'citation()' on how to cite R or R packages in publications.
Type 'demo()' for some demos, 'help()' for on-line help, or
'help.start()' for an HTML browser interface to help.
Type 'q()' to quit R.
> if (requireNamespace("spelling", quietly = TRUE)) {
+ spelling::spell_check_test(
+ vignettes = TRUE, error = FALSE,
+ skip_on_cran = TRUE
+ )
+ }
All Done!
>
> proc.time()
user system elapsed
0.349 0.132 0.485
GenomAutomorphism.Rcheck/tests/testthat.Rout
R version 4.5.1 RC (2025-06-05 r88288) -- "Great Square Root"
Copyright (C) 2025 The R Foundation for Statistical Computing
Platform: x86_64-apple-darwin20
R is free software and comes with ABSOLUTELY NO WARRANTY.
You are welcome to redistribute it under certain conditions.
Type 'license()' or 'licence()' for distribution details.
R is a collaborative project with many contributors.
Type 'contributors()' for more information and
'citation()' on how to cite R or R packages in publications.
Type 'demo()' for some demos, 'help()' for on-line help, or
'help.start()' for an HTML browser interface to help.
Type 'q()' to quit R.
> library(testthat)
> library(GenomAutomorphism)
>
> test_check("GenomAutomorphism")
[ FAIL 0 | WARN 0 | SKIP 0 | PASS 34 ]
>
> proc.time()
user system elapsed
36.748 2.090 139.218
GenomAutomorphism.Rcheck/GenomAutomorphism-Ex.timings
| name | user | system | elapsed | |
| AutomorphismByCoef | 1.058 | 0.035 | 1.229 | |
| AutomorphismList | 5.493 | 0.116 | 5.845 | |
| CodonMatrix | 0.377 | 0.006 | 0.397 | |
| CodonSeq | 0.894 | 0.023 | 0.959 | |
| GRangesMatrixSeq | 0.411 | 0.027 | 0.454 | |
| ListCodonMatrix | 0.525 | 0.007 | 0.558 | |
| MatrixSeq | 0.220 | 0.026 | 0.252 | |
| aa_phychem_index | 0.166 | 0.054 | 0.230 | |
| aaindex1 | 0.057 | 0.013 | 0.074 | |
| aaindex2 | 0.024 | 0.012 | 0.039 | |
| aaindex3 | 0.017 | 0.013 | 0.032 | |
| aln | 0.145 | 0.006 | 0.153 | |
| aminoacid_dist | 4.405 | 1.273 | 18.696 | |
| as.AutomorphismList | 1.405 | 0.094 | 1.552 | |
| aut3D | 2.460 | 0.184 | 39.121 | |
| autZ125 | 2.418 | 0.071 | 31.175 | |
| autZ5 | 1.823 | 0.074 | 38.791 | |
| autZ64 | 2.826 | 0.077 | 40.437 | |
| autby_coef | 0.760 | 0.031 | 0.811 | |
| autm | 0.150 | 0.011 | 0.166 | |
| autm_3d | 0.224 | 0.009 | 0.241 | |
| autm_z125 | 0.192 | 0.016 | 0.217 | |
| automorphismByRanges | 0.285 | 0.017 | 0.315 | |
| automorphism_bycoef | 0.242 | 0.009 | 0.256 | |
| automorphism_prob | 1.917 | 0.069 | 2.049 | |
| automorphisms | 7.840 | 0.238 | 119.098 | |
| base2codon | 0.116 | 0.009 | 0.662 | |
| base2int | 0.019 | 0.006 | 0.045 | |
| base_methods | 0.926 | 0.100 | 1.524 | |
| brca1_aln | 0.146 | 0.021 | 0.470 | |
| brca1_aln2 | 0.132 | 0.017 | 0.207 | |
| brca1_autm | 0.864 | 0.046 | 1.573 | |
| cdm_z64 | 0.549 | 1.548 | 2.991 | |
| codon_coord | 1.260 | 0.040 | 1.377 | |
| codon_dist | 0.676 | 0.017 | 0.736 | |
| codon_dist_matrix | 0.077 | 0.016 | 14.286 | |
| codon_matrix | 1.406 | 0.056 | 1.576 | |
| conserved_regions | 0.966 | 0.021 | 1.111 | |
| covid_aln | 0.148 | 0.008 | 0.174 | |
| covid_autm | 0.176 | 0.009 | 0.201 | |
| cyc_aln | 0.218 | 0.009 | 0.248 | |
| cyc_autm | 0.322 | 0.009 | 0.365 | |
| dna_phyche | 0.010 | 0.007 | 0.018 | |
| dna_phychem | 0.006 | 0.001 | 0.008 | |
| extract-methods | 1.225 | 0.026 | 1.306 | |
| getAutomorphisms | 0.424 | 0.013 | 0.439 | |
| get_coord | 0.830 | 0.018 | 0.865 | |
| get_mutscore | 0.355 | 0.048 | 0.412 | |
| matrices | 0.767 | 0.015 | 0.786 | |
| mod | 0.004 | 0.003 | 0.007 | |
| modeq | 0.002 | 0.001 | 0.002 | |
| modlineq | 0.005 | 0.005 | 0.010 | |
| mut_type | 0.004 | 0.001 | 0.005 | |
| peptide_phychem_index | 0.196 | 0.049 | 0.249 | |
| reexports | 0.234 | 0.012 | 0.252 | |
| seqranges | 0.868 | 0.014 | 0.888 | |
| slapply | 0.004 | 0.002 | 0.006 | |
| sortByChromAndStart | 0.140 | 0.001 | 0.142 | |
| str2chr | 0.001 | 0.001 | 0.002 | |
| str2dig | 0.000 | 0.002 | 0.002 | |
| translation | 1.075 | 0.018 | 1.147 | |