| Back to Multiple platform build/check report for BioC 3.21: simplified long |
|
This page was generated on 2025-04-22 13:16 -0400 (Tue, 22 Apr 2025).
| Hostname | OS | Arch (*) | R version | Installed pkgs |
|---|---|---|---|---|
| nebbiolo1 | Linux (Ubuntu 24.04.1 LTS) | x86_64 | 4.5.0 RC (2025-04-04 r88126) -- "How About a Twenty-Six" | 4831 |
| palomino7 | Windows Server 2022 Datacenter | x64 | 4.5.0 RC (2025-04-04 r88126 ucrt) -- "How About a Twenty-Six" | 4573 |
| lconway | macOS 12.7.1 Monterey | x86_64 | 4.5.0 RC (2025-04-04 r88126) -- "How About a Twenty-Six" | 4599 |
| kjohnson3 | macOS 13.7.1 Ventura | arm64 | 4.5.0 RC (2025-04-04 r88126) -- "How About a Twenty-Six" | 4553 |
| kunpeng2 | Linux (openEuler 24.03 LTS) | aarch64 | R Under development (unstable) (2025-02-19 r87757) -- "Unsuffered Consequences" | 4570 |
| Click on any hostname to see more info about the system (e.g. compilers) (*) as reported by 'uname -p', except on Windows and Mac OS X | ||||
| Package 830/2341 | Hostname | OS / Arch | INSTALL | BUILD | CHECK | BUILD BIN | ||||||||
| GenomAutomorphism 1.10.0 (landing page) Robersy Sanchez
| nebbiolo1 | Linux (Ubuntu 24.04.1 LTS) / x86_64 | OK | OK | OK | |||||||||
| palomino7 | Windows Server 2022 Datacenter / x64 | OK | OK | OK | OK | |||||||||
| lconway | macOS 12.7.1 Monterey / x86_64 | OK | OK | OK | OK | |||||||||
| kjohnson3 | macOS 13.7.1 Ventura / arm64 | OK | OK | OK | OK | |||||||||
| kunpeng2 | Linux (openEuler 24.03 LTS) / aarch64 | OK | OK | OK | ||||||||||
|
To the developers/maintainers of the GenomAutomorphism package: - Allow up to 24 hours (and sometimes 48 hours) for your latest push to git@git.bioconductor.org:packages/GenomAutomorphism.git to reflect on this report. See Troubleshooting Build Report for more information. - Use the following Renviron settings to reproduce errors and warnings. - If 'R CMD check' started to fail recently on the Linux builder(s) over a missing dependency, add the missing dependency to 'Suggests:' in your DESCRIPTION file. See Renviron.bioc for more information. |
| Package: GenomAutomorphism |
| Version: 1.10.0 |
| Command: /Library/Frameworks/R.framework/Resources/bin/R CMD check --install=check:GenomAutomorphism.install-out.txt --library=/Library/Frameworks/R.framework/Resources/library --no-vignettes --timings GenomAutomorphism_1.10.0.tar.gz |
| StartedAt: 2025-04-21 20:54:28 -0400 (Mon, 21 Apr 2025) |
| EndedAt: 2025-04-21 21:01:17 -0400 (Mon, 21 Apr 2025) |
| EllapsedTime: 408.3 seconds |
| RetCode: 0 |
| Status: OK |
| CheckDir: GenomAutomorphism.Rcheck |
| Warnings: 0 |
##############################################################################
##############################################################################
###
### Running command:
###
### /Library/Frameworks/R.framework/Resources/bin/R CMD check --install=check:GenomAutomorphism.install-out.txt --library=/Library/Frameworks/R.framework/Resources/library --no-vignettes --timings GenomAutomorphism_1.10.0.tar.gz
###
##############################################################################
##############################################################################
* using log directory ‘/Users/biocbuild/bbs-3.21-bioc/meat/GenomAutomorphism.Rcheck’
* using R version 4.5.0 RC (2025-04-04 r88126)
* using platform: x86_64-apple-darwin20
* R was compiled by
Apple clang version 14.0.0 (clang-1400.0.29.202)
GNU Fortran (GCC) 14.2.0
* running under: macOS Monterey 12.7.6
* using session charset: UTF-8
* using option ‘--no-vignettes’
* checking for file ‘GenomAutomorphism/DESCRIPTION’ ... OK
* this is package ‘GenomAutomorphism’ version ‘1.10.0’
* package encoding: UTF-8
* checking package namespace information ... OK
* checking package dependencies ... OK
* checking if this is a source package ... OK
* checking if there is a namespace ... OK
* checking for hidden files and directories ... OK
* checking for portable file names ... OK
* checking for sufficient/correct file permissions ... OK
* checking whether package ‘GenomAutomorphism’ can be installed ... OK
* checking installed package size ... OK
* checking package directory ... OK
* checking ‘build’ directory ... OK
* checking DESCRIPTION meta-information ... OK
* checking top-level files ... OK
* checking for left-over files ... OK
* checking index information ... OK
* checking package subdirectories ... OK
* checking code files for non-ASCII characters ... OK
* checking R files for syntax errors ... OK
* checking whether the package can be loaded ... OK
* checking whether the package can be loaded with stated dependencies ... OK
* checking whether the package can be unloaded cleanly ... OK
* checking whether the namespace can be loaded with stated dependencies ... OK
* checking whether the namespace can be unloaded cleanly ... OK
* checking dependencies in R code ... OK
* checking S3 generic/method consistency ... OK
* checking replacement functions ... OK
* checking foreign function calls ... OK
* checking R code for possible problems ... OK
* checking Rd files ... OK
* checking Rd metadata ... OK
* checking Rd cross-references ... NOTE
Non-topic package-anchored link(s) in Rd file 'reexports.Rd':
‘[S4Vectors:S4Vectors-internals]{setValidity2}’
See section 'Cross-references' in the 'Writing R Extensions' manual.
* checking for missing documentation entries ... OK
* checking for code/documentation mismatches ... OK
* checking Rd \usage sections ... OK
* checking Rd contents ... OK
* checking for unstated dependencies in examples ... OK
* checking contents of ‘data’ directory ... OK
* checking data for non-ASCII characters ... OK
* checking data for ASCII and uncompressed saves ... OK
* checking files in ‘vignettes’ ... OK
* checking examples ... OK
Examples with CPU (user + system) or elapsed time > 5s
user system elapsed
automorphisms 6.221 0.145 60.021
aminoacid_dist 3.200 0.828 10.663
autZ64 2.155 0.063 19.726
aut3D 1.881 0.114 20.075
autZ125 1.744 0.046 16.005
autZ5 1.378 0.053 19.336
codon_dist_matrix 0.041 0.010 6.992
* checking for unstated dependencies in ‘tests’ ... OK
* checking tests ...
Running ‘spelling.R’
Running ‘testthat.R’
OK
* checking for unstated dependencies in vignettes ... OK
* checking package vignettes ... OK
* checking running R code from vignettes ... SKIPPED
* checking re-building of vignette outputs ... SKIPPED
* checking PDF version of manual ... OK
* DONE
Status: 1 NOTE
See
‘/Users/biocbuild/bbs-3.21-bioc/meat/GenomAutomorphism.Rcheck/00check.log’
for details.
GenomAutomorphism.Rcheck/00install.out
############################################################################## ############################################################################## ### ### Running command: ### ### /Library/Frameworks/R.framework/Resources/bin/R CMD INSTALL GenomAutomorphism ### ############################################################################## ############################################################################## * installing to library ‘/Library/Frameworks/R.framework/Versions/4.5-x86_64/Resources/library’ * installing *source* package ‘GenomAutomorphism’ ... ** this is package ‘GenomAutomorphism’ version ‘1.10.0’ ** using staged installation ** R ** data ** inst ** byte-compile and prepare package for lazy loading ** help *** installing help indices *** copying figures ** building package indices ** installing vignettes ** testing if installed package can be loaded from temporary location ** testing if installed package can be loaded from final location ** testing if installed package keeps a record of temporary installation path * DONE (GenomAutomorphism)
GenomAutomorphism.Rcheck/tests/spelling.Rout
R version 4.5.0 RC (2025-04-04 r88126) -- "How About a Twenty-Six"
Copyright (C) 2025 The R Foundation for Statistical Computing
Platform: x86_64-apple-darwin20
R is free software and comes with ABSOLUTELY NO WARRANTY.
You are welcome to redistribute it under certain conditions.
Type 'license()' or 'licence()' for distribution details.
R is a collaborative project with many contributors.
Type 'contributors()' for more information and
'citation()' on how to cite R or R packages in publications.
Type 'demo()' for some demos, 'help()' for on-line help, or
'help.start()' for an HTML browser interface to help.
Type 'q()' to quit R.
> if (requireNamespace("spelling", quietly = TRUE)) {
+ spelling::spell_check_test(
+ vignettes = TRUE, error = FALSE,
+ skip_on_cran = TRUE
+ )
+ }
NULL
>
> proc.time()
user system elapsed
0.210 0.074 0.289
GenomAutomorphism.Rcheck/tests/testthat.Rout
R version 4.5.0 RC (2025-04-04 r88126) -- "How About a Twenty-Six"
Copyright (C) 2025 The R Foundation for Statistical Computing
Platform: x86_64-apple-darwin20
R is free software and comes with ABSOLUTELY NO WARRANTY.
You are welcome to redistribute it under certain conditions.
Type 'license()' or 'licence()' for distribution details.
R is a collaborative project with many contributors.
Type 'contributors()' for more information and
'citation()' on how to cite R or R packages in publications.
Type 'demo()' for some demos, 'help()' for on-line help, or
'help.start()' for an HTML browser interface to help.
Type 'q()' to quit R.
> library(testthat)
> library(GenomAutomorphism)
>
> test_check("GenomAutomorphism")
[ FAIL 0 | WARN 0 | SKIP 0 | PASS 34 ]
>
> proc.time()
user system elapsed
24.056 1.106 73.866
GenomAutomorphism.Rcheck/GenomAutomorphism-Ex.timings
| name | user | system | elapsed | |
| AutomorphismByCoef | 0.479 | 0.013 | 0.494 | |
| AutomorphismList | 2.670 | 0.052 | 2.747 | |
| CodonMatrix | 0.191 | 0.003 | 0.195 | |
| CodonSeq | 0.462 | 0.014 | 0.481 | |
| GRangesMatrixSeq | 0.203 | 0.005 | 0.210 | |
| ListCodonMatrix | 0.220 | 0.003 | 0.225 | |
| MatrixSeq | 0.119 | 0.007 | 0.128 | |
| aa_phychem_index | 0.096 | 0.012 | 0.108 | |
| aaindex1 | 0.031 | 0.002 | 0.033 | |
| aaindex2 | 0.015 | 0.002 | 0.018 | |
| aaindex3 | 0.008 | 0.002 | 0.010 | |
| aln | 0.106 | 0.004 | 0.111 | |
| aminoacid_dist | 3.200 | 0.828 | 10.663 | |
| as.AutomorphismList | 0.651 | 0.042 | 0.701 | |
| aut3D | 1.881 | 0.114 | 20.075 | |
| autZ125 | 1.744 | 0.046 | 16.005 | |
| autZ5 | 1.378 | 0.053 | 19.336 | |
| autZ64 | 2.155 | 0.063 | 19.726 | |
| autby_coef | 0.328 | 0.006 | 0.338 | |
| autm | 0.084 | 0.008 | 0.093 | |
| autm_3d | 0.148 | 0.009 | 0.157 | |
| autm_z125 | 0.119 | 0.008 | 0.128 | |
| automorphismByRanges | 0.163 | 0.009 | 0.174 | |
| automorphism_bycoef | 0.123 | 0.006 | 0.129 | |
| automorphism_prob | 1.024 | 0.023 | 1.056 | |
| automorphisms | 6.221 | 0.145 | 60.021 | |
| base2codon | 0.092 | 0.010 | 0.107 | |
| base2int | 0.006 | 0.002 | 0.007 | |
| base_methods | 0.488 | 0.029 | 0.527 | |
| brca1_aln | 0.067 | 0.007 | 0.076 | |
| brca1_aln2 | 0.064 | 0.007 | 0.072 | |
| brca1_autm | 0.450 | 0.009 | 0.463 | |
| cdm_z64 | 0.197 | 0.417 | 0.618 | |
| codon_coord | 0.941 | 0.013 | 0.959 | |
| codon_dist | 0.340 | 0.012 | 0.363 | |
| codon_dist_matrix | 0.041 | 0.010 | 6.992 | |
| codon_matrix | 0.633 | 0.017 | 0.655 | |
| conserved_regions | 0.494 | 0.010 | 0.509 | |
| covid_aln | 0.108 | 0.004 | 0.113 | |
| covid_autm | 0.114 | 0.006 | 0.123 | |
| cyc_aln | 0.137 | 0.006 | 0.142 | |
| cyc_autm | 0.222 | 0.006 | 0.229 | |
| dna_phyche | 0.006 | 0.001 | 0.008 | |
| dna_phychem | 0.003 | 0.000 | 0.004 | |
| extract-methods | 0.528 | 0.008 | 0.540 | |
| getAutomorphisms | 0.207 | 0.008 | 0.216 | |
| get_coord | 0.563 | 0.008 | 0.574 | |
| get_mutscore | 0.175 | 0.007 | 0.183 | |
| matrices | 0.574 | 0.011 | 0.588 | |
| mod | 0.002 | 0.000 | 0.003 | |
| modeq | 0.001 | 0.000 | 0.001 | |
| modlineq | 0.003 | 0.001 | 0.004 | |
| mut_type | 0.002 | 0.000 | 0.002 | |
| peptide_phychem_index | 0.113 | 0.008 | 0.121 | |
| reexports | 0.144 | 0.007 | 0.152 | |
| seqranges | 0.615 | 0.008 | 0.626 | |
| slapply | 0.002 | 0.001 | 0.002 | |
| sortByChromAndStart | 0.067 | 0.000 | 0.069 | |
| str2chr | 0 | 0 | 0 | |
| str2dig | 0.000 | 0.000 | 0.001 | |
| translation | 0.891 | 0.012 | 0.910 | |