| Back to Build/check report for BioC 3.22: simplified long |
|
This page was generated on 2025-11-13 11:55 -0500 (Thu, 13 Nov 2025).
| Hostname | OS | Arch (*) | R version | Installed pkgs |
|---|---|---|---|---|
| taishan | Linux (openEuler 24.03 LTS) | aarch64 | 4.5.0 (2025-04-11) -- "How About a Twenty-Six" | 4668 |
| Click on any hostname to see more info about the system (e.g. compilers) (*) as reported by 'uname -p', except on Windows and Mac OS X | ||||
| Package 815/2361 | Hostname | OS / Arch | INSTALL | BUILD | CHECK | BUILD BIN | ||||||||
| GeneBreak 1.40.0 (landing page) Evert van den Broek
| taishan | Linux (openEuler 24.03 LTS) / aarch64 | OK | OK | OK | |||||||||
|
To the developers/maintainers of the GeneBreak package: - Allow up to 24 hours (and sometimes 48 hours) for your latest push to git@git.bioconductor.org:packages/GeneBreak.git to reflect on this report. See Troubleshooting Build Report for more information. - Use the following Renviron settings to reproduce errors and warnings. - If 'R CMD check' started to fail recently on the Linux builder(s) over a missing dependency, add the missing dependency to 'Suggests:' in your DESCRIPTION file. See Renviron.bioc for more information. - See Martin Grigorov's blog post for how to debug Linux ARM64 related issues on a x86_64 host. |
| Package: GeneBreak |
| Version: 1.40.0 |
| Command: /home/biocbuild/R/R/bin/R CMD check --install=check:GeneBreak.install-out.txt --library=/home/biocbuild/R/R/site-library --no-vignettes --timings GeneBreak_1.40.0.tar.gz |
| StartedAt: 2025-11-11 09:58:45 -0000 (Tue, 11 Nov 2025) |
| EndedAt: 2025-11-11 10:01:53 -0000 (Tue, 11 Nov 2025) |
| EllapsedTime: 187.2 seconds |
| RetCode: 0 |
| Status: OK |
| CheckDir: GeneBreak.Rcheck |
| Warnings: 0 |
##############################################################################
##############################################################################
###
### Running command:
###
### /home/biocbuild/R/R/bin/R CMD check --install=check:GeneBreak.install-out.txt --library=/home/biocbuild/R/R/site-library --no-vignettes --timings GeneBreak_1.40.0.tar.gz
###
##############################################################################
##############################################################################
* using log directory ‘/home/biocbuild/bbs-3.22-bioc/meat/GeneBreak.Rcheck’
* using R version 4.5.0 (2025-04-11)
* using platform: aarch64-unknown-linux-gnu
* R was compiled by
aarch64-unknown-linux-gnu-gcc (GCC) 14.2.0
GNU Fortran (GCC) 14.2.0
* running under: openEuler 24.03 (LTS)
* using session charset: UTF-8
* using option ‘--no-vignettes’
* checking for file ‘GeneBreak/DESCRIPTION’ ... OK
* checking extension type ... Package
* this is package ‘GeneBreak’ version ‘1.40.0’
* checking package namespace information ... OK
* checking package dependencies ... OK
* checking if this is a source package ... OK
* checking if there is a namespace ... OK
* checking for hidden files and directories ... OK
* checking for portable file names ... OK
* checking for sufficient/correct file permissions ... OK
* checking whether package ‘GeneBreak’ can be installed ... OK
* checking installed package size ... OK
* checking package directory ... OK
* checking ‘build’ directory ... OK
* checking DESCRIPTION meta-information ... OK
* checking top-level files ... OK
* checking for left-over files ... OK
* checking index information ... OK
* checking package subdirectories ... OK
* checking code files for non-ASCII characters ... OK
* checking R files for syntax errors ... OK
* checking whether the package can be loaded ... OK
* checking whether the package can be loaded with stated dependencies ... OK
* checking whether the package can be unloaded cleanly ... OK
* checking whether the namespace can be loaded with stated dependencies ... OK
* checking whether the namespace can be unloaded cleanly ... OK
* checking loading without being on the library search path ... OK
* checking dependencies in R code ... OK
* checking S3 generic/method consistency ... OK
* checking replacement functions ... OK
* checking foreign function calls ... OK
* checking R code for possible problems ... NOTE
.glmbreak: no visible global function definition for ‘glm’
.glmbreak: no visible global function definition for ‘predict’
addGeneAnnotation,CopyNumberBreakPoints: no visible global function
definition for ‘head’
bpStats,CopyNumberBreakPoints: no visible global function definition
for ‘sd’
bpStats,CopyNumberBreakPoints: no visible global function definition
for ‘p.adjust’
Undefined global functions or variables:
glm head p.adjust predict sd
Consider adding
importFrom("stats", "glm", "p.adjust", "predict", "sd")
importFrom("utils", "head")
to your NAMESPACE file.
* checking Rd files ... OK
* checking Rd metadata ... OK
* checking Rd cross-references ... OK
* checking for missing documentation entries ... OK
* checking for code/documentation mismatches ... OK
* checking Rd \usage sections ... OK
* checking Rd contents ... OK
* checking for unstated dependencies in examples ... OK
* checking contents of ‘data’ directory ... OK
* checking data for non-ASCII characters ... OK
* checking data for ASCII and uncompressed saves ... OK
* checking files in ‘vignettes’ ... OK
* checking examples ... OK
Examples with CPU (user + system) or elapsed time > 5s
user system elapsed
CopyNumberBreakPointGenes-class 7.087 0.080 7.186
bpPlot-CopyNumberBreakPoints-method 6.299 0.008 6.322
bpStats-CopyNumberBreakPoints-method 6.239 0.012 6.266
recurrentGenes-CopyNumberBreakPointGenes-method 5.338 0.020 5.374
* checking for unstated dependencies in vignettes ... OK
* checking package vignettes ... OK
* checking running R code from vignettes ... SKIPPED
* checking re-building of vignette outputs ... SKIPPED
* checking PDF version of manual ... OK
* DONE
Status: 1 NOTE
See
‘/home/biocbuild/bbs-3.22-bioc/meat/GeneBreak.Rcheck/00check.log’
for details.
GeneBreak.Rcheck/00install.out
############################################################################## ############################################################################## ### ### Running command: ### ### /home/biocbuild/R/R/bin/R CMD INSTALL GeneBreak ### ############################################################################## ############################################################################## * installing to library ‘/home/biocbuild/R/R-4.5.0/site-library’ * installing *source* package ‘GeneBreak’ ... ** this is package ‘GeneBreak’ version ‘1.40.0’ ** using staged installation ** R ** data ** byte-compile and prepare package for lazy loading Creating a new generic function for ‘segmentData’ in package ‘GeneBreak’ ** help *** installing help indices ** building package indices ** installing vignettes ** testing if installed package can be loaded from temporary location ** testing if installed package can be loaded from final location ** testing if installed package keeps a record of temporary installation path * DONE (GeneBreak)
GeneBreak.Rcheck/GeneBreak-Ex.timings
| name | user | system | elapsed | |
| CopyNumberBreakPointGenes-class | 7.087 | 0.080 | 7.186 | |
| CopyNumberBreakPoints-class | 1.709 | 0.031 | 1.745 | |
| accessOptions-CopyNumberBreakPoints-method | 0.895 | 0.004 | 0.901 | |
| addGeneAnnotation-CopyNumberBreakPoints-method | 1.791 | 0.016 | 1.811 | |
| bpFilter-CopyNumberBreakPoints-method | 1.277 | 0.008 | 1.288 | |
| bpGenes-CopyNumberBreakPointGenes-method | 2.377 | 0.020 | 2.402 | |
| bpPlot-CopyNumberBreakPoints-method | 6.299 | 0.008 | 6.322 | |
| bpStats-CopyNumberBreakPoints-method | 6.239 | 0.012 | 6.266 | |
| breakpointData-CopyNumberBreakPoints-method | 1.031 | 0.100 | 1.134 | |
| breakpointsPerGene-CopyNumberBreakPointGenes-method | 2.502 | 0.080 | 2.588 | |
| callData-CopyNumberBreakPoints-method | 1.139 | 0.096 | 1.238 | |
| featureChromosomes-CopyNumberBreakPoints-method | 0.916 | 0.004 | 0.923 | |
| featureInfo-CopyNumberBreakPoints-method | 2.100 | 0.051 | 2.157 | |
| featuresPerGene-CopyNumberBreakPointGenes-method | 2.368 | 0.024 | 2.399 | |
| geneChromosomes-CopyNumberBreakPointGenes-method | 2.392 | 0.002 | 2.399 | |
| geneInfo-CopyNumberBreakPointGenes-method | 1.851 | 0.026 | 1.883 | |
| getBreakpoints | 2.062 | 0.020 | 2.087 | |
| namesFeatures-CopyNumberBreakPoints-method | 0.881 | 0.016 | 0.899 | |
| recurrentGenes-CopyNumberBreakPointGenes-method | 5.338 | 0.020 | 5.374 | |
| sampleNames-CopyNumberBreakPoints-method | 0.965 | 0.020 | 0.988 | |
| segmentData-CopyNumberBreakPoints-method | 1.095 | 0.100 | 1.198 | |