Back to Multiple platform build/check report for BioC 3.22:   simplified   long
ABCDEF[G]HIJKLMNOPQRSTUVWXYZ

This page was generated on 2025-11-24 12:05 -0500 (Mon, 24 Nov 2025).

HostnameOSArch (*)R versionInstalled pkgs
nebbiolo2Linux (Ubuntu 24.04.3 LTS)x86_644.5.2 (2025-10-31) -- "[Not] Part in a Rumble" 4873
merida1macOS 12.7.6 Montereyx86_644.5.2 Patched (2025-11-05 r88990) -- "[Not] Part in a Rumble" 4654
kjohnson1macOS 13.7.5 Venturaarm644.5.2 Patched (2025-11-04 r88984) -- "[Not] Part in a Rumble" 4600
taishanLinux (openEuler 24.03 LTS)aarch644.5.0 (2025-04-11) -- "How About a Twenty-Six" 4668
Click on any hostname to see more info about the system (e.g. compilers)      (*) as reported by 'uname -p', except on Windows and Mac OS X

Package 905/2361HostnameOS / ArchINSTALLBUILDCHECKBUILD BIN
GOexpress 1.44.0  (landing page)
Kevin Rue-Albrecht
Snapshot Date: 2025-11-20 15:01 -0500 (Thu, 20 Nov 2025)
git_url: https://git.bioconductor.org/packages/GOexpress
git_branch: RELEASE_3_22
git_last_commit: a785251
git_last_commit_date: 2025-10-29 10:21:33 -0500 (Wed, 29 Oct 2025)
nebbiolo2Linux (Ubuntu 24.04.3 LTS) / x86_64  OK    OK    OK  UNNEEDED, same version is already published
merida1macOS 12.7.6 Monterey / x86_64  OK    OK    OK    OK  UNNEEDED, same version is already published
kjohnson1macOS 13.7.5 Ventura / arm64  OK    OK    OK    OK  UNNEEDED, same version is already published
taishanLinux (openEuler 24.03 LTS) / aarch64  OK    OK    OK  


CHECK results for GOexpress on merida1

To the developers/maintainers of the GOexpress package:
- Allow up to 24 hours (and sometimes 48 hours) for your latest push to git@git.bioconductor.org:packages/GOexpress.git to reflect on this report. See Troubleshooting Build Report for more information.
- Use the following Renviron settings to reproduce errors and warnings.
- If 'R CMD check' started to fail recently on the Linux builder(s) over a missing dependency, add the missing dependency to 'Suggests:' in your DESCRIPTION file. See Renviron.bioc for more information.

raw results


Summary

Package: GOexpress
Version: 1.44.0
Command: /Library/Frameworks/R.framework/Resources/bin/R CMD check --install=check:GOexpress.install-out.txt --library=/Library/Frameworks/R.framework/Resources/library --no-vignettes --timings GOexpress_1.44.0.tar.gz
StartedAt: 2025-11-21 05:57:11 -0500 (Fri, 21 Nov 2025)
EndedAt: 2025-11-21 06:02:00 -0500 (Fri, 21 Nov 2025)
EllapsedTime: 289.6 seconds
RetCode: 0
Status:   OK  
CheckDir: GOexpress.Rcheck
Warnings: 0

Command output

##############################################################################
##############################################################################
###
### Running command:
###
###   /Library/Frameworks/R.framework/Resources/bin/R CMD check --install=check:GOexpress.install-out.txt --library=/Library/Frameworks/R.framework/Resources/library --no-vignettes --timings GOexpress_1.44.0.tar.gz
###
##############################################################################
##############################################################################


* using log directory ‘/Users/biocbuild/bbs-3.22-bioc/meat/GOexpress.Rcheck’
* using R version 4.5.2 Patched (2025-11-05 r88990)
* using platform: x86_64-apple-darwin20
* R was compiled by
    Apple clang version 14.0.0 (clang-1400.0.29.202)
    GNU Fortran (GCC) 14.2.0
* running under: macOS Monterey 12.7.6
* using session charset: UTF-8
* using option ‘--no-vignettes’
* checking for file ‘GOexpress/DESCRIPTION’ ... OK
* this is package ‘GOexpress’ version ‘1.44.0’
* checking package namespace information ... OK
* checking package dependencies ... OK
* checking if this is a source package ... OK
* checking if there is a namespace ... OK
* checking for hidden files and directories ... NOTE
Found the following hidden files and directories:
  .travis.yml
These were most likely included in error. See section ‘Package
structure’ in the ‘Writing R Extensions’ manual.
* checking for portable file names ... OK
* checking for sufficient/correct file permissions ... OK
* checking whether package ‘GOexpress’ can be installed ... OK
* checking installed package size ... OK
* checking package directory ... OK
* checking ‘build’ directory ... OK
* checking DESCRIPTION meta-information ... OK
* checking top-level files ... OK
* checking for left-over files ... OK
* checking index information ... OK
* checking package subdirectories ... OK
* checking code files for non-ASCII characters ... OK
* checking R files for syntax errors ... OK
* checking whether the package can be loaded ... OK
* checking whether the package can be loaded with stated dependencies ... OK
* checking whether the package can be unloaded cleanly ... OK
* checking whether the namespace can be loaded with stated dependencies ... OK
* checking whether the namespace can be unloaded cleanly ... OK
* checking dependencies in R code ... OK
* checking S3 generic/method consistency ... OK
* checking replacement functions ... OK
* checking foreign function calls ... OK
* checking R code for possible problems ... NOTE
GO_analyse: no visible binding for global variable ‘microarray2dataset’
GO_analyse: no visible binding for global variable ‘prefix2dataset’
mart_from_ensembl: no visible binding for global variable
  ‘prefix2dataset’
Undefined global functions or variables:
  microarray2dataset prefix2dataset
* checking Rd files ... NOTE
checkRd: (-1) AlvMac_GOgenes.Rd:22-23: Lost braces in \itemize; \value handles \item{}{} directly
checkRd: (-1) AlvMac_GOgenes.Rd:24: Lost braces in \itemize; \value handles \item{}{} directly
checkRd: (-1) AlvMac_allGO.Rd:23: Lost braces in \itemize; \value handles \item{}{} directly
checkRd: (-1) AlvMac_allGO.Rd:24: Lost braces in \itemize; \value handles \item{}{} directly
checkRd: (-1) AlvMac_allGO.Rd:25-27: Lost braces in \itemize; \value handles \item{}{} directly
checkRd: (-1) AlvMac_allgenes.Rd:23: Lost braces in \itemize; \value handles \item{}{} directly
checkRd: (-1) AlvMac_allgenes.Rd:24: Lost braces in \itemize; \value handles \item{}{} directly
checkRd: (-1) AlvMac_allgenes.Rd:25: Lost braces in \itemize; \value handles \item{}{} directly
checkRd: (-1) hist_scores.Rd:11: Lost braces; missing escapes or markup?
    11 | variable of the {GO_analyse()} function.
       |                 ^
* checking Rd metadata ... OK
* checking Rd cross-references ... OK
* checking for missing documentation entries ... OK
* checking for code/documentation mismatches ... OK
* checking Rd \usage sections ... OK
* checking Rd contents ... OK
* checking for unstated dependencies in examples ... OK
* checking contents of ‘data’ directory ... OK
* checking data for non-ASCII characters ... OK
* checking LazyData ... OK
* checking data for ASCII and uncompressed saves ... OK
* checking sizes of PDF files under ‘inst/doc’ ... OK
* checking files in ‘vignettes’ ... OK
* checking examples ... OK
Examples with CPU (user + system) or elapsed time > 5s
                     user system elapsed
AlvMac_results.pVal 2.807  3.753   6.641
expression_plot     5.628  0.188   5.869
* checking for unstated dependencies in vignettes ... OK
* checking package vignettes ... OK
* checking running R code from vignettes ... SKIPPED
* checking re-building of vignette outputs ... SKIPPED
* checking PDF version of manual ... OK
* DONE

Status: 3 NOTEs
See
  ‘/Users/biocbuild/bbs-3.22-bioc/meat/GOexpress.Rcheck/00check.log’
for details.


Installation output

GOexpress.Rcheck/00install.out

##############################################################################
##############################################################################
###
### Running command:
###
###   /Library/Frameworks/R.framework/Resources/bin/R CMD INSTALL GOexpress
###
##############################################################################
##############################################################################


* installing to library ‘/Library/Frameworks/R.framework/Versions/4.5-x86_64/Resources/library’
* installing *source* package ‘GOexpress’ ...
** this is package ‘GOexpress’ version ‘1.44.0’
** using staged installation
** R
** data
*** moving datasets to lazyload DB
** inst
** byte-compile and prepare package for lazy loading
** help
*** installing help indices
** building package indices
** installing vignettes
** testing if installed package can be loaded from temporary location
** testing if installed package can be loaded from final location
** testing if installed package keeps a record of temporary installation path
* DONE (GOexpress)

Tests output


Example timings

GOexpress.Rcheck/GOexpress-Ex.timings

nameusersystemelapsed
AlvMac0.1900.0420.233
AlvMac_GOgenes0.1400.0170.158
AlvMac_allGO0.0460.0060.052
AlvMac_allgenes0.0110.0040.015
AlvMac_results0.6700.0220.693
AlvMac_results.pVal2.8073.7536.641
GO_analyse4.6350.1634.850
GOexpress-package0.0050.0090.014
cluster_GO0.2240.0080.234
expression_plot5.6280.1885.869
expression_plot_symbol2.4280.0272.497
expression_profiles2.2670.0252.328
expression_profiles_symbol1.7970.1271.945
heatmap_GO1.0700.0241.101
hist_scores0.4510.0080.463
list_genes0.1770.0050.183
microarray2dataset0.0160.0300.047
pValue_GO0.0010.0010.002
plot_design0.3140.0280.349
prefix2dataset0.0140.0120.026
quantiles_scores0.7890.0050.798
rerank0.3480.0160.369
subEset0.0830.0040.086
subset_scores0.3510.0310.385
table_genes0.1710.0060.181