Back to Multiple platform build/check report for BioC 3.22:   simplified   long
ABCDEF[G]HIJKLMNOPQRSTUVWXYZ

This page was generated on 2025-11-12 11:57 -0500 (Wed, 12 Nov 2025).

HostnameOSArch (*)R versionInstalled pkgs
nebbiolo2Linux (Ubuntu 24.04.3 LTS)x86_644.5.1 Patched (2025-08-23 r88802) -- "Great Square Root" 4902
taishanLinux (openEuler 24.03 LTS)aarch644.5.0 (2025-04-11) -- "How About a Twenty-Six" 4668
Click on any hostname to see more info about the system (e.g. compilers)      (*) as reported by 'uname -p', except on Windows and Mac OS X

All results for package GOSemSim


To the developers/maintainers of the GOSemSim package:
- Allow up to 24 hours (and sometimes 48 hours) for your latest push to git@git.bioconductor.org:packages/GOSemSim.git to reflect on this report. See Troubleshooting Build Report for more information.
- Use the following Renviron settings to reproduce errors and warnings.
- If 'R CMD check' started to fail recently on the Linux builder(s) over a missing dependency, add the missing dependency to 'Suggests:' in your DESCRIPTION file. See Renviron.bioc for more information.

raw results

Package 909/2361HostnameOS / ArchINSTALLBUILDCHECKBUILD BIN
GOSemSim 2.36.0  (landing page)
Guangchuang Yu
Snapshot Date: 2025-11-11 13:45 -0500 (Tue, 11 Nov 2025)
git_url: https://git.bioconductor.org/packages/GOSemSim
git_branch: RELEASE_3_22
git_last_commit: c1bf5c5
git_last_commit_date: 2025-10-29 10:02:04 -0500 (Wed, 29 Oct 2025)
nebbiolo2Linux (Ubuntu 24.04.3 LTS) / x86_64  OK    OK    OK  UNNEEDED, same version is already published
taishanLinux (openEuler 24.03 LTS) / aarch64  OK    OK    OK  



Results for Bioconductor software packages that depend directly on package GOSemSim

QUICK STATSOS / ArchINSTALLBUILDCHECKBUILD BIN
nebbiolo2Linux (Ubuntu 24.04.3 LTS) / x86_64
0010
0010
0217
taishanLinux (openEuler 24.03 LTS) / aarch64
0010
0010
0217
Package 1/10HostnameOS / ArchINSTALLBUILDCHECKBUILD BIN
clusterProfiler 4.18.1  (landing page)
Guangchuang Yu
git_last_commit: f02a64b
git_last_commit_date: 2025-11-01 10:51:50 -0500
nebbiolo2Linux (Ubuntu 24.04.3 LTS) / x86_64  OK    OK    OK  UNNEEDED, same version is already published
taishanLinux (openEuler 24.03 LTS) / aarch64  OK    OK    OK  
Package 2/10HostnameOS / ArchINSTALLBUILDCHECKBUILD BIN
DOSE 4.4.0  (landing page)
Guangchuang Yu
git_last_commit: 963047a
git_last_commit_date: 2025-10-29 10:07:51 -0500
nebbiolo2Linux (Ubuntu 24.04.3 LTS) / x86_64  OK    OK    OK  UNNEEDED, same version is already published
taishanLinux (openEuler 24.03 LTS) / aarch64  OK    OK    OK  
Package 3/10HostnameOS / ArchINSTALLBUILDCHECKBUILD BIN
enrichplot 1.30.2  (landing page)
Guangchuang Yu
git_last_commit: e85d5d3
git_last_commit_date: 2025-11-10 21:31:06 -0500
nebbiolo2Linux (Ubuntu 24.04.3 LTS) / x86_64  OK    OK    OK  YES
taishanLinux (openEuler 24.03 LTS) / aarch64  OK    OK    OK  
Package 4/10HostnameOS / ArchINSTALLBUILDCHECKBUILD BIN
GeDi 1.6.0  (landing page)
Annekathrin Nedwed
git_last_commit: 308bc6a
git_last_commit_date: 2025-10-29 11:29:41 -0500
nebbiolo2Linux (Ubuntu 24.04.3 LTS) / x86_64  OK    OK    ERROR  
taishanLinux (openEuler 24.03 LTS) / aarch64  OK    OK    ERROR  
Package 5/10HostnameOS / ArchINSTALLBUILDCHECKBUILD BIN
meshes 1.36.0  (landing page)
Guangchuang Yu
git_last_commit: 6d7a37c
git_last_commit_date: 2025-10-29 10:35:16 -0500
nebbiolo2Linux (Ubuntu 24.04.3 LTS) / x86_64  OK    OK    OK  UNNEEDED, same version is already published
taishanLinux (openEuler 24.03 LTS) / aarch64  OK    OK    OK  
Package 6/10HostnameOS / ArchINSTALLBUILDCHECKBUILD BIN
Rcpi 1.46.0  (landing page)
Nan Xiao
git_last_commit: c114c2a
git_last_commit_date: 2025-10-29 10:18:37 -0500
nebbiolo2Linux (Ubuntu 24.04.3 LTS) / x86_64  OK    OK    OK  UNNEEDED, same version is already published
taishanLinux (openEuler 24.03 LTS) / aarch64  OK    OK    OK  
Package 7/10HostnameOS / ArchINSTALLBUILDCHECKBUILD BIN
rrvgo 1.22.0  (landing page)
Sergi Sayols
git_last_commit: 76f2f43
git_last_commit_date: 2025-10-29 10:57:06 -0500
nebbiolo2Linux (Ubuntu 24.04.3 LTS) / x86_64  OK    OK    OK  UNNEEDED, same version is already published
taishanLinux (openEuler 24.03 LTS) / aarch64  OK    OK    OK  
Package 8/10HostnameOS / ArchINSTALLBUILDCHECKBUILD BIN
scQTLtools 1.2.0  (landing page)
Xiaofeng Wu
git_last_commit: 1638397
git_last_commit_date: 2025-10-29 11:34:00 -0500
nebbiolo2Linux (Ubuntu 24.04.3 LTS) / x86_64  OK    OK    ERROR  
taishanLinux (openEuler 24.03 LTS) / aarch64  OK    OK    ERROR  
Package 9/10HostnameOS / ArchINSTALLBUILDCHECKBUILD BIN
tRanslatome 1.48.0  (landing page)
Toma Tebaldi , Erik Dassi
git_last_commit: 4f15a1c
git_last_commit_date: 2025-10-29 10:14:58 -0500
nebbiolo2Linux (Ubuntu 24.04.3 LTS) / x86_64  OK    OK    OK  UNNEEDED, same version is already published
taishanLinux (openEuler 24.03 LTS) / aarch64  OK    OK    OK  
Package 10/10HostnameOS / ArchINSTALLBUILDCHECKBUILD BIN
ViSEAGO 1.24.0  (landing page)
Aurelien Brionne
git_last_commit: 9020dee
git_last_commit_date: 2025-10-29 10:53:03 -0500
nebbiolo2Linux (Ubuntu 24.04.3 LTS) / x86_64  OK    OK    WARNINGS  UNNEEDED, same version is already published
taishanLinux (openEuler 24.03 LTS) / aarch64  OK    OK    WARNINGS