Back to Multiple platform build/check report for BioC 3.21:   simplified   long
ABCDEF[G]HIJKLMNOPQRSTUVWXYZ

This page was generated on 2025-10-16 11:40 -0400 (Thu, 16 Oct 2025).

HostnameOSArch (*)R versionInstalled pkgs
nebbiolo1Linux (Ubuntu 24.04.3 LTS)x86_644.5.1 (2025-06-13) -- "Great Square Root" 4833
merida1macOS 12.7.6 Montereyx86_644.5.1 RC (2025-06-05 r88288) -- "Great Square Root" 4614
kjohnson1macOS 13.7.5 Venturaarm644.5.1 Patched (2025-06-14 r88325) -- "Great Square Root" 4555
kunpeng2Linux (openEuler 24.03 LTS)aarch64R Under development (unstable) (2025-02-19 r87757) -- "Unsuffered Consequences" 4586
Click on any hostname to see more info about the system (e.g. compilers)      (*) as reported by 'uname -p', except on Windows and Mac OS X

Package 785/2341HostnameOS / ArchINSTALLBUILDCHECKBUILD BIN
GBScleanR 2.2.0  (landing page)
Tomoyuki Furuta
Snapshot Date: 2025-10-13 13:40 -0400 (Mon, 13 Oct 2025)
git_url: https://git.bioconductor.org/packages/GBScleanR
git_branch: RELEASE_3_21
git_last_commit: 8528fbe
git_last_commit_date: 2025-04-15 12:44:00 -0400 (Tue, 15 Apr 2025)
nebbiolo1Linux (Ubuntu 24.04.3 LTS) / x86_64  OK    OK    OK  UNNEEDED, same version is already published
merida1macOS 12.7.6 Monterey / x86_64  OK    OK    OK    OK  UNNEEDED, same version is already published
kjohnson1macOS 13.7.5 Ventura / arm64  OK    OK    OK    OK  UNNEEDED, same version is already published
kunpeng2Linux (openEuler 24.03 LTS) / aarch64  OK    ERROR  skipped


CHECK results for GBScleanR on kjohnson1

To the developers/maintainers of the GBScleanR package:
- Allow up to 24 hours (and sometimes 48 hours) for your latest push to git@git.bioconductor.org:packages/GBScleanR.git to reflect on this report. See Troubleshooting Build Report for more information.
- Use the following Renviron settings to reproduce errors and warnings.
- If 'R CMD check' started to fail recently on the Linux builder(s) over a missing dependency, add the missing dependency to 'Suggests:' in your DESCRIPTION file. See Renviron.bioc for more information.

raw results


Summary

Package: GBScleanR
Version: 2.2.0
Command: /Library/Frameworks/R.framework/Resources/bin/R CMD check --install=check:GBScleanR.install-out.txt --library=/Library/Frameworks/R.framework/Resources/library --no-vignettes --timings GBScleanR_2.2.0.tar.gz
StartedAt: 2025-10-14 22:09:30 -0400 (Tue, 14 Oct 2025)
EndedAt: 2025-10-14 22:13:16 -0400 (Tue, 14 Oct 2025)
EllapsedTime: 226.1 seconds
RetCode: 0
Status:   OK  
CheckDir: GBScleanR.Rcheck
Warnings: 0

Command output

##############################################################################
##############################################################################
###
### Running command:
###
###   /Library/Frameworks/R.framework/Resources/bin/R CMD check --install=check:GBScleanR.install-out.txt --library=/Library/Frameworks/R.framework/Resources/library --no-vignettes --timings GBScleanR_2.2.0.tar.gz
###
##############################################################################
##############################################################################


* using log directory ‘/Users/biocbuild/bbs-3.21-bioc/meat/GBScleanR.Rcheck’
* using R version 4.5.1 Patched (2025-06-14 r88325)
* using platform: aarch64-apple-darwin20
* R was compiled by
    Apple clang version 16.0.0 (clang-1600.0.26.6)
    GNU Fortran (GCC) 14.2.0
* running under: macOS Ventura 13.7.5
* using session charset: UTF-8
* using option ‘--no-vignettes’
* checking for file ‘GBScleanR/DESCRIPTION’ ... OK
* checking extension type ... Package
* this is package ‘GBScleanR’ version ‘2.2.0’
* package encoding: UTF-8
* checking package namespace information ... OK
* checking package dependencies ... OK
* checking if this is a source package ... OK
* checking if there is a namespace ... OK
* checking for hidden files and directories ... OK
* checking for portable file names ... OK
* checking for sufficient/correct file permissions ... OK
* checking whether package ‘GBScleanR’ can be installed ... OK
* used C++ compiler: ‘Apple clang version 15.0.0 (clang-1500.0.40.1)’
* used SDK: ‘MacOSX11.3.sdk’
* checking C++ specification ... NOTE
  Specified C++11: please drop specification unless essential
* checking installed package size ... OK
* checking package directory ... OK
* checking ‘build’ directory ... OK
* checking DESCRIPTION meta-information ... OK
* checking top-level files ... OK
* checking for left-over files ... OK
* checking index information ... OK
* checking package subdirectories ... OK
* checking code files for non-ASCII characters ... OK
* checking R files for syntax errors ... OK
* checking whether the package can be loaded ... OK
* checking whether the package can be loaded with stated dependencies ... OK
* checking whether the package can be unloaded cleanly ... OK
* checking whether the namespace can be loaded with stated dependencies ... OK
* checking whether the namespace can be unloaded cleanly ... OK
* checking dependencies in R code ... OK
* checking S3 generic/method consistency ... OK
* checking replacement functions ... OK
* checking foreign function calls ... OK
* checking R code for possible problems ... OK
* checking Rd files ... OK
* checking Rd metadata ... OK
* checking Rd cross-references ... OK
* checking for missing documentation entries ... OK
* checking for code/documentation mismatches ... OK
* checking Rd \usage sections ... OK
* checking Rd contents ... OK
* checking for unstated dependencies in examples ... OK
* checking line endings in C/C++/Fortran sources/headers ... OK
* checking line endings in Makefiles ... OK
* checking compilation flags in Makevars ... OK
* checking for GNU extensions in Makefiles ... INFO
GNU make is a SystemRequirements.
* checking for portable use of $(BLAS_LIBS) and $(LAPACK_LIBS) ... OK
* checking use of PKG_*FLAGS in Makefiles ... OK
* checking compiled code ... NOTE
Note: information on .o files is not available
File ‘/Library/Frameworks/R.framework/Versions/4.5-arm64/Resources/library/GBScleanR/libs/GBScleanR.so’:
  Found ‘__ZNSt3__14coutE’, possibly from ‘std::cout’ (C++)

Compiled code should not call entry points which might terminate R nor
write to stdout/stderr instead of to the console, nor use Fortran I/O
nor system RNGs nor [v]sprintf. The detected symbols are linked into
the code but might come from libraries and not actually be called.

See ‘Writing portable packages’ in the ‘Writing R Extensions’ manual.
* checking files in ‘vignettes’ ... OK
* checking examples ... OK
* checking for unstated dependencies in ‘tests’ ... OK
* checking tests ...
  Running ‘testthat.R’
 OK
* checking for unstated dependencies in vignettes ... OK
* checking package vignettes ... OK
* checking running R code from vignettes ... SKIPPED
* checking re-building of vignette outputs ... SKIPPED
* checking PDF version of manual ... OK
* DONE

Status: 2 NOTEs
See
  ‘/Users/biocbuild/bbs-3.21-bioc/meat/GBScleanR.Rcheck/00check.log’
for details.


Installation output

GBScleanR.Rcheck/00install.out

##############################################################################
##############################################################################
###
### Running command:
###
###   /Library/Frameworks/R.framework/Resources/bin/R CMD INSTALL GBScleanR
###
##############################################################################
##############################################################################


* installing to library ‘/Library/Frameworks/R.framework/Versions/4.5-arm64/Resources/library’
* installing *source* package ‘GBScleanR’ ...
** this is package ‘GBScleanR’ version ‘2.2.0’
** using staged installation
** libs
using C++ compiler: ‘Apple clang version 15.0.0 (clang-1500.0.40.1)’
using C++11
using SDK: ‘MacOSX11.3.sdk’
clang++ -arch arm64 -std=gnu++11 -I"/Library/Frameworks/R.framework/Resources/include" -DNDEBUG  -I'/Library/Frameworks/R.framework/Versions/4.5-arm64/Resources/library/Rcpp/include' -I'/Library/Frameworks/R.framework/Versions/4.5-arm64/Resources/library/RcppParallel/include' -I/opt/R/arm64/include    -fPIC  -falign-functions=64 -Wall -g -O2   -c RcppExports.cpp -o RcppExports.o
clang++ -arch arm64 -std=gnu++11 -I"/Library/Frameworks/R.framework/Resources/include" -DNDEBUG  -I'/Library/Frameworks/R.framework/Versions/4.5-arm64/Resources/library/Rcpp/include' -I'/Library/Frameworks/R.framework/Versions/4.5-arm64/Resources/library/RcppParallel/include' -I/opt/R/arm64/include    -fPIC  -falign-functions=64 -Wall -g -O2   -c gbsrCalcProb.cpp -o gbsrCalcProb.o
clang++ -arch arm64 -std=gnu++11 -I"/Library/Frameworks/R.framework/Resources/include" -DNDEBUG  -I'/Library/Frameworks/R.framework/Versions/4.5-arm64/Resources/library/Rcpp/include' -I'/Library/Frameworks/R.framework/Versions/4.5-arm64/Resources/library/RcppParallel/include' -I/opt/R/arm64/include    -fPIC  -falign-functions=64 -Wall -g -O2   -c gbsrFB.cpp -o gbsrFB.o
clang++ -arch arm64 -std=gnu++11 -I"/Library/Frameworks/R.framework/Resources/include" -DNDEBUG  -I'/Library/Frameworks/R.framework/Versions/4.5-arm64/Resources/library/Rcpp/include' -I'/Library/Frameworks/R.framework/Versions/4.5-arm64/Resources/library/RcppParallel/include' -I/opt/R/arm64/include    -fPIC  -falign-functions=64 -Wall -g -O2   -c gbsrIPO.cpp -o gbsrIPO.o
clang++ -arch arm64 -std=gnu++11 -I"/Library/Frameworks/R.framework/Resources/include" -DNDEBUG  -I'/Library/Frameworks/R.framework/Versions/4.5-arm64/Resources/library/Rcpp/include' -I'/Library/Frameworks/R.framework/Versions/4.5-arm64/Resources/library/RcppParallel/include' -I/opt/R/arm64/include    -fPIC  -falign-functions=64 -Wall -g -O2   -c gbsrStats.cpp -o gbsrStats.o
clang++ -arch arm64 -std=gnu++11 -I"/Library/Frameworks/R.framework/Resources/include" -DNDEBUG  -I'/Library/Frameworks/R.framework/Versions/4.5-arm64/Resources/library/Rcpp/include' -I'/Library/Frameworks/R.framework/Versions/4.5-arm64/Resources/library/RcppParallel/include' -I/opt/R/arm64/include    -fPIC  -falign-functions=64 -Wall -g -O2   -c gbsrViterbi.cpp -o gbsrViterbi.o
clang++ -arch arm64 -std=gnu++11 -I"/Library/Frameworks/R.framework/Resources/include" -DNDEBUG  -I'/Library/Frameworks/R.framework/Versions/4.5-arm64/Resources/library/Rcpp/include' -I'/Library/Frameworks/R.framework/Versions/4.5-arm64/Resources/library/RcppParallel/include' -I/opt/R/arm64/include    -fPIC  -falign-functions=64 -Wall -g -O2   -c gbsrutil.cpp -o gbsrutil.o
clang++ -arch arm64 -std=gnu++11 -dynamiclib -Wl,-headerpad_max_install_names -undefined dynamic_lookup -L/Library/Frameworks/R.framework/Resources/lib -L/opt/R/arm64/lib -o GBScleanR.so RcppExports.o gbsrCalcProb.o gbsrFB.o gbsrIPO.o gbsrStats.o gbsrViterbi.o gbsrutil.o -L/Library/Frameworks/R.framework/Versions/4.5-arm64/Resources/library/RcppParallel/lib -ltbb -ltbbmalloc -F/Library/Frameworks/R.framework/.. -framework R
installing to /Library/Frameworks/R.framework/Versions/4.5-arm64/Resources/library/00LOCK-GBScleanR/00new/GBScleanR/libs
** R
** inst
** byte-compile and prepare package for lazy loading
** help
*** installing help indices
** building package indices
** installing vignettes
** testing if installed package can be loaded from temporary location
** checking absolute paths in shared objects and dynamic libraries
** testing if installed package can be loaded from final location
** testing if installed package keeps a record of temporary installation path
* DONE (GBScleanR)

Tests output

GBScleanR.Rcheck/tests/testthat.Rout


R version 4.5.1 Patched (2025-06-14 r88325) -- "Great Square Root"
Copyright (C) 2025 The R Foundation for Statistical Computing
Platform: aarch64-apple-darwin20

R is free software and comes with ABSOLUTELY NO WARRANTY.
You are welcome to redistribute it under certain conditions.
Type 'license()' or 'licence()' for distribution details.

R is a collaborative project with many contributors.
Type 'contributors()' for more information and
'citation()' on how to cite R or R packages in publications.

Type 'demo()' for some demos, 'help()' for on-line help, or
'help.start()' for an HTML browser interface to help.
Type 'q()' to quit R.

> library(testthat)
> library(GBScleanR)
Loading required package: SeqArray
Loading required package: gdsfmt
> 
> test_check("GBScleanR")
Loading GDS file.
Working on 'genotype' ...
Working on 'phase' ...
Working on 'annotation/format/AD' ...
Clean up the fragments of GDS file:
    open the file '/private/tmp/Rtmpu7X1gU/sample33a4264256ef.gds' (95.5K)
    # of fragments: 69
    save to '/private/tmp/Rtmpu7X1gU/sample33a4264256ef.gds.tmp'
    rename '/private/tmp/Rtmpu7X1gU/sample33a4264256ef.gds.tmp' (95.4K, reduced: 108B)
    # of fragments: 60
The connection to the GDS file was closed.
Loading GDS file.
The connection to the GDS file was closed.
Loading GDS file.
The connection to the GDS file was closed.
Loading GDS file.
The connection to the GDS file was closed.
Loading GDS file.
The connection to the GDS file was closed.
Loading GDS file.
The connection to the GDS file was closed.
Loading GDS file.
The connection to the GDS file was closed.
Loading GDS file.
The connection to the GDS file was closed.
Loading GDS file.
The connection to the GDS file was closed.
Loading GDS file.
The connection to the GDS file was closed.
Loading GDS file.
Working on 'genotype' ...
Working on 'phase' ...
Working on 'annotation/format/AD' ...
Clean up the fragments of GDS file:
    open the file '/private/tmp/Rtmpu7X1gU/sample33a4b158ded.gds' (95.5K)
    # of fragments: 69
    save to '/private/tmp/Rtmpu7X1gU/sample33a4b158ded.gds.tmp'
    rename '/private/tmp/Rtmpu7X1gU/sample33a4b158ded.gds.tmp' (95.4K, reduced: 108B)
    # of fragments: 60
The connection to the GDS file was closed.
Loading GDS file.
The connection to the GDS file was closed.
Loading GDS file.
Overwrite the previous parents information.
The connection to the GDS file was closed.
Loading GDS file.
Overwrite the previous parents information.
Overwrite the previous parents information.
The connection to the GDS file was closed.
Loading GDS file.
Overwrite the previous parents information.
Overwrite the previous parents information.
The connection to the GDS file was closed.
Loading GDS file.
Overwrite the previous parents information.
The connection to the GDS file was closed.
Loading GDS file.
Working on 'genotype' ...
Working on 'phase' ...
Working on 'annotation/format/AD' ...
Clean up the fragments of GDS file:
    open the file '/private/tmp/Rtmpu7X1gU/sample33a4167a28bf.gds' (95.5K)
    # of fragments: 69
    save to '/private/tmp/Rtmpu7X1gU/sample33a4167a28bf.gds.tmp'
    rename '/private/tmp/Rtmpu7X1gU/sample33a4167a28bf.gds.tmp' (95.4K, reduced: 108B)
    # of fragments: 60
The connection to the GDS file was closed.
Loading GDS file.
The connection to the GDS file was closed.
Loading GDS file.
The connection to the GDS file was closed.
Loading GDS file.
The connection to the GDS file was closed.
Loading GDS file.
The connection to the GDS file was closed.
Loading GDS file.
The connection to the GDS file was closed.
Loading GDS file.
The connection to the GDS file was closed.
Loading GDS file.
The connection to the GDS file was closed.
Loading GDS file.
The connection to the GDS file was closed.
##< 2025-10-14 22:12:43
Variant Call Format (VCF) Import:
    file:
        sample.vcf (210.3K)
    file format: VCFv4.2
    genome reference: <unknown>
    # of sets of chromosomes (ploidy): 2
    # of samples: 102
    genotype field: GT
    genotype storage: bit2
    compression method: customized
    INFO:
    FORMAT: AD
Output:
    /tmp/Rtmpu7X1gU/sample33a45ba19eb4.gds
    [Progress Info: sample33a45ba19eb4.gds.progress.txt]
Parsing 'sample.vcf':
+ genotype/data   { Bit2 2x102x242 ZIP_ra, 16B }
Digests:
    sample.id  [md5: 338086c89cac9760256e9d1ec0a77327]
    variant.id  [md5: 6f6b771cc6816e18766cd7b202765193]
    position  [md5: f3033fec247b8ec6980e81005e257bd8]
    chromosome  [md5: 891ee7d299e1dba9146b8ae33476741c]
    allele  [md5: 9fc3f097ae98a7ebff52fac77379926e]
    genotype  [md5: b83af5eb9818d83c2ccaa40d494f15a8]
    phase  [md5: 9d686e01959b61df5fdc1a4684bd72b3]
    annotation/id  [md5: 021994c12424cab1e907740e364c7c24]
    annotation/qual  [md5: 5a566f4332739a2b28d23b215163b70a]
    annotation/filter  [md5: cb74cdb22966d99a9290a2c804a10580]
    annotation/format/AD  [md5: f8b130e5e4e497ee162cf32b15b0ac3a]
Done.  # 2025-10-14 22:12:43
Optimize the access efficiency ...
Clean up the fragments of GDS file:
    open the file '/tmp/Rtmpu7X1gU/sample33a45ba19eb4.gds' (53.4K)
    # of fragments: 108
    save to '/tmp/Rtmpu7X1gU/sample33a45ba19eb4.gds.tmp'
    rename '/tmp/Rtmpu7X1gU/sample33a45ba19eb4.gds.tmp' (52.8K, reduced: 648B)
    # of fragments: 54
##> 2025-10-14 22:12:43
Loading GDS file.
Working on 'genotype' ...
Working on 'phase' ...
Working on 'annotation/format/AD' ...
Clean up the fragments of GDS file:
    open the file '/private/tmp/Rtmpu7X1gU/sample33a45ba19eb4.gds' (95.5K)
    # of fragments: 69
    save to '/private/tmp/Rtmpu7X1gU/sample33a45ba19eb4.gds.tmp'
    rename '/private/tmp/Rtmpu7X1gU/sample33a45ba19eb4.gds.tmp' (95.4K, reduced: 108B)
    # of fragments: 60
The connection to the GDS file was closed.
Loading GDS file.
The connection to the GDS file was closed.
Loading GDS file.
The connection to the GDS file was closed.
Loading GDS file.
Working on 'genotype' ...
Working on 'phase' ...
Working on 'annotation/format/AD' ...
Clean up the fragments of GDS file:
    open the file '/private/tmp/Rtmpu7X1gU/sample33a45f29c41e.gds' (95.5K)
    # of fragments: 69
    save to '/private/tmp/Rtmpu7X1gU/sample33a45f29c41e.gds.tmp'
    rename '/private/tmp/Rtmpu7X1gU/sample33a45f29c41e.gds.tmp' (95.4K, reduced: 108B)
    # of fragments: 60
The connection to the GDS file was closed.
Loading GDS file.
The connection to the GDS file was closed.
Loading GDS file.
The connection to the GDS file was closed.
Loading GDS file.
The connection to the GDS file was closed.
Loading GDS file.
Reformatting FGT
The connection to the GDS file was closed.
Loading GDS file.
Reformatting FGT
The connection to the GDS file was closed.
##< 2025-10-14 22:12:57
Variant Call Format (VCF) Import:
    file:
        sample.vcf (210.3K)
    file format: VCFv4.2
    genome reference: <unknown>
    # of sets of chromosomes (ploidy): 2
    # of samples: 102
    genotype field: GT
    genotype storage: bit2
    compression method: customized
    INFO:
    FORMAT: AD
Output:
    /tmp/Rtmpu7X1gU/sample33a430181d8d.gds
    [Progress Info: sample33a430181d8d.gds.progress.txt]
Parsing 'sample.vcf':
+ genotype/data   { Bit2 2x102x242 ZIP_ra, 16B }
Digests:
    sample.id  [md5: 338086c89cac9760256e9d1ec0a77327]
    variant.id  [md5: 6f6b771cc6816e18766cd7b202765193]
    position  [md5: f3033fec247b8ec6980e81005e257bd8]
    chromosome  [md5: 891ee7d299e1dba9146b8ae33476741c]
    allele  [md5: 9fc3f097ae98a7ebff52fac77379926e]
    genotype  [md5: b83af5eb9818d83c2ccaa40d494f15a8]
    phase  [md5: 9d686e01959b61df5fdc1a4684bd72b3]
    annotation/id  [md5: 021994c12424cab1e907740e364c7c24]
    annotation/qual  [md5: 5a566f4332739a2b28d23b215163b70a]
    annotation/filter  [md5: cb74cdb22966d99a9290a2c804a10580]
    annotation/format/AD  [md5: f8b130e5e4e497ee162cf32b15b0ac3a]
Done.  # 2025-10-14 22:12:57
Optimize the access efficiency ...
Clean up the fragments of GDS file:
    open the file '/tmp/Rtmpu7X1gU/sample33a430181d8d.gds' (53.4K)
    # of fragments: 108
    save to '/tmp/Rtmpu7X1gU/sample33a430181d8d.gds.tmp'
    rename '/tmp/Rtmpu7X1gU/sample33a430181d8d.gds.tmp' (52.8K, reduced: 648B)
    # of fragments: 54
##> 2025-10-14 22:12:57
Loading GDS file.
Working on 'genotype' ...
Working on 'phase' ...
Working on 'annotation/format/AD' ...
Clean up the fragments of GDS file:
    open the file '/private/tmp/Rtmpu7X1gU/sample33a430181d8d.gds' (95.5K)
    # of fragments: 69
    save to '/private/tmp/Rtmpu7X1gU/sample33a430181d8d.gds.tmp'
    rename '/private/tmp/Rtmpu7X1gU/sample33a430181d8d.gds.tmp' (95.4K, reduced: 108B)
    # of fragments: 60
No parents info.
##< 2025-10-14 22:12:57
Variant Call Format (VCF) Import:
    file:
        out33a4479745e5.vcf (46.3K)
    file format: VCFv4.2
    genome reference: <unknown>
    # of sets of chromosomes (ploidy): 2
    # of samples: 48
    genotype field: GT
    genotype storage: bit2
    compression method: customized
    INFO:
    FORMAT: AD
Output:
    /tmp/Rtmpu7X1gU/newgds33a472176931.gds
    [Progress Info: newgds33a472176931.gds.progress.txt]
Parsing 'out33a4479745e5.vcf':
+ genotype/data   { Bit2 2x48x106 ZIP_ra, 16B }
Digests:
    sample.id  [md5: ba42c9e68e966398d254a4b355a07dbd]
    variant.id  [md5: 5d16dc731ced66090ab3722103ae8599]
    position  [md5: 73dea53464469e516fa4da75eb7e159b]
    chromosome  [md5: f4442a492bc04a9d728d3338d43af8f1]
    allele  [md5: aec5a8608f08ba2431027304f3d11a56]
    genotype  [md5: 87c45a58a5db8bf5033a838f156c5d7d]
    phase  [md5: c26f6378ac7a8c600f965683fa33f341]
    annotation/id  [md5: de8c66d7622c09772d4d70703b4ed8a9]
    annotation/qual  [md5: c2b2535072288d92e4e0c08bb578e89e]
    annotation/filter  [md5: 865b123bb53b793da14fe536a8aeb0d4]
    annotation/format/AD  [md5: 2971580c10f3c25cba6eace6d24c82f0]
Done.  # 2025-10-14 22:12:57
Optimize the access efficiency ...
Clean up the fragments of GDS file:
    open the file '/tmp/Rtmpu7X1gU/newgds33a472176931.gds' (17.9K)
    # of fragments: 107
    save to '/tmp/Rtmpu7X1gU/newgds33a472176931.gds.tmp'
    rename '/tmp/Rtmpu7X1gU/newgds33a472176931.gds.tmp' (17.3K, reduced: 636B)
    # of fragments: 54
##> 2025-10-14 22:12:57
Loading GDS file.
Working on 'genotype' ...
Working on 'phase' ...
Working on 'annotation/format/AD' ...
Clean up the fragments of GDS file:
    open the file '/private/tmp/Rtmpu7X1gU/newgds33a472176931.gds' (26.9K)
    # of fragments: 69
    save to '/private/tmp/Rtmpu7X1gU/newgds33a472176931.gds.tmp'
    rename '/private/tmp/Rtmpu7X1gU/newgds33a472176931.gds.tmp' (26.8K, reduced: 108B)
    # of fragments: 60
No parents info.
##< 2025-10-14 22:12:58
Variant Call Format (VCF) Import:
    file:
        out33a469ce5173.vcf (87.5K)
    file format: VCFv4.2
    genome reference: <unknown>
    # of sets of chromosomes (ploidy): 2
    # of samples: 48
    genotype field: GT
    genotype storage: bit2
    compression method: customized
    INFO:
    FORMAT: AD,FAD,FGT
Output:
    /tmp/Rtmpu7X1gU/newgds33a42dbb9b1a.gds
    [Progress Info: newgds33a42dbb9b1a.gds.progress.txt]
Parsing 'out33a469ce5173.vcf':
+ genotype/data   { Bit2 2x48x106 ZIP_ra, 16B }
Digests:
    sample.id  [md5: ba42c9e68e966398d254a4b355a07dbd]
    variant.id  [md5: 5d16dc731ced66090ab3722103ae8599]
    position  [md5: 73dea53464469e516fa4da75eb7e159b]
    chromosome  [md5: f4442a492bc04a9d728d3338d43af8f1]
    allele  [md5: aec5a8608f08ba2431027304f3d11a56]
    genotype  [md5: 87c45a58a5db8bf5033a838f156c5d7d]
    phase  [md5: c26f6378ac7a8c600f965683fa33f341]
    annotation/id  [md5: de8c66d7622c09772d4d70703b4ed8a9]
    annotation/qual  [md5: c2b2535072288d92e4e0c08bb578e89e]
    annotation/filter  [md5: 865b123bb53b793da14fe536a8aeb0d4]
    annotation/format/AD  [md5: 2971580c10f3c25cba6eace6d24c82f0]
    annotation/format/FAD  [md5: 0a89d6186c66e362837b13d806d2c40f]
    annotation/format/FGT  [md5: 0eac5e6dbf8eea9f2a7b2cee38755a00]
Done.  # 2025-10-14 22:12:58
Optimize the access efficiency ...
Clean up the fragments of GDS file:
    open the file '/tmp/Rtmpu7X1gU/newgds33a42dbb9b1a.gds' (25.8K)
    # of fragments: 129
    save to '/tmp/Rtmpu7X1gU/newgds33a42dbb9b1a.gds.tmp'
    rename '/tmp/Rtmpu7X1gU/newgds33a42dbb9b1a.gds.tmp' (25.0K, reduced: 780B)
    # of fragments: 64
##> 2025-10-14 22:12:58
Loading GDS file.
Reformatting FGT
Working on 'genotype' ...
Working on 'phase' ...
Working on 'annotation/format/AD' ...
Working on 'annotation/format/FAD' ...
Working on 'annotation/format/FGT' ...
Clean up the fragments of GDS file:
    open the file '/private/tmp/Rtmpu7X1gU/newgds33a42dbb9b1a.gds' (43.1K)
    # of fragments: 86
    save to '/private/tmp/Rtmpu7X1gU/newgds33a42dbb9b1a.gds.tmp'
    rename '/private/tmp/Rtmpu7X1gU/newgds33a42dbb9b1a.gds.tmp' (41.9K, reduced: 1.2K)
    # of fragments: 74
The connection to the GDS file was closed.
The connection to the GDS file was closed.
Loading GDS file.
Working on 'genotype' ...
Working on 'phase' ...
Working on 'annotation/format/AD' ...
Clean up the fragments of GDS file:
    open the file '/private/tmp/Rtmpu7X1gU/sample33a413fdb6e8.gds' (95.5K)
    # of fragments: 69
    save to '/private/tmp/Rtmpu7X1gU/sample33a413fdb6e8.gds.tmp'
    rename '/private/tmp/Rtmpu7X1gU/sample33a413fdb6e8.gds.tmp' (95.4K, reduced: 108B)
    # of fragments: 60
As `mating` was not specified, set the following mating design.
     [,1]
[1,]    3
[2,]    3
Member IDs were not assigned to samples.
Assign 4 to all samples as member ID.
Set the number of threads: 1
Start cleaning...
Preparing genotype and haplotype pattern table...
Possible allele dosages: 0 1 2
Number of possible founder genotypes: 2
Member ID(s) to be processed: 4
Number of offspring haplotypes: 4

Now cleaning chr 1...

Cycle 1: 

Forward round of genotype estimation ...

Founder genotype probability calculation ...                                                                      
Founder genotype probability calculation at marker#: 10                                                                      
Founder genotype probability calculation at marker#: 20                                                                      
Founder genotype probability calculation at marker#: 30                                                                      
Founder genotype probability calculation at marker#: 40                                                                      
Founder genotype probability calculation at marker#: 50                                                                      
Founder genotype probability calculation at marker#: 60                                                                      
Founder genotype probability calculation at marker#: 70                                                                      
Founder genotype probability calculation at marker#: 80                                                                      
Founder genotype probability calculation at marker#: 90                                                                      
Founder genotype probability calculation at marker#: 100                                                                      
Founder genotype probability calculation at marker#: 110                                                                      
Founder genotype probability calculation at marker#: 120                                                                      
Founder genotype probability calculation at marker#: 130                                                                      
Founder genotype probability calculation at marker#: 140                                                                      
Founder genotype probability calculation at marker#: 150                                                                      
Founder genotype probability calculation at marker#: 160                                                                      
Founder genotype probability calculation at marker#: 170                                                                      
Founder genotype probability calculation at marker#: 180                                                                      
Founder genotype probability calculation at marker#: 190                                                                      
Founder genotype probability calculation at marker#: 200                                                                      
Founder genotype probability calculation at marker#: 210                                                                      
Founder genotype probability calculation at marker#: 220                                                                      
Founder genotype probability calculation at marker#: 230                                                                      
Founder genotype probability calculation at marker#: 240                                                                      
Backtracking best genotype sequences at marker#: 240                                                                      
Backtracking best genotype sequences at marker#: 230                                                                      
Backtracking best genotype sequences at marker#: 220                                                                      
Backtracking best genotype sequences at marker#: 210                                                                      
Backtracking best genotype sequences at marker#: 200                                                                      
Backtracking best genotype sequences at marker#: 190                                                                      
Backtracking best genotype sequences at marker#: 180                                                                      
Backtracking best genotype sequences at marker#: 170                                                                      
Backtracking best genotype sequences at marker#: 160                                                                      
Backtracking best genotype sequences at marker#: 150                                                                      
Backtracking best genotype sequences at marker#: 140                                                                      
Backtracking best genotype sequences at marker#: 130                                                                      
Backtracking best genotype sequences at marker#: 120                                                                      
Backtracking best genotype sequences at marker#: 110                                                                      
Backtracking best genotype sequences at marker#: 100                                                                      
Backtracking best genotype sequences at marker#: 90                                                                      
Backtracking best genotype sequences at marker#: 80                                                                      
Backtracking best genotype sequences at marker#: 70                                                                      
Backtracking best genotype sequences at marker#: 60                                                                      
Backtracking best genotype sequences at marker#: 50                                                                      
Backtracking best genotype sequences at marker#: 40                                                                      
Backtracking best genotype sequences at marker#: 30                                                                      
Backtracking best genotype sequences at marker#: 20                                                                      
Backtracking best genotype sequences at marker#: 10                                                                      
Backtracking best genotype sequences: Done!                                                                      
Offspring genotype probability calculation ...                                                                      
                                                                      
Backward round of genotype estimation  ...

Founder genotype probability calculation ...                                                                      
Founder genotype probability calculation at marker#: 10                                                                      
Founder genotype probability calculation at marker#: 20                                                                      
Founder genotype probability calculation at marker#: 30                                                                      
Founder genotype probability calculation at marker#: 40                                                                      
Founder genotype probability calculation at marker#: 50                                                                      
Founder genotype probability calculation at marker#: 60                                                                      
Founder genotype probability calculation at marker#: 70                                                                      
Founder genotype probability calculation at marker#: 80                                                                      
Founder genotype probability calculation at marker#: 90                                                                      
Founder genotype probability calculation at marker#: 100                                                                      
Founder genotype probability calculation at marker#: 110                                                                      
Founder genotype probability calculation at marker#: 120                                                                      
Founder genotype probability calculation at marker#: 130                                                                      
Founder genotype probability calculation at marker#: 140                                                                      
Founder genotype probability calculation at marker#: 150                                                                      
Founder genotype probability calculation at marker#: 160                                                                      
Founder genotype probability calculation at marker#: 170                                                                      
Founder genotype probability calculation at marker#: 180                                                                      
Founder genotype probability calculation at marker#: 190                                                                      
Founder genotype probability calculation at marker#: 200                                                                      
Founder genotype probability calculation at marker#: 210                                                                      
Founder genotype probability calculation at marker#: 220                                                                      
Founder genotype probability calculation at marker#: 230                                                                      
Founder genotype probability calculation at marker#: 240                                                                      
Backtracking best genotype sequences at marker#: 240                                                                      
Backtracking best genotype sequences at marker#: 230                                                                      
Backtracking best genotype sequences at marker#: 220                                                                      
Backtracking best genotype sequences at marker#: 210                                                                      
Backtracking best genotype sequences at marker#: 200                                                                      
Backtracking best genotype sequences at marker#: 190                                                                      
Backtracking best genotype sequences at marker#: 180                                                                      
Backtracking best genotype sequences at marker#: 170                                                                      
Backtracking best genotype sequences at marker#: 160                                                                      
Backtracking best genotype sequences at marker#: 150                                                                      
Backtracking best genotype sequences at marker#: 140                                                                      
Backtracking best genotype sequences at marker#: 130                                                                      
Backtracking best genotype sequences at marker#: 120                                                                      
Backtracking best genotype sequences at marker#: 110                                                                      
Backtracking best genotype sequences at marker#: 100                                                                      
Backtracking best genotype sequences at marker#: 90                                                                      
Backtracking best genotype sequences at marker#: 80                                                                      
Backtracking best genotype sequences at marker#: 70                                                                      
Backtracking best genotype sequences at marker#: 60                                                                      
Backtracking best genotype sequences at marker#: 50                                                                      
Backtracking best genotype sequences at marker#: 40                                                                      
Backtracking best genotype sequences at marker#: 30                                                                      
Backtracking best genotype sequences at marker#: 20                                                                      
Backtracking best genotype sequences at marker#: 10                                                                      
Backtracking best genotype sequences: Done!                                                                      
Offspring genotype probability calculation ...                                                                      
                                                                      
Paramter optimization ...

Cycle 2: 

Forward round of genotype estimation ...

Founder genotype probability calculation ...                                                                      
Founder genotype probability calculation at marker#: 10                                                                      
Founder genotype probability calculation at marker#: 20                                                                      
Founder genotype probability calculation at marker#: 30                                                                      
Founder genotype probability calculation at marker#: 40                                                                      
Founder genotype probability calculation at marker#: 50                                                                      
Founder genotype probability calculation at marker#: 60                                                                      
Founder genotype probability calculation at marker#: 70                                                                      
Founder genotype probability calculation at marker#: 80                                                                      
Founder genotype probability calculation at marker#: 90                                                                      
Founder genotype probability calculation at marker#: 100                                                                      
Founder genotype probability calculation at marker#: 110                                                                      
Founder genotype probability calculation at marker#: 120                                                                      
Founder genotype probability calculation at marker#: 130                                                                      
Founder genotype probability calculation at marker#: 140                                                                      
Founder genotype probability calculation at marker#: 150                                                                      
Founder genotype probability calculation at marker#: 160                                                                      
Founder genotype probability calculation at marker#: 170                                                                      
Founder genotype probability calculation at marker#: 180                                                                      
Founder genotype probability calculation at marker#: 190                                                                      
Founder genotype probability calculation at marker#: 200                                                                      
Founder genotype probability calculation at marker#: 210                                                                      
Founder genotype probability calculation at marker#: 220                                                                      
Founder genotype probability calculation at marker#: 230                                                                      
Founder genotype probability calculation at marker#: 240                                                                      
Backtracking best genotype sequences at marker#: 240                                                                      
Backtracking best genotype sequences at marker#: 230                                                                      
Backtracking best genotype sequences at marker#: 220                                                                      
Backtracking best genotype sequences at marker#: 210                                                                      
Backtracking best genotype sequences at marker#: 200                                                                      
Backtracking best genotype sequences at marker#: 190                                                                      
Backtracking best genotype sequences at marker#: 180                                                                      
Backtracking best genotype sequences at marker#: 170                                                                      
Backtracking best genotype sequences at marker#: 160                                                                      
Backtracking best genotype sequences at marker#: 150                                                                      
Backtracking best genotype sequences at marker#: 140                                                                      
Backtracking best genotype sequences at marker#: 130                                                                      
Backtracking best genotype sequences at marker#: 120                                                                      
Backtracking best genotype sequences at marker#: 110                                                                      
Backtracking best genotype sequences at marker#: 100                                                                      
Backtracking best genotype sequences at marker#: 90                                                                      
Backtracking best genotype sequences at marker#: 80                                                                      
Backtracking best genotype sequences at marker#: 70                                                                      
Backtracking best genotype sequences at marker#: 60                                                                      
Backtracking best genotype sequences at marker#: 50                                                                      
Backtracking best genotype sequences at marker#: 40                                                                      
Backtracking best genotype sequences at marker#: 30                                                                      
Backtracking best genotype sequences at marker#: 20                                                                      
Backtracking best genotype sequences at marker#: 10                                                                      
Backtracking best genotype sequences: Done!                                                                      
Offspring genotype probability calculation ...                                                                      
                                                                      
Backward round of genotype estimation  ...

Founder genotype probability calculation ...                                                                      
Founder genotype probability calculation at marker#: 10                                                                      
Founder genotype probability calculation at marker#: 20                                                                      
Founder genotype probability calculation at marker#: 30                                                                      
Founder genotype probability calculation at marker#: 40                                                                      
Founder genotype probability calculation at marker#: 50                                                                      
Founder genotype probability calculation at marker#: 60                                                                      
Founder genotype probability calculation at marker#: 70                                                                      
Founder genotype probability calculation at marker#: 80                                                                      
Founder genotype probability calculation at marker#: 90                                                                      
Founder genotype probability calculation at marker#: 100                                                                      
Founder genotype probability calculation at marker#: 110                                                                      
Founder genotype probability calculation at marker#: 120                                                                      
Founder genotype probability calculation at marker#: 130                                                                      
Founder genotype probability calculation at marker#: 140                                                                      
Founder genotype probability calculation at marker#: 150                                                                      
Founder genotype probability calculation at marker#: 160                                                                      
Founder genotype probability calculation at marker#: 170                                                                      
Founder genotype probability calculation at marker#: 180                                                                      
Founder genotype probability calculation at marker#: 190                                                                      
Founder genotype probability calculation at marker#: 200                                                                      
Founder genotype probability calculation at marker#: 210                                                                      
Founder genotype probability calculation at marker#: 220                                                                      
Founder genotype probability calculation at marker#: 230                                                                      
Founder genotype probability calculation at marker#: 240                                                                      
Backtracking best genotype sequences at marker#: 240                                                                      
Backtracking best genotype sequences at marker#: 230                                                                      
Backtracking best genotype sequences at marker#: 220                                                                      
Backtracking best genotype sequences at marker#: 210                                                                      
Backtracking best genotype sequences at marker#: 200                                                                      
Backtracking best genotype sequences at marker#: 190                                                                      
Backtracking best genotype sequences at marker#: 180                                                                      
Backtracking best genotype sequences at marker#: 170                                                                      
Backtracking best genotype sequences at marker#: 160                                                                      
Backtracking best genotype sequences at marker#: 150                                                                      
Backtracking best genotype sequences at marker#: 140                                                                      
Backtracking best genotype sequences at marker#: 130                                                                      
Backtracking best genotype sequences at marker#: 120                                                                      
Backtracking best genotype sequences at marker#: 110                                                                      
Backtracking best genotype sequences at marker#: 100                                                                      
Backtracking best genotype sequences at marker#: 90                                                                      
Backtracking best genotype sequences at marker#: 80                                                                      
Backtracking best genotype sequences at marker#: 70                                                                      
Backtracking best genotype sequences at marker#: 60                                                                      
Backtracking best genotype sequences at marker#: 50                                                                      
Backtracking best genotype sequences at marker#: 40                                                                      
Backtracking best genotype sequences at marker#: 30                                                                      
Backtracking best genotype sequences at marker#: 20                                                                      
Backtracking best genotype sequences at marker#: 10                                                                      
Backtracking best genotype sequences: Done!                                                                      
Offspring genotype probability calculation ...                                                                      
                                                                      
Paramter optimization ...

Cycle 3: 

Forward round of genotype estimation ...

Founder genotype probability calculation ...                                                                      
Founder genotype probability calculation at marker#: 10                                                                      
Founder genotype probability calculation at marker#: 20                                                                      
Founder genotype probability calculation at marker#: 30                                                                      
Founder genotype probability calculation at marker#: 40                                                                      
Founder genotype probability calculation at marker#: 50                                                                      
Founder genotype probability calculation at marker#: 60                                                                      
Founder genotype probability calculation at marker#: 70                                                                      
Founder genotype probability calculation at marker#: 80                                                                      
Founder genotype probability calculation at marker#: 90                                                                      
Founder genotype probability calculation at marker#: 100                                                                      
Founder genotype probability calculation at marker#: 110                                                                      
Founder genotype probability calculation at marker#: 120                                                                      
Founder genotype probability calculation at marker#: 130                                                                      
Founder genotype probability calculation at marker#: 140                                                                      
Founder genotype probability calculation at marker#: 150                                                                      
Founder genotype probability calculation at marker#: 160                                                                      
Founder genotype probability calculation at marker#: 170                                                                      
Founder genotype probability calculation at marker#: 180                                                                      
Founder genotype probability calculation at marker#: 190                                                                      
Founder genotype probability calculation at marker#: 200                                                                      
Founder genotype probability calculation at marker#: 210                                                                      
Founder genotype probability calculation at marker#: 220                                                                      
Founder genotype probability calculation at marker#: 230                                                                      
Founder genotype probability calculation at marker#: 240                                                                      
Backtracking best genotype sequences at marker#: 240                                                                      
Backtracking best genotype sequences at marker#: 230                                                                      
Backtracking best genotype sequences at marker#: 220                                                                      
Backtracking best genotype sequences at marker#: 210                                                                      
Backtracking best genotype sequences at marker#: 200                                                                      
Backtracking best genotype sequences at marker#: 190                                                                      
Backtracking best genotype sequences at marker#: 180                                                                      
Backtracking best genotype sequences at marker#: 170                                                                      
Backtracking best genotype sequences at marker#: 160                                                                      
Backtracking best genotype sequences at marker#: 150                                                                      
Backtracking best genotype sequences at marker#: 140                                                                      
Backtracking best genotype sequences at marker#: 130                                                                      
Backtracking best genotype sequences at marker#: 120                                                                      
Backtracking best genotype sequences at marker#: 110                                                                      
Backtracking best genotype sequences at marker#: 100                                                                      
Backtracking best genotype sequences at marker#: 90                                                                      
Backtracking best genotype sequences at marker#: 80                                                                      
Backtracking best genotype sequences at marker#: 70                                                                      
Backtracking best genotype sequences at marker#: 60                                                                      
Backtracking best genotype sequences at marker#: 50                                                                      
Backtracking best genotype sequences at marker#: 40                                                                      
Backtracking best genotype sequences at marker#: 30                                                                      
Backtracking best genotype sequences at marker#: 20                                                                      
Backtracking best genotype sequences at marker#: 10                                                                      
Backtracking best genotype sequences: Done!                                                                      
Offspring genotype probability calculation ...                                                                      
                                                                      
Backward round of genotype estimation  ...

Founder genotype probability calculation ...                                                                      
Founder genotype probability calculation at marker#: 10                                                                      
Founder genotype probability calculation at marker#: 20                                                                      
Founder genotype probability calculation at marker#: 30                                                                      
Founder genotype probability calculation at marker#: 40                                                                      
Founder genotype probability calculation at marker#: 50                                                                      
Founder genotype probability calculation at marker#: 60                                                                      
Founder genotype probability calculation at marker#: 70                                                                      
Founder genotype probability calculation at marker#: 80                                                                      
Founder genotype probability calculation at marker#: 90                                                                      
Founder genotype probability calculation at marker#: 100                                                                      
Founder genotype probability calculation at marker#: 110                                                                      
Founder genotype probability calculation at marker#: 120                                                                      
Founder genotype probability calculation at marker#: 130                                                                      
Founder genotype probability calculation at marker#: 140                                                                      
Founder genotype probability calculation at marker#: 150                                                                      
Founder genotype probability calculation at marker#: 160                                                                      
Founder genotype probability calculation at marker#: 170                                                                      
Founder genotype probability calculation at marker#: 180                                                                      
Founder genotype probability calculation at marker#: 190                                                                      
Founder genotype probability calculation at marker#: 200                                                                      
Founder genotype probability calculation at marker#: 210                                                                      
Founder genotype probability calculation at marker#: 220                                                                      
Founder genotype probability calculation at marker#: 230                                                                      
Founder genotype probability calculation at marker#: 240                                                                      
Backtracking best genotype sequences at marker#: 240                                                                      
Backtracking best genotype sequences at marker#: 230                                                                      
Backtracking best genotype sequences at marker#: 220                                                                      
Backtracking best genotype sequences at marker#: 210                                                                      
Backtracking best genotype sequences at marker#: 200                                                                      
Backtracking best genotype sequences at marker#: 190                                                                      
Backtracking best genotype sequences at marker#: 180                                                                      
Backtracking best genotype sequences at marker#: 170                                                                      
Backtracking best genotype sequences at marker#: 160                                                                      
Backtracking best genotype sequences at marker#: 150                                                                      
Backtracking best genotype sequences at marker#: 140                                                                      
Backtracking best genotype sequences at marker#: 130                                                                      
Backtracking best genotype sequences at marker#: 120                                                                      
Backtracking best genotype sequences at marker#: 110                                                                      
Backtracking best genotype sequences at marker#: 100                                                                      
Backtracking best genotype sequences at marker#: 90                                                                      
Backtracking best genotype sequences at marker#: 80                                                                      
Backtracking best genotype sequences at marker#: 70                                                                      
Backtracking best genotype sequences at marker#: 60                                                                      
Backtracking best genotype sequences at marker#: 50                                                                      
Backtracking best genotype sequences at marker#: 40                                                                      
Backtracking best genotype sequences at marker#: 30                                                                      
Backtracking best genotype sequences at marker#: 20                                                                      
Backtracking best genotype sequences at marker#: 10                                                                      
Backtracking best genotype sequences: Done!                                                                      
Offspring genotype probability calculation ...                                                                      
                                                                      
Paramter optimization ...

Cycle 4: 

Forward round of genotype estimation ...

Founder genotype probability calculation ...                                                                      
Founder genotype probability calculation at marker#: 10                                                                      
Founder genotype probability calculation at marker#: 20                                                                      
Founder genotype probability calculation at marker#: 30                                                                      
Founder genotype probability calculation at marker#: 40                                                                      
Founder genotype probability calculation at marker#: 50                                                                      
Founder genotype probability calculation at marker#: 60                                                                      
Founder genotype probability calculation at marker#: 70                                                                      
Founder genotype probability calculation at marker#: 80                                                                      
Founder genotype probability calculation at marker#: 90                                                                      
Founder genotype probability calculation at marker#: 100                                                                      
Founder genotype probability calculation at marker#: 110                                                                      
Founder genotype probability calculation at marker#: 120                                                                      
Founder genotype probability calculation at marker#: 130                                                                      
Founder genotype probability calculation at marker#: 140                                                                      
Founder genotype probability calculation at marker#: 150                                                                      
Founder genotype probability calculation at marker#: 160                                                                      
Founder genotype probability calculation at marker#: 170                                                                      
Founder genotype probability calculation at marker#: 180                                                                      
Founder genotype probability calculation at marker#: 190                                                                      
Founder genotype probability calculation at marker#: 200                                                                      
Founder genotype probability calculation at marker#: 210                                                                      
Founder genotype probability calculation at marker#: 220                                                                      
Founder genotype probability calculation at marker#: 230                                                                      
Founder genotype probability calculation at marker#: 240                                                                      
Backtracking best genotype sequences at marker#: 240                                                                      
Backtracking best genotype sequences at marker#: 230                                                                      
Backtracking best genotype sequences at marker#: 220                                                                      
Backtracking best genotype sequences at marker#: 210                                                                      
Backtracking best genotype sequences at marker#: 200                                                                      
Backtracking best genotype sequences at marker#: 190                                                                      
Backtracking best genotype sequences at marker#: 180                                                                      
Backtracking best genotype sequences at marker#: 170                                                                      
Backtracking best genotype sequences at marker#: 160                                                                      
Backtracking best genotype sequences at marker#: 150                                                                      
Backtracking best genotype sequences at marker#: 140                                                                      
Backtracking best genotype sequences at marker#: 130                                                                      
Backtracking best genotype sequences at marker#: 120                                                                      
Backtracking best genotype sequences at marker#: 110                                                                      
Backtracking best genotype sequences at marker#: 100                                                                      
Backtracking best genotype sequences at marker#: 90                                                                      
Backtracking best genotype sequences at marker#: 80                                                                      
Backtracking best genotype sequences at marker#: 70                                                                      
Backtracking best genotype sequences at marker#: 60                                                                      
Backtracking best genotype sequences at marker#: 50                                                                      
Backtracking best genotype sequences at marker#: 40                                                                      
Backtracking best genotype sequences at marker#: 30                                                                      
Backtracking best genotype sequences at marker#: 20                                                                      
Backtracking best genotype sequences at marker#: 10                                                                      
Backtracking best genotype sequences: Done!                                                                      
Offspring genotype probability calculation ...                                                                      
                                                                      
Backward round of genotype estimation  ...

Founder genotype probability calculation ...                                                                      
Founder genotype probability calculation at marker#: 10                                                                      
Founder genotype probability calculation at marker#: 20                                                                      
Founder genotype probability calculation at marker#: 30                                                                      
Founder genotype probability calculation at marker#: 40                                                                      
Founder genotype probability calculation at marker#: 50                                                                      
Founder genotype probability calculation at marker#: 60                                                                      
Founder genotype probability calculation at marker#: 70                                                                      
Founder genotype probability calculation at marker#: 80                                                                      
Founder genotype probability calculation at marker#: 90                                                                      
Founder genotype probability calculation at marker#: 100                                                                      
Founder genotype probability calculation at marker#: 110                                                                      
Founder genotype probability calculation at marker#: 120                                                                      
Founder genotype probability calculation at marker#: 130                                                                      
Founder genotype probability calculation at marker#: 140                                                                      
Founder genotype probability calculation at marker#: 150                                                                      
Founder genotype probability calculation at marker#: 160                                                                      
Founder genotype probability calculation at marker#: 170                                                                      
Founder genotype probability calculation at marker#: 180                                                                      
Founder genotype probability calculation at marker#: 190                                                                      
Founder genotype probability calculation at marker#: 200                                                                      
Founder genotype probability calculation at marker#: 210                                                                      
Founder genotype probability calculation at marker#: 220                                                                      
Founder genotype probability calculation at marker#: 230                                                                      
Founder genotype probability calculation at marker#: 240                                                                      
Backtracking best genotype sequences at marker#: 240                                                                      
Backtracking best genotype sequences at marker#: 230                                                                      
Backtracking best genotype sequences at marker#: 220                                                                      
Backtracking best genotype sequences at marker#: 210                                                                      
Backtracking best genotype sequences at marker#: 200                                                                      
Backtracking best genotype sequences at marker#: 190                                                                      
Backtracking best genotype sequences at marker#: 180                                                                      
Backtracking best genotype sequences at marker#: 170                                                                      
Backtracking best genotype sequences at marker#: 160                                                                      
Backtracking best genotype sequences at marker#: 150                                                                      
Backtracking best genotype sequences at marker#: 140                                                                      
Backtracking best genotype sequences at marker#: 130                                                                      
Backtracking best genotype sequences at marker#: 120                                                                      
Backtracking best genotype sequences at marker#: 110                                                                      
Backtracking best genotype sequences at marker#: 100                                                                      
Backtracking best genotype sequences at marker#: 90                                                                      
Backtracking best genotype sequences at marker#: 80                                                                      
Backtracking best genotype sequences at marker#: 70                                                                      
Backtracking best genotype sequences at marker#: 60                                                                      
Backtracking best genotype sequences at marker#: 50                                                                      
Backtracking best genotype sequences at marker#: 40                                                                      
Backtracking best genotype sequences at marker#: 30                                                                      
Backtracking best genotype sequences at marker#: 20                                                                      
Backtracking best genotype sequences at marker#: 10                                                                      
Backtracking best genotype sequences: Done!                                                                      
Offspring genotype probability calculation ...                                                                      
                                                                      
Summarizing output ...

Done!
The connection to the GDS file was closed.
[ FAIL 0 | WARN 0 | SKIP 0 | PASS 271 ]
> 
> proc.time()
   user  system elapsed 
 37.033   1.416  38.742 

Example timings

GBScleanR.Rcheck/GBScleanR-Ex.timings

nameusersystemelapsed
GbsrGenotypeData-class0.0180.0050.026
GbsrScheme-class0.0110.0020.013
addScheme0.0090.0030.013
assignScheme0.0860.0030.091
boxplotGBSR1.1500.0551.216
closeGDS0.0060.0030.009
countGenotype1.0100.0431.068
countRead1.0350.0151.063
estGeno4.1270.1804.350
gbsrGDS2CSV0.0200.0040.023
gbsrGDS2VCF0.0040.0020.006
gbsrVCF2GDS0.1000.0340.149
getAllele0.0050.0020.007
getChromosome0.0050.0020.007
getCountAlleleAlt0.5700.0040.574
getCountAlleleMissing0.5680.0040.572
getCountAlleleRef0.5810.0040.586
getCountGenoAlt0.5460.0040.552
getCountGenoHet0.5630.0040.570
getCountGenoMissing0.5620.0040.567
getCountGenoRef0.5640.0040.568
getCountRead0.5760.0050.581
getCountReadAlt0.5900.0040.594
getCountReadRef0.5870.0040.592
getFixedParameter0.0910.0350.139
getGenotype0.0360.0020.038
getHaplotype4.1250.1244.254
getInfo0.0060.0020.008
getMAC0.5850.0060.591
getMAF0.5880.0040.592
getMarID0.0060.0030.009
getMeanReadAlt0.6040.0050.609
getMeanReadRef0.5850.0050.591
getMedianReadAlt0.5940.0050.599
getMedianReadRef0.6110.0050.617
getParents0.0080.0020.011
getPloidy0.0040.0010.006
getPosition0.0050.0020.007
getRead0.0080.0020.010
getReplicates0.0050.0020.008
getSDReadAlt0.5920.0050.596
getSDReadRef0.6200.0050.626
getSamID0.0050.0020.008
histGBSR0.9370.0080.945
initScheme0.0070.0020.010
isOpenGDS0.0060.0020.008
loadGDS0.0950.0370.147
makeScheme0.0070.0020.010
nmar0.0040.0010.006
nsam0.0040.0010.006
pairsGBSR0.8390.0080.846
plotDosage0.3470.0150.362
plotGBSR1.0180.0271.052
plotReadRatio0.3000.0210.322
reopenGDS0.0070.0030.010
resetCallFilter0.7590.0630.845
resetFilter2.0410.0702.130
resetMarFilter1.2090.0071.286
resetSamFilter1.2910.0411.344
setCallFilter1.4070.0701.493
setFixedParameter0.0910.0350.141
setInfoFilter0.0050.0020.007
setMarFilter1.1430.0071.158
setParents4.0770.1334.262
setPloidy0.0040.0010.007
setReplicates0.0050.0020.006
setSamFilter1.1690.0051.175
showScheme0.0070.0020.009
thinMarker0.5970.0030.600
validMar0.0050.0030.007
validSam0.0040.0020.006