| Back to Multiple platform build/check report for BioC 3.22: simplified long |
|
This page was generated on 2025-11-11 12:03 -0500 (Tue, 11 Nov 2025).
| Hostname | OS | Arch (*) | R version | Installed pkgs |
|---|---|---|---|---|
| nebbiolo2 | Linux (Ubuntu 24.04.3 LTS) | x86_64 | 4.5.1 Patched (2025-08-23 r88802) -- "Great Square Root" | 4902 |
| kjohnson3 | macOS 13.7.7 Ventura | arm64 | 4.5.1 Patched (2025-09-10 r88807) -- "Great Square Root" | 4638 |
| Click on any hostname to see more info about the system (e.g. compilers) (*) as reported by 'uname -p', except on Windows and Mac OS X | ||||
| Package 765/2361 | Hostname | OS / Arch | INSTALL | BUILD | CHECK | BUILD BIN | ||||||||
| FlowSOM 2.18.0 (landing page) Sofie Van Gassen
| nebbiolo2 | Linux (Ubuntu 24.04.3 LTS) / x86_64 | OK | OK | OK | |||||||||
| kjohnson3 | macOS 13.7.7 Ventura / arm64 | OK | OK | OK | OK | |||||||||
|
To the developers/maintainers of the FlowSOM package: - Allow up to 24 hours (and sometimes 48 hours) for your latest push to git@git.bioconductor.org:packages/FlowSOM.git to reflect on this report. See Troubleshooting Build Report for more information. - Use the following Renviron settings to reproduce errors and warnings. - If 'R CMD check' started to fail recently on the Linux builder(s) over a missing dependency, add the missing dependency to 'Suggests:' in your DESCRIPTION file. See Renviron.bioc for more information. |
| Package: FlowSOM |
| Version: 2.18.0 |
| Command: /Library/Frameworks/R.framework/Resources/bin/R CMD check --install=check:FlowSOM.install-out.txt --library=/Library/Frameworks/R.framework/Resources/library --no-vignettes --timings FlowSOM_2.18.0.tar.gz |
| StartedAt: 2025-11-10 20:05:27 -0500 (Mon, 10 Nov 2025) |
| EndedAt: 2025-11-10 20:09:05 -0500 (Mon, 10 Nov 2025) |
| EllapsedTime: 217.7 seconds |
| RetCode: 0 |
| Status: OK |
| CheckDir: FlowSOM.Rcheck |
| Warnings: 0 |
##############################################################################
##############################################################################
###
### Running command:
###
### /Library/Frameworks/R.framework/Resources/bin/R CMD check --install=check:FlowSOM.install-out.txt --library=/Library/Frameworks/R.framework/Resources/library --no-vignettes --timings FlowSOM_2.18.0.tar.gz
###
##############################################################################
##############################################################################
* using log directory ‘/Users/biocbuild/bbs-3.22-bioc/meat/FlowSOM.Rcheck’
* using R version 4.5.1 Patched (2025-09-10 r88807)
* using platform: aarch64-apple-darwin20
* R was compiled by
Apple clang version 16.0.0 (clang-1600.0.26.6)
GNU Fortran (GCC) 14.2.0
* running under: macOS Ventura 13.7.7
* using session charset: UTF-8
* using option ‘--no-vignettes’
* checking for file ‘FlowSOM/DESCRIPTION’ ... OK
* this is package ‘FlowSOM’ version ‘2.18.0’
* package encoding: UTF-8
* checking package namespace information ... OK
* checking package dependencies ... OK
* checking if this is a source package ... OK
* checking if there is a namespace ... OK
* checking for hidden files and directories ... OK
* checking for portable file names ... OK
* checking for sufficient/correct file permissions ... OK
* checking whether package ‘FlowSOM’ can be installed ... OK
* used C compiler: ‘Apple clang version 15.0.0 (clang-1500.1.0.2.5)’
* used SDK: ‘MacOSX11.3.1.sdk’
* checking installed package size ... OK
* checking package directory ... OK
* checking ‘build’ directory ... OK
* checking DESCRIPTION meta-information ... OK
* checking top-level files ... OK
* checking for left-over files ... OK
* checking index information ... OK
* checking package subdirectories ... OK
* checking code files for non-ASCII characters ... OK
* checking R files for syntax errors ... OK
* checking whether the package can be loaded ... OK
* checking whether the package can be loaded with stated dependencies ... OK
* checking whether the package can be unloaded cleanly ... OK
* checking whether the namespace can be loaded with stated dependencies ... OK
* checking whether the namespace can be unloaded cleanly ... OK
* checking whether startup messages can be suppressed ... OK
* checking dependencies in R code ... OK
* checking S3 generic/method consistency ... OK
* checking replacement functions ... OK
* checking foreign function calls ... OK
* checking R code for possible problems ... OK
* checking Rd files ... NOTE
checkRd: (-1) PlotDimRed.Rd:55: Lost braces
55 | of the dimred default = function(dimred){dimred$Y}.}
| ^
* checking Rd metadata ... OK
* checking Rd cross-references ... NOTE
Non-topic package-anchored link(s) in Rd file 'pipe.Rd':
‘[magrittr:pipe]{%>%}’
See section 'Cross-references' in the 'Writing R Extensions' manual.
* checking for missing documentation entries ... OK
* checking for code/documentation mismatches ... OK
* checking Rd \usage sections ... OK
* checking Rd contents ... OK
* checking for unstated dependencies in examples ... OK
* checking line endings in C/C++/Fortran sources/headers ... OK
* checking compiled code ... NOTE
Note: information on .o files is not available
* checking sizes of PDF files under ‘inst/doc’ ... OK
* checking files in ‘vignettes’ ... OK
* checking examples ... OK
Examples with CPU (user + system) or elapsed time > 5s
user system elapsed
FlowSOMmary 19.432 1.247 21.061
PlotDimRed 16.889 1.459 18.981
PlotOutliers 9.765 0.412 10.220
PlotMarker 6.608 0.607 7.285
UpdateMetaclusters 5.915 0.629 6.639
PlotStars 5.151 0.550 5.717
* checking for unstated dependencies in vignettes ... OK
* checking package vignettes ... OK
* checking running R code from vignettes ... SKIPPED
* checking re-building of vignette outputs ... SKIPPED
* checking PDF version of manual ... OK
* DONE
Status: 3 NOTEs
See
‘/Users/biocbuild/bbs-3.22-bioc/meat/FlowSOM.Rcheck/00check.log’
for details.
FlowSOM.Rcheck/00install.out
############################################################################## ############################################################################## ### ### Running command: ### ### /Library/Frameworks/R.framework/Resources/bin/R CMD INSTALL FlowSOM ### ############################################################################## ############################################################################## * installing to library ‘/Library/Frameworks/R.framework/Versions/4.5-arm64/Resources/library’ * installing *source* package ‘FlowSOM’ ... ** this is package ‘FlowSOM’ version ‘2.18.0’ ** using staged installation ** libs using C compiler: ‘Apple clang version 15.0.0 (clang-1500.1.0.2.5)’ using SDK: ‘MacOSX11.3.1.sdk’ clang -arch arm64 -std=gnu2x -I"/Library/Frameworks/R.framework/Resources/include" -DNDEBUG -I/opt/R/arm64/include -fPIC -falign-functions=64 -Wall -g -O2 -c som.c -o som.o clang -arch arm64 -std=gnu2x -dynamiclib -Wl,-headerpad_max_install_names -undefined dynamic_lookup -L/Library/Frameworks/R.framework/Resources/lib -L/opt/R/arm64/lib -o FlowSOM.so som.o -F/Library/Frameworks/R.framework/.. -framework R installing to /Library/Frameworks/R.framework/Versions/4.5-arm64/Resources/library/00LOCK-FlowSOM/00new/FlowSOM/libs ** R ** inst ** byte-compile and prepare package for lazy loading ** help *** installing help indices ** building package indices ** installing vignettes ** testing if installed package can be loaded from temporary location ** checking absolute paths in shared objects and dynamic libraries ** testing if installed package can be loaded from final location ** testing if installed package keeps a record of temporary installation path * DONE (FlowSOM)
FlowSOM.Rcheck/FlowSOM-Ex.timings
| name | user | system | elapsed | |
| AddAnnotation | 3.009 | 0.181 | 3.235 | |
| AggregateFlowFrames | 0.036 | 0.005 | 0.040 | |
| BuildMST | 0.555 | 0.049 | 0.614 | |
| BuildSOM | 0.387 | 0.033 | 0.419 | |
| CountGroups | 2.288 | 0.274 | 2.568 | |
| FMeasure | 0 | 0 | 0 | |
| FlowSOM | 4.362 | 0.496 | 4.950 | |
| FlowSOMSubset | 1.522 | 0.146 | 1.719 | |
| FlowSOMmary | 19.432 | 1.247 | 21.061 | |
| GetChannels | 0.013 | 0.002 | 0.015 | |
| GetClusterMFIs | 1.583 | 0.248 | 1.837 | |
| GetClusterPercentagesPositive | 1.618 | 0.263 | 1.892 | |
| GetClusters | 1.683 | 0.236 | 1.941 | |
| GetCounts | 1.670 | 0.218 | 1.902 | |
| GetFeatures | 1.960 | 0.193 | 2.209 | |
| GetFlowJoLabels | 2.795 | 0.310 | 3.192 | |
| GetMFIs | 1.744 | 0.333 | 2.091 | |
| GetMarkers | 0.013 | 0.002 | 0.015 | |
| GetMetaclusterCVs | 1.757 | 0.308 | 2.075 | |
| GetMetaclusterMFIs | 1.715 | 0.257 | 1.986 | |
| GetMetaclusterPercentagesPositive | 1.737 | 0.269 | 2.006 | |
| GetMetaclusters | 1.748 | 0.316 | 2.081 | |
| GetPercentages | 1.896 | 0.331 | 2.240 | |
| GroupStats | 4.398 | 0.463 | 4.914 | |
| Initialize_KWSP | 0.001 | 0.000 | 0.002 | |
| Initialize_PCA | 0 | 0 | 0 | |
| MetaClustering | 1.040 | 0.273 | 1.365 | |
| MetaclusterCVs | 1.707 | 0.357 | 2.077 | |
| MetaclusterMFIs | 1.881 | 0.370 | 2.387 | |
| NClusters | 2.092 | 0.429 | 2.600 | |
| NMetaclusters | 1.910 | 0.415 | 2.358 | |
| NewData | 1.557 | 0.217 | 1.816 | |
| Plot2DScatters | 3.350 | 0.358 | 3.728 | |
| PlotCenters | 0.420 | 0.056 | 0.494 | |
| PlotClusters2D | 0.393 | 0.052 | 0.444 | |
| PlotDimRed | 16.889 | 1.459 | 18.981 | |
| PlotFileScatters | 0.383 | 0.013 | 0.400 | |
| PlotFlowSOM | 2.385 | 0.393 | 2.794 | |
| PlotGroups | 4.006 | 0.602 | 4.772 | |
| PlotLabels | 2.283 | 0.369 | 2.784 | |
| PlotManualBars | 3.098 | 0.467 | 3.722 | |
| PlotMarker | 6.608 | 0.607 | 7.285 | |
| PlotNode | 2.478 | 0.289 | 2.778 | |
| PlotNumbers | 2.441 | 0.306 | 2.765 | |
| PlotOutliers | 9.765 | 0.412 | 10.220 | |
| PlotOverview2D | 2.051 | 0.212 | 2.264 | |
| PlotPies | 2.597 | 0.318 | 2.919 | |
| PlotSD | 0.775 | 0.087 | 0.875 | |
| PlotStars | 5.151 | 0.550 | 5.717 | |
| PlotVariable | 2.602 | 0.442 | 3.090 | |
| Purity | 0 | 0 | 0 | |
| QueryMultiple | 3.457 | 0.283 | 3.796 | |
| QueryStarPlot | 2.632 | 0.223 | 2.879 | |
| ReadInput | 1.062 | 0.238 | 1.302 | |
| SaveClustersToFCS | 2.042 | 0.387 | 2.436 | |
| TestOutliers | 1.847 | 0.317 | 2.172 | |
| UpdateMetaclusters | 5.915 | 0.629 | 6.639 | |
| UpdateNodeSize | 1.952 | 0.159 | 2.114 | |
| get_channels | 0.013 | 0.002 | 0.015 | |
| get_markers | 0.013 | 0.002 | 0.015 | |
| metaClustering_consensus | 0.838 | 0.215 | 1.068 | |
| plotStarLegend | 0.172 | 0.003 | 0.175 | |
| print.FlowSOM | 1.807 | 0.318 | 2.158 | |
| query_multiple | 3.336 | 0.267 | 3.621 | |