| Back to Multiple platform build/check report for BioC 3.21: simplified long |
|
This page was generated on 2025-08-18 11:41 -0400 (Mon, 18 Aug 2025).
| Hostname | OS | Arch (*) | R version | Installed pkgs |
|---|---|---|---|---|
| nebbiolo1 | Linux (Ubuntu 24.04.3 LTS) | x86_64 | 4.5.1 (2025-06-13) -- "Great Square Root" | 4824 |
| palomino7 | Windows Server 2022 Datacenter | x64 | 4.5.1 (2025-06-13 ucrt) -- "Great Square Root" | 4566 |
| merida1 | macOS 12.7.5 Monterey | x86_64 | 4.5.1 RC (2025-06-05 r88288) -- "Great Square Root" | 4604 |
| kjohnson1 | macOS 13.6.6 Ventura | arm64 | 4.5.1 Patched (2025-06-14 r88325) -- "Great Square Root" | 4545 |
| kunpeng2 | Linux (openEuler 24.03 LTS) | aarch64 | R Under development (unstable) (2025-02-19 r87757) -- "Unsuffered Consequences" | 4579 |
| Click on any hostname to see more info about the system (e.g. compilers) (*) as reported by 'uname -p', except on Windows and Mac OS X | ||||
| Package 730/2341 | Hostname | OS / Arch | INSTALL | BUILD | CHECK | BUILD BIN | ||||||||
| FindIT2 1.14.0 (landing page) Guandong Shang
| nebbiolo1 | Linux (Ubuntu 24.04.3 LTS) / x86_64 | OK | OK | OK | |||||||||
| palomino7 | Windows Server 2022 Datacenter / x64 | OK | OK | OK | OK | |||||||||
| merida1 | macOS 12.7.5 Monterey / x86_64 | OK | OK | OK | OK | |||||||||
| kjohnson1 | macOS 13.6.6 Ventura / arm64 | OK | OK | OK | OK | |||||||||
| kunpeng2 | Linux (openEuler 24.03 LTS) / aarch64 | OK | OK | OK | ||||||||||
|
To the developers/maintainers of the FindIT2 package: - Allow up to 24 hours (and sometimes 48 hours) for your latest push to git@git.bioconductor.org:packages/FindIT2.git to reflect on this report. See Troubleshooting Build Report for more information. - Use the following Renviron settings to reproduce errors and warnings. - If 'R CMD check' started to fail recently on the Linux builder(s) over a missing dependency, add the missing dependency to 'Suggests:' in your DESCRIPTION file. See Renviron.bioc for more information. |
| Package: FindIT2 |
| Version: 1.14.0 |
| Command: E:\biocbuild\bbs-3.21-bioc\R\bin\R.exe CMD check --no-multiarch --install=check:FindIT2.install-out.txt --library=E:\biocbuild\bbs-3.21-bioc\R\library --no-vignettes --timings FindIT2_1.14.0.tar.gz |
| StartedAt: 2025-08-15 02:12:56 -0400 (Fri, 15 Aug 2025) |
| EndedAt: 2025-08-15 02:19:50 -0400 (Fri, 15 Aug 2025) |
| EllapsedTime: 414.5 seconds |
| RetCode: 0 |
| Status: OK |
| CheckDir: FindIT2.Rcheck |
| Warnings: 0 |
##############################################################################
##############################################################################
###
### Running command:
###
### E:\biocbuild\bbs-3.21-bioc\R\bin\R.exe CMD check --no-multiarch --install=check:FindIT2.install-out.txt --library=E:\biocbuild\bbs-3.21-bioc\R\library --no-vignettes --timings FindIT2_1.14.0.tar.gz
###
##############################################################################
##############################################################################
* using log directory 'E:/biocbuild/bbs-3.21-bioc/meat/FindIT2.Rcheck'
* using R version 4.5.1 (2025-06-13 ucrt)
* using platform: x86_64-w64-mingw32
* R was compiled by
gcc.exe (GCC) 14.2.0
GNU Fortran (GCC) 14.2.0
* running under: Windows Server 2022 x64 (build 20348)
* using session charset: UTF-8
* using option '--no-vignettes'
* checking for file 'FindIT2/DESCRIPTION' ... OK
* this is package 'FindIT2' version '1.14.0'
* package encoding: UTF-8
* checking package namespace information ... OK
* checking package dependencies ... INFO
Imports includes 22 non-default packages.
Importing from so many packages makes the package vulnerable to any of
them becoming unavailable. Move as many as possible to Suggests and
use conditionally.
* checking if this is a source package ... OK
* checking if there is a namespace ... OK
* checking for hidden files and directories ... OK
* checking for portable file names ... OK
* checking whether package 'FindIT2' can be installed ... OK
* checking installed package size ... OK
* checking package directory ... OK
* checking 'build' directory ... OK
* checking DESCRIPTION meta-information ... OK
* checking top-level files ... OK
* checking for left-over files ... OK
* checking index information ... OK
* checking package subdirectories ... OK
* checking code files for non-ASCII characters ... OK
* checking R files for syntax errors ... OK
* checking whether the package can be loaded ... OK
* checking whether the package can be loaded with stated dependencies ... OK
* checking whether the package can be unloaded cleanly ... OK
* checking whether the namespace can be loaded with stated dependencies ... OK
* checking whether the namespace can be unloaded cleanly ... OK
* checking dependencies in R code ... OK
* checking S3 generic/method consistency ... OK
* checking replacement functions ... OK
* checking foreign function calls ... OK
* checking R code for possible problems ... OK
* checking Rd files ... OK
* checking Rd metadata ... OK
* checking Rd cross-references ... OK
* checking for missing documentation entries ... OK
* checking for code/documentation mismatches ... OK
* checking Rd \usage sections ... OK
* checking Rd contents ... OK
* checking for unstated dependencies in examples ... OK
* checking contents of 'data' directory ... OK
* checking data for non-ASCII characters ... OK
* checking data for ASCII and uncompressed saves ... OK
* checking files in 'vignettes' ... OK
* checking examples ... OK
Examples with CPU (user + system) or elapsed time > 5s
user system elapsed
findIT_regionRP 7.00 0.13 7.12
calcRP_region 6.37 0.12 6.50
* checking for unstated dependencies in 'tests' ... OK
* checking tests ...
Running 'testthat.R'
OK
* checking for unstated dependencies in vignettes ... OK
* checking package vignettes ... OK
* checking running R code from vignettes ... SKIPPED
* checking re-building of vignette outputs ... SKIPPED
* checking PDF version of manual ... OK
* DONE
Status: OK
FindIT2.Rcheck/00install.out
############################################################################## ############################################################################## ### ### Running command: ### ### E:\biocbuild\bbs-3.21-bioc\R\bin\R.exe CMD INSTALL FindIT2 ### ############################################################################## ############################################################################## * installing to library 'E:/biocbuild/bbs-3.21-bioc/R/library' * installing *source* package 'FindIT2' ... ** this is package 'FindIT2' version '1.14.0' ** using staged installation ** R ** data ** inst ** byte-compile and prepare package for lazy loading ** help *** installing help indices ** building package indices ** installing vignettes ** testing if installed package can be loaded from temporary location ** testing if installed package can be loaded from final location ** testing if installed package keeps a record of temporary installation path * DONE (FindIT2)
FindIT2.Rcheck/tests/testthat.Rout
R version 4.5.1 (2025-06-13 ucrt) -- "Great Square Root"
Copyright (C) 2025 The R Foundation for Statistical Computing
Platform: x86_64-w64-mingw32/x64
R is free software and comes with ABSOLUTELY NO WARRANTY.
You are welcome to redistribute it under certain conditions.
Type 'license()' or 'licence()' for distribution details.
R is a collaborative project with many contributors.
Type 'contributors()' for more information and
'citation()' on how to cite R or R packages in publications.
Type 'demo()' for some demos, 'help()' for on-line help, or
'help.start()' for an HTML browser interface to help.
Type 'q()' to quit R.
> library(testthat)
> library(FindIT2)
Loading required package: GenomicRanges
Loading required package: stats4
Loading required package: BiocGenerics
Loading required package: generics
Attaching package: 'generics'
The following objects are masked from 'package:base':
as.difftime, as.factor, as.ordered, intersect, is.element, setdiff,
setequal, union
Attaching package: 'BiocGenerics'
The following objects are masked from 'package:stats':
IQR, mad, sd, var, xtabs
The following objects are masked from 'package:base':
Filter, Find, Map, Position, Reduce, anyDuplicated, aperm, append,
as.data.frame, basename, cbind, colnames, dirname, do.call,
duplicated, eval, evalq, get, grep, grepl, is.unsorted, lapply,
mapply, match, mget, order, paste, pmax, pmax.int, pmin, pmin.int,
rank, rbind, rownames, sapply, saveRDS, table, tapply, unique,
unsplit, which.max, which.min
Loading required package: S4Vectors
Attaching package: 'S4Vectors'
The following object is masked from 'package:utils':
findMatches
The following objects are masked from 'package:base':
I, expand.grid, unname
Loading required package: IRanges
Attaching package: 'IRanges'
The following object is masked from 'package:grDevices':
windows
Loading required package: GenomeInfoDb
> if (!requireNamespace("TxDb.Athaliana.BioMart.plantsmart28")) {
+ stop("unable to load TxDb.Athaliana.BioMart.plantsmart28")
+ }
Loading required namespace: TxDb.Athaliana.BioMart.plantsmart28
>
> test_check("FindIT2")
>> checking seqlevels match... 2025-08-15 2:18:37 AM
>> your peak_GR seqlevel:Chr5...
>> your Txdb seqlevel:Chr1 Chr2 Chr3 Chr4 Chr5 ChrM ChrC...
Good, your Chrs in peak_GR is all in Txdb
------------
annotatePeak using geneScan mode begins
>> preparing gene features information and scan region... 2025-08-15 2:18:37 AM
>> some scan range may cross Chr bound, trimming... 2025-08-15 2:18:39 AM
>> finding overlap peak in gene scan region... 2025-08-15 2:18:39 AM
>> dealing with left peak not your gene scan region... 2025-08-15 2:18:40 AM
>> merging two set peaks... 2025-08-15 2:18:40 AM
>> calculating distance and dealing with gene strand... 2025-08-15 2:18:40 AM
>> merging all info together ... 2025-08-15 2:18:40 AM
>> done 2025-08-15 2:18:40 AM
>> calculating peakCenter to TSS using peak-gene pair... 2025-08-15 2:18:40 AM
>> pre-filling 1356 noAssoc peak gene's RP with 0... 2025-08-15 2:18:41 AM
>> calculating RP using centerToTSS and peak score2025-08-15 2:18:41 AM
>> merging all info together 2025-08-15 2:18:43 AM
>> done 2025-08-15 2:18:44 AM
>> calculating peakCenter to TSS using peak-gene pair... 2025-08-15 2:18:44 AM
>> pre-filling 1356 noAssoc peak gene's RP with 0... 2025-08-15 2:18:46 AM
>> calculating RP using centerToTSS and peak score2025-08-15 2:18:46 AM
>> merging all info together 2025-08-15 2:18:50 AM
>> done 2025-08-15 2:18:50 AM
>> checking seqlevels match... 2025-08-15 2:18:50 AM
>> your peak_GR seqlevel:Chr5...
>> your Txdb seqlevel:Chr1 Chr2 Chr3 Chr4 Chr5 ChrM ChrC...
Good, your Chrs in peak_GR is all in Txdb
------------
annotatePeak using geneScan mode begins
>> preparing gene features information and scan region... 2025-08-15 2:18:50 AM
>> some scan range may cross Chr bound, trimming... 2025-08-15 2:18:51 AM
>> finding overlap peak in gene scan region... 2025-08-15 2:18:51 AM
>> dealing with left peak not your gene scan region... 2025-08-15 2:18:51 AM
>> merging two set peaks... 2025-08-15 2:18:52 AM
>> calculating distance and dealing with gene strand... 2025-08-15 2:18:52 AM
>> merging all info together ... 2025-08-15 2:18:52 AM
>> done 2025-08-15 2:18:52 AM
>> calculating peakCenter to TSS using peak-gene pair... 2025-08-15 2:18:52 AM
>> calculating RP using centerToTSS and TF hit 2025-08-15 2:18:53 AM
>> merging all info together 2025-08-15 2:18:53 AM
>> done 2025-08-15 2:18:53 AM
>> calculating peakCenter to TSS using peak-gene pair... 2025-08-15 2:18:53 AM
>> calculating RP using centerToTSS and TF hit 2025-08-15 2:18:54 AM
>> merging all info together 2025-08-15 2:18:54 AM
>> done 2025-08-15 2:18:54 AM
>> checking seqlevels match... 2025-08-15 2:18:55 AM
>> your peak_GR seqlevel:Chr5...
>> your Txdb seqlevel:Chr1 Chr2 Chr3 Chr4 Chr5 ChrM ChrC...
Good, your Chrs in peak_GR is all in Txdb
------------
annotatePeak using geneScan mode begins
>> preparing gene features information and scan region... 2025-08-15 2:18:55 AM
>> some scan range may cross Chr bound, trimming... 2025-08-15 2:18:56 AM
>> finding overlap peak in gene scan region... 2025-08-15 2:18:56 AM
>> dealing with left peak not your gene scan region... 2025-08-15 2:18:56 AM
>> merging two set peaks... 2025-08-15 2:18:56 AM
>> calculating distance and dealing with gene strand... 2025-08-15 2:18:56 AM
>> merging all info together ... 2025-08-15 2:18:56 AM
>> done 2025-08-15 2:18:56 AM
>> calculating peakCenter to TSS using peak-gene pair... 2025-08-15 2:18:56 AM
>> pre-filling 1356 noAssoc peak gene's RP with 0... 2025-08-15 2:18:57 AM
>> calculating RP using centerToTSS and peak score2025-08-15 2:18:57 AM
>> merging all info together 2025-08-15 2:19:00 AM
>> done 2025-08-15 2:19:00 AM
>> extracting RP info from regionRP... 2025-08-15 2:19:01 AM
>> dealing with TF_GR_databse... 2025-08-15 2:19:01 AM
>> calculating percent and p-value... 2025-08-15 2:19:01 AM
>> dealing withE5_0h_R1... 2025-08-15 2:19:01 AM
>> dealing withE5_0h_R2... 2025-08-15 2:19:01 AM
>> dealing withE5_4h_R1... 2025-08-15 2:19:02 AM
>> dealing withE5_4h_R2... 2025-08-15 2:19:02 AM
>> dealing withE5_8h_R1... 2025-08-15 2:19:02 AM
>> dealing withE5_8h_R2... 2025-08-15 2:19:02 AM
>> dealing withE5_16h_R1... 2025-08-15 2:19:02 AM
>> dealing withE5_16h_R2... 2025-08-15 2:19:02 AM
>> dealing withE5_24h_R1... 2025-08-15 2:19:02 AM
>> dealing withE5_24h_R2... 2025-08-15 2:19:02 AM
>> dealing withE5_48h_R1... 2025-08-15 2:19:02 AM
>> dealing withE5_48h_R2... 2025-08-15 2:19:02 AM
>> dealing withE5_48h_R3... 2025-08-15 2:19:02 AM
>> dealing withE5_72h_R1... 2025-08-15 2:19:02 AM
>> dealing withE5_72h_R2... 2025-08-15 2:19:02 AM
>> dealing withE5_72h_R3... 2025-08-15 2:19:02 AM
>> merging all info together... 2025-08-15 2:19:02 AM
>> done 2025-08-15 2:19:03 AM
>> preparing gene features information... 2025-08-15 2:19:03 AM
>> some scan range may cross Chr bound, trimming... 2025-08-15 2:19:04 AM
>> calculating p-value for each TF, which may be time consuming... 2025-08-15 2:19:04 AM
>> merging all info together... 2025-08-15 2:19:04 AM
>> done 2025-08-15 2:19:04 AM
>> dealing with TF_GR_database... 2025-08-15 2:19:04 AM
>> calculating coef and converting into z-score using INT... 2025-08-15 2:19:04 AM
>> dealing with E5_0h_R1... 2025-08-15 2:19:04 AM
>> dealing with E5_0h_R2... 2025-08-15 2:19:05 AM
>> dealing with E5_4h_R1... 2025-08-15 2:19:05 AM
>> dealing with E5_4h_R2... 2025-08-15 2:19:05 AM
>> dealing with E5_8h_R1... 2025-08-15 2:19:05 AM
>> dealing with E5_8h_R2... 2025-08-15 2:19:05 AM
>> dealing with E5_16h_R1... 2025-08-15 2:19:05 AM
>> dealing with E5_16h_R2... 2025-08-15 2:19:05 AM
>> dealing with E5_24h_R1... 2025-08-15 2:19:05 AM
>> dealing with E5_24h_R2... 2025-08-15 2:19:05 AM
>> dealing with E5_48h_R1... 2025-08-15 2:19:05 AM
>> dealing with E5_48h_R2... 2025-08-15 2:19:05 AM
>> dealing with E5_48h_R3... 2025-08-15 2:19:06 AM
>> dealing with E5_72h_R1... 2025-08-15 2:19:06 AM
>> dealing with E5_72h_R2... 2025-08-15 2:19:06 AM
>> dealing with E5_72h_R3... 2025-08-15 2:19:06 AM
>> merging all info together... 2025-08-15 2:19:06 AM
>> done 2025-08-15 2:19:06 AM
>> checking seqlevels match... 2025-08-15 2:19:06 AM
>> your peak_GR seqlevel:Chr5...
>> your Txdb seqlevel:Chr1 Chr2 Chr3 Chr4 Chr5 ChrM ChrC...
Good, your Chrs in peak_GR is all in Txdb
------------
annotatePeak using geneScan mode begins
>> preparing gene features information and scan region... 2025-08-15 2:19:06 AM
>> some scan range may cross Chr bound, trimming... 2025-08-15 2:19:07 AM
>> finding overlap peak in gene scan region... 2025-08-15 2:19:07 AM
>> dealing with left peak not your gene scan region... 2025-08-15 2:19:07 AM
>> merging two set peaks... 2025-08-15 2:19:08 AM
>> calculating distance and dealing with gene strand... 2025-08-15 2:19:08 AM
>> merging all info together ... 2025-08-15 2:19:08 AM
>> done 2025-08-15 2:19:08 AM
>> calculating peakCenter to TSS using peak-gene pair... 2025-08-15 2:19:08 AM
>> calculating RP using centerToTSS and TF hit 2025-08-15 2:19:09 AM
>> merging all info together 2025-08-15 2:19:09 AM
>> done 2025-08-15 2:19:09 AM
>> checking seqlevels match... 2025-08-15 2:19:09 AM
>> your peak_GR seqlevel:5...
>> your Txdb seqlevel:Chr1 Chr2 Chr3 Chr4 Chr5 ChrM ChrC...
>> checking seqlevels match... 2025-08-15 2:19:09 AM
>> your peak_GR seqlevel:Chr5 Chr6...
>> your Txdb seqlevel:Chr1 Chr2 Chr3 Chr4 Chr5 ChrM ChrC...
>> checking seqlevels match... 2025-08-15 2:19:14 AM
>> your peak_GR seqlevel:Chr5...
>> your Txdb seqlevel:Chr1 Chr2 Chr3 Chr4 Chr5 ChrM ChrC...
Good, your Chrs in peak_GR is all in Txdb
>> checking seqlevels match... 2025-08-15 2:19:14 AM
>> your peak_GR seqlevel:Chr5...
>> your Txdb seqlevel:Chr1 Chr2 Chr3 Chr4 Chr5 ChrM ChrC...
Good, your Chrs in peak_GR is all in Txdb
------------
annotating Peak using nearest gene mode begins
>> preparing gene features information... 2025-08-15 2:19:14 AM
>> finding nearest gene and calculating distance... 2025-08-15 2:19:15 AM
>> dealing with gene strand ... 2025-08-15 2:19:15 AM
>> merging all info together ... 2025-08-15 2:19:15 AM
>> done 2025-08-15 2:19:15 AM
>> checking seqlevels match... 2025-08-15 2:19:15 AM
>> your peak_GR seqlevel:Chr5...
>> your Txdb seqlevel:Chr1 Chr2 Chr3 Chr4 Chr5 ChrM ChrC...
Good, your Chrs in peak_GR is all in Txdb
>> checking seqlevels match... 2025-08-15 2:19:16 AM
>> your peak_GR seqlevel:Chr5...
>> your Txdb seqlevel:Chr1 Chr2 Chr3 Chr4 Chr5 ChrM ChrC...
Good, your Chrs in peak_GR is all in Txdb
------------
annotating Peak using nearest gene mode begins
>> preparing gene features information... 2025-08-15 2:19:16 AM
>> finding nearest gene and calculating distance... 2025-08-15 2:19:16 AM
>> dealing with gene strand ... 2025-08-15 2:19:17 AM
>> merging all info together ... 2025-08-15 2:19:17 AM
>> done 2025-08-15 2:19:17 AM
>> checking seqlevels match... 2025-08-15 2:19:18 AM
>> your peak_GR seqlevel:Chr5...
>> your Txdb seqlevel:Chr1 Chr2 Chr3 Chr4 Chr5 ChrM ChrC...
Good, your Chrs in peak_GR is all in Txdb
>> checking seqlevels match... 2025-08-15 2:19:18 AM
>> your peak_GR seqlevel:Chr5...
>> your Txdb seqlevel:Chr1 Chr2 Chr3 Chr4 Chr5 ChrM ChrC...
Good, your Chrs in peak_GR is all in Txdb
------------
annotating Peak using nearest gene mode begins
>> preparing gene features information... 2025-08-15 2:19:18 AM
>> finding nearest gene and calculating distance... 2025-08-15 2:19:18 AM
>> dealing with gene strand ... 2025-08-15 2:19:19 AM
>> merging all info together ... 2025-08-15 2:19:19 AM
>> done 2025-08-15 2:19:19 AM
>> checking seqlevels match... 2025-08-15 2:19:20 AM
>> your peak_GR seqlevel:Chr5...
>> your Txdb seqlevel:Chr1 Chr2 Chr3 Chr4 Chr5 ChrM ChrC...
Good, your Chrs in peak_GR is all in Txdb
>> checking seqlevels match... 2025-08-15 2:19:20 AM
>> your peak_GR seqlevel:Chr5...
>> your Txdb seqlevel:Chr1 Chr2 Chr3 Chr4 Chr5 ChrM ChrC...
Good, your Chrs in peak_GR is all in Txdb
------------
annotating Peak using nearest gene mode begins
>> preparing gene features information... 2025-08-15 2:19:20 AM
>> finding nearest gene and calculating distance... 2025-08-15 2:19:21 AM
>> dealing with gene strand ... 2025-08-15 2:19:21 AM
>> merging all info together ... 2025-08-15 2:19:21 AM
>> done 2025-08-15 2:19:21 AM
It seems that there 1 genes have not been annotated by nearestGene mode
>> checking seqlevels match... 2025-08-15 2:19:22 AM
>> your peak_GR seqlevel:Chr5...
>> your Txdb seqlevel:Chr1 Chr2 Chr3 Chr4 Chr5 ChrM ChrC...
Good, your Chrs in peak_GR is all in Txdb
>> checking seqlevels match... 2025-08-15 2:19:22 AM
>> your peak_GR seqlevel:Chr5...
>> your Txdb seqlevel:Chr1 Chr2 Chr3 Chr4 Chr5 ChrM ChrC...
Good, your Chrs in peak_GR is all in Txdb
------------
annotating Peak using nearest gene mode begins
>> preparing gene features information... 2025-08-15 2:19:22 AM
>> finding nearest gene and calculating distance... 2025-08-15 2:19:23 AM
>> dealing with gene strand ... 2025-08-15 2:19:23 AM
>> merging all info together ... 2025-08-15 2:19:23 AM
>> done 2025-08-15 2:19:23 AM
It seems that there 1 genes have not been annotated by nearestGene mode
>> checking seqlevels match... 2025-08-15 2:19:24 AM
>> your peak_GR seqlevel:Chr5...
>> your Txdb seqlevel:Chr1 Chr2 Chr3 Chr4 Chr5 ChrM ChrC...
Good, your Chrs in peak_GR is all in Txdb
>> checking seqlevels match... 2025-08-15 2:19:26 AM
>> your peak_GR seqlevel:Chr5...
>> your Txdb seqlevel:Chr1 Chr2 Chr3 Chr4 Chr5 ChrM ChrC...
Good, your Chrs in peak_GR is all in Txdb
>> some scan range may cross Chr bound, trimming... 2025-08-15 2:19:27 AM
>> checking seqlevels match... 2025-08-15 2:19:28 AM
>> your peak_GR seqlevel:Chr5...
>> your Txdb seqlevel:Chr1 Chr2 Chr3 Chr4 Chr5 ChrM ChrC...
Good, your Chrs in peak_GR is all in Txdb
>> some scan range may cross Chr bound, trimming... 2025-08-15 2:19:28 AM
Good, your two matrix colnames matchs
>> calculating cor and pvalue, which may be time consuming... 2025-08-15 2:19:30 AM
>> merging all info together... 2025-08-15 2:19:30 AM
>> done 2025-08-15 2:19:30 AM
>> checking seqlevels match... 2025-08-15 2:19:30 AM
>> your peak_GR seqlevel:Chr5...
>> your Txdb seqlevel:Chr1 Chr2 Chr3 Chr4 Chr5 ChrM ChrC...
Good, your Chrs in peak_GR is all in Txdb
>> using scanPromoter parameter to scan promoter for each gene... 2025-08-15 2:19:30 AM
>> checking seqlevels match... 2025-08-15 2:19:30 AM
>> your peak_GR seqlevel:Chr5...
>> your Txdb seqlevel:Chr1 Chr2 Chr3 Chr4 Chr5 ChrM ChrC...
Good, your Chrs in peak_GR is all in Txdb
>> some scan range may cross Chr bound, trimming... 2025-08-15 2:19:31 AM
>> there are 85 gene have scaned promoter
>> using scanEnhancer parameter to scan Enhancer for each gene... 2025-08-15 2:19:32 AM
>> checking seqlevels match... 2025-08-15 2:19:32 AM
>> your peak_GR seqlevel:Chr5...
>> your Txdb seqlevel:Chr1 Chr2 Chr3 Chr4 Chr5 ChrM ChrC...
Good, your Chrs in peak_GR is all in Txdb
>> some scan range may cross Chr bound, trimming... 2025-08-15 2:19:33 AM
>> calculating cor and pvalue, which may be time consuming... 2025-08-15 2:19:33 AM
>> merging all info together... 2025-08-15 2:19:33 AM
>> done 2025-08-15 2:19:33 AM
Good, your two matrix colnames matchs
>> calculating cor and pvalue, which may be time consuming... 2025-08-15 2:19:33 AM
>> merging all info together... 2025-08-15 2:19:33 AM
>> done 2025-08-15 2:19:34 AM
>> checking seqlevels match... 2025-08-15 2:19:34 AM
>> your peak_GR seqlevel:Chr5...
>> your Txdb seqlevel:Chr1 Chr2 Chr3 Chr4 Chr5 ChrM ChrC...
Good, your Chrs in peak_GR is all in Txdb
------------
annotatePeak using geneScan mode begins
>> preparing gene features information and scan region... 2025-08-15 2:19:34 AM
>> some scan range may cross Chr bound, trimming... 2025-08-15 2:19:35 AM
>> finding overlap peak in gene scan region... 2025-08-15 2:19:35 AM
>> dealing with left peak not your gene scan region... 2025-08-15 2:19:35 AM
>> merging two set peaks... 2025-08-15 2:19:35 AM
>> calculating distance and dealing with gene strand... 2025-08-15 2:19:35 AM
>> merging all info together ... 2025-08-15 2:19:35 AM
>> done 2025-08-15 2:19:35 AM
Good, your two matrix colnames matchs
>> calculating cor and pvalue, which may be time consuming... 2025-08-15 2:19:37 AM
>> merging all info together... 2025-08-15 2:19:37 AM
>> done 2025-08-15 2:19:37 AM
>> checking seqlevels match... 2025-08-15 2:19:37 AM
>> your peak_GR seqlevel:Chr5...
>> your Txdb seqlevel:Chr1 Chr2 Chr3 Chr4 Chr5 ChrM ChrC...
Good, your Chrs in peak_GR is all in Txdb
>> using scanPromoter parameter to scan promoter for each gene... 2025-08-15 2:19:37 AM
>> checking seqlevels match... 2025-08-15 2:19:37 AM
>> your peak_GR seqlevel:Chr5...
>> your Txdb seqlevel:Chr1 Chr2 Chr3 Chr4 Chr5 ChrM ChrC...
Good, your Chrs in peak_GR is all in Txdb
>> some scan range may cross Chr bound, trimming... 2025-08-15 2:19:38 AM
>> there are 85 gene have scaned promoter
>> using scanEnhancer parameter to scan Enhancer for each gene... 2025-08-15 2:19:38 AM
>> checking seqlevels match... 2025-08-15 2:19:38 AM
>> your peak_GR seqlevel:Chr5...
>> your Txdb seqlevel:Chr1 Chr2 Chr3 Chr4 Chr5 ChrM ChrC...
Good, your Chrs in peak_GR is all in Txdb
>> some scan range may cross Chr bound, trimming... 2025-08-15 2:19:39 AM
>> calculating cor and pvalue, which may be time consuming... 2025-08-15 2:19:39 AM
>> merging all info together... 2025-08-15 2:19:40 AM
>> done 2025-08-15 2:19:40 AM
Joining with `by = join_by(feature_id)`
Joining with `by = join_by(feature_id)`
`geom_smooth()` using formula = 'y ~ x'
Joining with `by = join_by(feature_id)`
Joining with `by = join_by(feature_id)`
`geom_smooth()` using formula = 'y ~ x'
[ FAIL 0 | WARN 0 | SKIP 0 | PASS 63 ]
>
> proc.time()
user system elapsed
75.29 2.71 78.56
FindIT2.Rcheck/FindIT2-Ex.timings
| name | user | system | elapsed | |
| TF_target_database | 0 | 0 | 0 | |
| calcRP_TFHit | 4.42 | 0.14 | 4.75 | |
| calcRP_coverage | 0.06 | 0.02 | 0.08 | |
| calcRP_region | 6.37 | 0.12 | 6.50 | |
| enhancerPromoterCor | 3.29 | 0.17 | 3.45 | |
| findIT_MARA | 0.60 | 0.00 | 0.59 | |
| findIT_TFHit | 1.17 | 0.05 | 1.23 | |
| findIT_TTPair | 0.12 | 0.09 | 0.22 | |
| findIT_enrichFisher | 0.19 | 0.00 | 0.19 | |
| findIT_enrichWilcox | 0.27 | 0.00 | 0.27 | |
| findIT_regionRP | 7.00 | 0.13 | 7.12 | |
| getAssocPairNumber | 2.39 | 0.08 | 2.47 | |
| integrate_ChIP_RNA | 2.20 | 0.12 | 2.33 | |
| integrate_replicates | 0 | 0 | 0 | |
| jaccard_findIT_TTpair | 0.13 | 0.06 | 0.18 | |
| jaccard_findIT_enrichFisher | 0.20 | 0.02 | 0.22 | |
| loadPeakFile | 0.1 | 0.0 | 0.1 | |
| mm_geneBound | 1.51 | 0.05 | 1.56 | |
| mm_geneScan | 1.42 | 0.04 | 1.47 | |
| mm_nearestGene | 1.58 | 0.02 | 1.61 | |
| peakGeneCor | 3.11 | 0.23 | 3.34 | |
| plot_annoDistance | 1.63 | 0.05 | 1.67 | |
| plot_peakGeneAlias_summary | 1.59 | 0.02 | 1.61 | |
| plot_peakGeneCor | 3.50 | 0.18 | 3.94 | |
| test_geneSet | 0 | 0 | 0 | |