| Back to Multiple platform build/check report for BioC 3.21: simplified long |
|
This page was generated on 2025-10-16 11:40 -0400 (Thu, 16 Oct 2025).
| Hostname | OS | Arch (*) | R version | Installed pkgs |
|---|---|---|---|---|
| nebbiolo1 | Linux (Ubuntu 24.04.3 LTS) | x86_64 | 4.5.1 (2025-06-13) -- "Great Square Root" | 4833 |
| merida1 | macOS 12.7.6 Monterey | x86_64 | 4.5.1 RC (2025-06-05 r88288) -- "Great Square Root" | 4614 |
| kjohnson1 | macOS 13.7.5 Ventura | arm64 | 4.5.1 Patched (2025-06-14 r88325) -- "Great Square Root" | 4555 |
| kunpeng2 | Linux (openEuler 24.03 LTS) | aarch64 | R Under development (unstable) (2025-02-19 r87757) -- "Unsuffered Consequences" | 4586 |
| Click on any hostname to see more info about the system (e.g. compilers) (*) as reported by 'uname -p', except on Windows and Mac OS X | ||||
| Package 719/2341 | Hostname | OS / Arch | INSTALL | BUILD | CHECK | BUILD BIN | ||||||||
| FEAST 1.16.0 (landing page) Kenong Su
| nebbiolo1 | Linux (Ubuntu 24.04.3 LTS) / x86_64 | OK | OK | OK | |||||||||
| merida1 | macOS 12.7.6 Monterey / x86_64 | OK | OK | OK | OK | |||||||||
| kjohnson1 | macOS 13.7.5 Ventura / arm64 | OK | OK | OK | OK | |||||||||
| kunpeng2 | Linux (openEuler 24.03 LTS) / aarch64 | OK | OK | OK | ||||||||||
|
To the developers/maintainers of the FEAST package: - Allow up to 24 hours (and sometimes 48 hours) for your latest push to git@git.bioconductor.org:packages/FEAST.git to reflect on this report. See Troubleshooting Build Report for more information. - Use the following Renviron settings to reproduce errors and warnings. - If 'R CMD check' started to fail recently on the Linux builder(s) over a missing dependency, add the missing dependency to 'Suggests:' in your DESCRIPTION file. See Renviron.bioc for more information. |
| Package: FEAST |
| Version: 1.16.0 |
| Command: /Library/Frameworks/R.framework/Resources/bin/R CMD check --install=check:FEAST.install-out.txt --library=/Library/Frameworks/R.framework/Resources/library --no-vignettes --timings FEAST_1.16.0.tar.gz |
| StartedAt: 2025-10-14 21:32:17 -0400 (Tue, 14 Oct 2025) |
| EndedAt: 2025-10-14 21:36:22 -0400 (Tue, 14 Oct 2025) |
| EllapsedTime: 245.0 seconds |
| RetCode: 0 |
| Status: OK |
| CheckDir: FEAST.Rcheck |
| Warnings: 0 |
##############################################################################
##############################################################################
###
### Running command:
###
### /Library/Frameworks/R.framework/Resources/bin/R CMD check --install=check:FEAST.install-out.txt --library=/Library/Frameworks/R.framework/Resources/library --no-vignettes --timings FEAST_1.16.0.tar.gz
###
##############################################################################
##############################################################################
* using log directory ‘/Users/biocbuild/bbs-3.21-bioc/meat/FEAST.Rcheck’
* using R version 4.5.1 Patched (2025-06-14 r88325)
* using platform: aarch64-apple-darwin20
* R was compiled by
Apple clang version 16.0.0 (clang-1600.0.26.6)
GNU Fortran (GCC) 14.2.0
* running under: macOS Ventura 13.7.5
* using session charset: UTF-8
* using option ‘--no-vignettes’
* checking for file ‘FEAST/DESCRIPTION’ ... OK
* checking extension type ... Package
* this is package ‘FEAST’ version ‘1.16.0’
* package encoding: UTF-8
* checking package namespace information ... OK
* checking package dependencies ... OK
* checking if this is a source package ... OK
* checking if there is a namespace ... OK
* checking for hidden files and directories ... OK
* checking for portable file names ... OK
* checking for sufficient/correct file permissions ... OK
* checking whether package ‘FEAST’ can be installed ... OK
* used C compiler: ‘Apple clang version 15.0.0 (clang-1500.0.40.1)’
* used SDK: ‘MacOSX11.3.sdk’
* checking installed package size ... INFO
installed size is 5.5Mb
sub-directories of 1Mb or more:
data 3.9Mb
doc 1.5Mb
* checking package directory ... OK
* checking ‘build’ directory ... OK
* checking DESCRIPTION meta-information ... OK
* checking top-level files ... OK
* checking for left-over files ... OK
* checking index information ... OK
* checking package subdirectories ... OK
* checking code files for non-ASCII characters ... OK
* checking R files for syntax errors ... OK
* checking whether the package can be loaded ... OK
* checking whether the package can be loaded with stated dependencies ... OK
* checking whether the package can be unloaded cleanly ... OK
* checking whether the namespace can be loaded with stated dependencies ... OK
* checking whether the namespace can be unloaded cleanly ... OK
* checking dependencies in R code ... OK
* checking S3 generic/method consistency ... OK
* checking replacement functions ... OK
* checking foreign function calls ... OK
* checking R code for possible problems ... NOTE
FEAST: multiple local function definitions for ‘bp_fun’ with different
formal arguments
SC3_Clust: no visible global function definition for ‘metadata’
Visual_Rslt: no visible global function definition for ‘ggbarplot’
Visual_Rslt: no visible global function definition for ‘theme’
Visual_Rslt: no visible global function definition for ‘element_text’
Visual_Rslt: no visible global function definition for ‘ggline’
Visual_Rslt: no visible global function definition for ‘get_palette’
Visual_Rslt: no visible global function definition for
‘scale_y_continuous’
Visual_Rslt: no visible global function definition for ‘guides’
Visual_Rslt: no visible global function definition for ‘guide_legend’
Visual_Rslt: no visible global function definition for ‘ggarrange’
aricode_NMI : entropy: no visible global function definition for
‘sortPairs’
Undefined global functions or variables:
element_text get_palette ggarrange ggbarplot ggline guide_legend
guides metadata scale_y_continuous sortPairs theme
* checking Rd files ... OK
* checking Rd metadata ... OK
* checking Rd cross-references ... OK
* checking for missing documentation entries ... OK
* checking for code/documentation mismatches ... OK
* checking Rd \usage sections ... OK
* checking Rd contents ... OK
* checking for unstated dependencies in examples ... OK
* checking contents of ‘data’ directory ... OK
* checking data for non-ASCII characters ... OK
* checking LazyData ... OK
* checking data for ASCII and uncompressed saves ... OK
* checking line endings in C/C++/Fortran sources/headers ... OK
* checking compiled code ... NOTE
Note: information on .o files is not available
* checking installed files from ‘inst/doc’ ... OK
* checking files in ‘vignettes’ ... OK
* checking examples ... OK
* checking for unstated dependencies in vignettes ... OK
* checking package vignettes ... OK
* checking running R code from vignettes ... SKIPPED
* checking re-building of vignette outputs ... SKIPPED
* checking PDF version of manual ... OK
* DONE
Status: 2 NOTEs
See
‘/Users/biocbuild/bbs-3.21-bioc/meat/FEAST.Rcheck/00check.log’
for details.
FEAST.Rcheck/00install.out
##############################################################################
##############################################################################
###
### Running command:
###
### /Library/Frameworks/R.framework/Resources/bin/R CMD INSTALL FEAST
###
##############################################################################
##############################################################################
* installing to library ‘/Library/Frameworks/R.framework/Versions/4.5-arm64/Resources/library’
* installing *source* package ‘FEAST’ ...
** this is package ‘FEAST’ version ‘1.16.0’
** using staged installation
** libs
using C compiler: ‘Apple clang version 15.0.0 (clang-1500.0.40.1)’
using SDK: ‘MacOSX11.3.sdk’
clang -arch arm64 -std=gnu2x -I"/Library/Frameworks/R.framework/Resources/include" -DNDEBUG -I/opt/R/arm64/include -fPIC -falign-functions=64 -Wall -g -O2 -c cal_3_metrics.c -o cal_3_metrics.o
cal_3_metrics.c:42:22: warning: variable 'ni_2' set but not used [-Wunused-but-set-variable]
double *nc, *nr, ni_2, n_j2, nt, nij_2;
^
cal_3_metrics.c:42:28: warning: variable 'n_j2' set but not used [-Wunused-but-set-variable]
double *nc, *nr, ni_2, n_j2, nt, nij_2;
^
cal_3_metrics.c:42:34: warning: variable 'nt' set but not used [-Wunused-but-set-variable]
double *nc, *nr, ni_2, n_j2, nt, nij_2;
^
cal_3_metrics.c:42:38: warning: variable 'nij_2' set but not used [-Wunused-but-set-variable]
double *nc, *nr, ni_2, n_j2, nt, nij_2;
^
4 warnings generated.
clang -arch arm64 -std=gnu2x -dynamiclib -Wl,-headerpad_max_install_names -undefined dynamic_lookup -L/Library/Frameworks/R.framework/Resources/lib -L/opt/R/arm64/lib -o FEAST.so cal_3_metrics.o -F/Library/Frameworks/R.framework/.. -framework R
installing to /Library/Frameworks/R.framework/Versions/4.5-arm64/Resources/library/00LOCK-FEAST/00new/FEAST/libs
** R
** data
*** moving datasets to lazyload DB
** inst
** byte-compile and prepare package for lazy loading
** help
*** installing help indices
** building package indices
** installing vignettes
** testing if installed package can be loaded from temporary location
** checking absolute paths in shared objects and dynamic libraries
** testing if installed package can be loaded from final location
** testing if installed package keeps a record of temporary installation path
* DONE (FEAST)
FEAST.Rcheck/FEAST-Ex.timings
| name | user | system | elapsed | |
| Consensus | 2.010 | 0.037 | 2.048 | |
| FEAST | 1.226 | 0.012 | 1.239 | |
| FEAST_fast | 1.877 | 0.037 | 1.915 | |
| Norm_Y | 0.191 | 0.016 | 0.207 | |
| Select_Model_short_SC3 | 1.258 | 0.039 | 1.302 | |
| Select_Model_short_TSCAN | 1.225 | 0.054 | 1.283 | |
| TSCAN_Clust | 0.002 | 0.002 | 0.004 | |
| Visual_Rslt | 1.621 | 0.075 | 1.794 | |
| Y | 0.084 | 0.036 | 0.121 | |
| align_CellType | 0.002 | 0.000 | 0.002 | |
| cal_F2 | 0.404 | 0.352 | 0.774 | |
| cal_MSE | 1.216 | 0.015 | 1.248 | |
| eval_Cluster | 0.007 | 0.000 | 0.007 | |
| process_Y | 0.131 | 0.010 | 0.141 | |
| setUp_BPPARAM | 0.843 | 0.008 | 0.851 | |
| trueclass | 0.002 | 0.003 | 0.006 | |