Back to Multiple platform build/check report for BioC 3.22:   simplified   long
ABCD[E]FGHIJKLMNOPQRSTUVWXYZ

This page was generated on 2025-11-12 11:57 -0500 (Wed, 12 Nov 2025).

HostnameOSArch (*)R versionInstalled pkgs
nebbiolo2Linux (Ubuntu 24.04.3 LTS)x86_644.5.1 Patched (2025-08-23 r88802) -- "Great Square Root" 4902
taishanLinux (openEuler 24.03 LTS)aarch644.5.0 (2025-04-11) -- "How About a Twenty-Six" 4668
Click on any hostname to see more info about the system (e.g. compilers)      (*) as reported by 'uname -p', except on Windows and Mac OS X

All results for package ExperimentHub


To the developers/maintainers of the ExperimentHub package:
- Allow up to 24 hours (and sometimes 48 hours) for your latest push to git@git.bioconductor.org:packages/ExperimentHub.git to reflect on this report. See Troubleshooting Build Report for more information.
- Use the following Renviron settings to reproduce errors and warnings.
- If 'R CMD check' started to fail recently on the Linux builder(s) over a missing dependency, add the missing dependency to 'Suggests:' in your DESCRIPTION file. See Renviron.bioc for more information.

raw results

Package 707/2361HostnameOS / ArchINSTALLBUILDCHECKBUILD BIN
ExperimentHub 3.0.0  (landing page)
Bioconductor Package Maintainer
Snapshot Date: 2025-11-11 13:45 -0500 (Tue, 11 Nov 2025)
git_url: https://git.bioconductor.org/packages/ExperimentHub
git_branch: RELEASE_3_22
git_last_commit: b1013ec
git_last_commit_date: 2025-10-29 10:30:19 -0500 (Wed, 29 Oct 2025)
nebbiolo2Linux (Ubuntu 24.04.3 LTS) / x86_64  OK    OK    WARNINGS  UNNEEDED, same version is already published
taishanLinux (openEuler 24.03 LTS) / aarch64  OK    OK    WARNINGS  



Results for Bioconductor software packages that depend directly on package ExperimentHub

QUICK STATSOS / ArchINSTALLBUILDCHECKBUILD BIN
nebbiolo2Linux (Ubuntu 24.04.3 LTS) / x86_64
0037
0037
10531
taishanLinux (openEuler 24.03 LTS) / aarch64
0037
1135
11528
Package 1/37HostnameOS / ArchINSTALLBUILDCHECKBUILD BIN
adductomicsR 1.26.0  (landing page)
Josie Hayes
git_last_commit: c15f935
git_last_commit_date: 2025-10-29 10:49:42 -0500
nebbiolo2Linux (Ubuntu 24.04.3 LTS) / x86_64  OK    OK    WARNINGS  UNNEEDED, same version is already published
taishanLinux (openEuler 24.03 LTS) / aarch64  OK    OK    WARNINGS  
Package 2/37HostnameOS / ArchINSTALLBUILDCHECKBUILD BIN
BiocHubsShiny 1.10.0  (landing page)
Marcel Ramos
git_last_commit: 2adb511
git_last_commit_date: 2025-10-29 11:20:55 -0500
nebbiolo2Linux (Ubuntu 24.04.3 LTS) / x86_64  OK    OK    OK  UNNEEDED, same version is already published
taishanLinux (openEuler 24.03 LTS) / aarch64  OK    OK    OK  
Package 3/37HostnameOS / ArchINSTALLBUILDCHECKBUILD BIN
BloodGen3Module 1.18.0  (landing page)
Darawan Rinchai
git_last_commit: 6d48c98
git_last_commit_date: 2025-10-29 11:09:33 -0500
nebbiolo2Linux (Ubuntu 24.04.3 LTS) / x86_64  OK    OK    WARNINGS  UNNEEDED, same version is already published
taishanLinux (openEuler 24.03 LTS) / aarch64  OK    OK    WARNINGS  
Package 4/37HostnameOS / ArchINSTALLBUILDCHECKBUILD BIN
CBNplot 1.10.0  (landing page)
Noriaki Sato
git_last_commit: 89ee1b1
git_last_commit_date: 2025-10-29 11:22:40 -0500
nebbiolo2Linux (Ubuntu 24.04.3 LTS) / x86_64  OK    OK    OK  UNNEEDED, same version is already published
taishanLinux (openEuler 24.03 LTS) / aarch64  OK    OK    OK  
Package 5/37HostnameOS / ArchINSTALLBUILDCHECKBUILD BIN
coMethDMR 1.14.0  (landing page)
Fernanda Veitzman
git_last_commit: 052092e
git_last_commit_date: 2025-10-29 11:14:12 -0500
nebbiolo2Linux (Ubuntu 24.04.3 LTS) / x86_64  OK    OK    OK  UNNEEDED, same version is already published
taishanLinux (openEuler 24.03 LTS) / aarch64  OK    OK    WARNINGS  
Package 6/37HostnameOS / ArchINSTALLBUILDCHECKBUILD BIN
CoSIA 1.10.1  (landing page)
Anthony B. Crumley
git_last_commit: 98e19f5
git_last_commit_date: 2025-11-05 11:47:19 -0500
nebbiolo2Linux (Ubuntu 24.04.3 LTS) / x86_64  OK    OK    TIMEOUT  
taishanLinux (openEuler 24.03 LTS) / aarch64  OK    OK    TIMEOUT  
Package 7/37HostnameOS / ArchINSTALLBUILDCHECKBUILD BIN
CTdata 1.10.0  (landing page)
Laurent Gatto
git_last_commit: 6a89573
git_last_commit_date: 2025-10-29 11:22:16 -0500
nebbiolo2Linux (Ubuntu 24.04.3 LTS) / x86_64  OK    OK    OK  UNNEEDED, same version is already published
taishanLinux (openEuler 24.03 LTS) / aarch64  OK    OK    OK  
Package 8/37HostnameOS / ArchINSTALLBUILDCHECKBUILD BIN
DeconvoBuddies 1.2.0  (landing page)
Louise Huuki-Myers
git_last_commit: 1c038d1
git_last_commit_date: 2025-10-29 11:35:32 -0500
nebbiolo2Linux (Ubuntu 24.04.3 LTS) / x86_64  OK    OK    OK  UNNEEDED, same version is already published
taishanLinux (openEuler 24.03 LTS) / aarch64  OK    OK    OK  
Package 9/37HostnameOS / ArchINSTALLBUILDCHECKBUILD BIN
DMRcate 3.6.0  (landing page)
Tim Peters
git_last_commit: d522a97
git_last_commit_date: 2025-10-29 10:18:14 -0500
nebbiolo2Linux (Ubuntu 24.04.3 LTS) / x86_64  OK    OK    OK  UNNEEDED, same version is already published
taishanLinux (openEuler 24.03 LTS) / aarch64  OK    TIMEOUT  skipped
Package 10/37HostnameOS / ArchINSTALLBUILDCHECKBUILD BIN
ENmix 1.46.0  (landing page)
Zongli Xu
git_last_commit: 50af132
git_last_commit_date: 2025-10-29 10:25:39 -0500
nebbiolo2Linux (Ubuntu 24.04.3 LTS) / x86_64  OK    OK    OK  UNNEEDED, same version is already published
taishanLinux (openEuler 24.03 LTS) / aarch64  OK    OK    OK  
Package 11/37HostnameOS / ArchINSTALLBUILDCHECKBUILD BIN
EpiMix 1.12.0  (landing page)
Yuanning Zheng
git_last_commit: 36341ff
git_last_commit_date: 2025-10-29 11:17:43 -0500
nebbiolo2Linux (Ubuntu 24.04.3 LTS) / x86_64  OK    OK    OK  UNNEEDED, same version is already published
taishanLinux (openEuler 24.03 LTS) / aarch64  OK    OK    OK  
Package 12/37HostnameOS / ArchINSTALLBUILDCHECKBUILD BIN
epimutacions 1.14.0  (landing page)
Dolors Pelegri-Siso
git_last_commit: b56f6f9
git_last_commit_date: 2025-10-29 11:16:20 -0500
nebbiolo2Linux (Ubuntu 24.04.3 LTS) / x86_64  OK    OK    OK  UNNEEDED, same version is already published
taishanLinux (openEuler 24.03 LTS) / aarch64  OK    OK    OK  
Package 13/37HostnameOS / ArchINSTALLBUILDCHECKBUILD BIN
EpipwR 1.4.0  (landing page)
Jackson Barth
git_last_commit: 223cc40
git_last_commit_date: 2025-10-29 11:32:19 -0500
nebbiolo2Linux (Ubuntu 24.04.3 LTS) / x86_64  OK    OK    OK  UNNEEDED, same version is already published
taishanLinux (openEuler 24.03 LTS) / aarch64  OK    OK    OK  
Package 14/37HostnameOS / ArchINSTALLBUILDCHECKBUILD BIN
epiregulon 2.0.1  (landing page)
Xiaosai Yao
git_last_commit: 40293f7
git_last_commit_date: 2025-11-10 14:01:51 -0500
nebbiolo2Linux (Ubuntu 24.04.3 LTS) / x86_64  OK    OK    OK  YES
taishanLinux (openEuler 24.03 LTS) / aarch64  OK    OK    OK  
Package 15/37HostnameOS / ArchINSTALLBUILDCHECKBUILD BIN
ExperimentHubData 1.36.0  (landing page)
Bioconductor Package Maintainer
git_last_commit: 4c5fbbf
git_last_commit_date: 2025-10-29 10:30:22 -0500
nebbiolo2Linux (Ubuntu 24.04.3 LTS) / x86_64  OK    OK    WARNINGS  UNNEEDED, same version is already published
taishanLinux (openEuler 24.03 LTS) / aarch64  OK    OK    WARNINGS  
Package 16/37HostnameOS / ArchINSTALLBUILDCHECKBUILD BIN
GSEABenchmarkeR 1.30.0  (landing page)
Ludwig Geistlinger
git_last_commit: 7ab14b8
git_last_commit_date: 2025-10-29 10:44:06 -0500
nebbiolo2Linux (Ubuntu 24.04.3 LTS) / x86_64  OK    OK    OK  UNNEEDED, same version is already published
taishanLinux (openEuler 24.03 LTS) / aarch64  OK    OK    OK  
Package 17/37HostnameOS / ArchINSTALLBUILDCHECKBUILD BIN
hpar 1.52.0  (landing page)
Laurent Gatto
git_last_commit: 7bb1503
git_last_commit_date: 2025-10-29 10:12:05 -0500
nebbiolo2Linux (Ubuntu 24.04.3 LTS) / x86_64  OK    OK    OK  UNNEEDED, same version is already published
taishanLinux (openEuler 24.03 LTS) / aarch64  OK    OK    OK  
Package 18/37HostnameOS / ArchINSTALLBUILDCHECKBUILD BIN
iModMix 1.0.0  (landing page)
Isis Narvaez-Bandera
git_last_commit: f1207f8
git_last_commit_date: 2025-10-29 11:38:57 -0500
nebbiolo2Linux (Ubuntu 24.04.3 LTS) / x86_64  OK    OK    OK  UNNEEDED, same version is already published
taishanLinux (openEuler 24.03 LTS) / aarch64  OK    OK    OK  
Package 19/37HostnameOS / ArchINSTALLBUILDCHECKBUILD BIN
iSEEhub 1.12.0  (landing page)
Kevin Rue-Albrecht
git_last_commit: b3f4559
git_last_commit_date: 2025-10-29 11:18:40 -0500
nebbiolo2Linux (Ubuntu 24.04.3 LTS) / x86_64  OK    OK    OK  UNNEEDED, same version is already published
taishanLinux (openEuler 24.03 LTS) / aarch64  OK    OK    OK  
Package 20/37HostnameOS / ArchINSTALLBUILDCHECKBUILD BIN
LRcell 1.18.0  (landing page)
Wenjing Ma
git_last_commit: de409ff
git_last_commit_date: 2025-10-29 11:07:47 -0500
nebbiolo2Linux (Ubuntu 24.04.3 LTS) / x86_64  OK    OK    OK  UNNEEDED, same version is already published
taishanLinux (openEuler 24.03 LTS) / aarch64  OK    OK    OK  
Package 21/37HostnameOS / ArchINSTALLBUILDCHECKBUILD BIN
m6Aboost 1.16.0  (landing page)
You Zhou
git_last_commit: 97ed1dd
git_last_commit_date: 2025-10-29 11:10:16 -0500
nebbiolo2Linux (Ubuntu 24.04.3 LTS) / x86_64  OK    OK    OK  UNNEEDED, same version is already published
taishanLinux (openEuler 24.03 LTS) / aarch64  OK    OK    OK  
Package 22/37HostnameOS / ArchINSTALLBUILDCHECKBUILD BIN
MACSr 1.18.0  (landing page)
Qiang Hu
git_last_commit: 9263ac2
git_last_commit_date: 2025-10-29 11:06:10 -0500
nebbiolo2Linux (Ubuntu 24.04.3 LTS) / x86_64  OK    OK    OK  UNNEEDED, same version is already published
taishanLinux (openEuler 24.03 LTS) / aarch64  OK    OK    OK  
Package 23/37HostnameOS / ArchINSTALLBUILDCHECKBUILD BIN
MatrixQCvis 1.18.0  (landing page)
Thomas Naake
git_last_commit: b35fe86
git_last_commit_date: 2025-10-29 11:09:24 -0500
nebbiolo2Linux (Ubuntu 24.04.3 LTS) / x86_64  OK    OK    OK  UNNEEDED, same version is already published
taishanLinux (openEuler 24.03 LTS) / aarch64  OK    OK    OK  
Package 24/37HostnameOS / ArchINSTALLBUILDCHECKBUILD BIN
methodical 1.6.0  (landing page)
Richard Heery
git_last_commit: ebf4ab4
git_last_commit_date: 2025-10-29 11:27:18 -0500
nebbiolo2Linux (Ubuntu 24.04.3 LTS) / x86_64  OK    OK    WARNINGS  UNNEEDED, same version is already published
taishanLinux (openEuler 24.03 LTS) / aarch64  OK    ERROR  skipped
Package 25/37HostnameOS / ArchINSTALLBUILDCHECKBUILD BIN
MethReg 1.20.0  (landing page)
Tiago Silva
git_last_commit: a1982d5
git_last_commit_date: 2025-10-29 11:02:28 -0500
nebbiolo2Linux (Ubuntu 24.04.3 LTS) / x86_64  OK    OK    OK  UNNEEDED, same version is already published
taishanLinux (openEuler 24.03 LTS) / aarch64  OK    OK    OK  
Package 26/37HostnameOS / ArchINSTALLBUILDCHECKBUILD BIN
methylclock 1.16.0  (landing page)
Dolors Pelegri-Siso
git_last_commit: 79b4e8b
git_last_commit_date: 2025-10-29 11:10:33 -0500
nebbiolo2Linux (Ubuntu 24.04.3 LTS) / x86_64  OK    OK    OK  UNNEEDED, same version is already published
taishanLinux (openEuler 24.03 LTS) / aarch64  OK    OK    OK  
Package 27/37HostnameOS / ArchINSTALLBUILDCHECKBUILD BIN
Moonlight2R 1.8.0  (landing page)
Matteo Tiberti
git_last_commit: 7f42b79
git_last_commit_date: 2025-10-29 11:25:19 -0500
nebbiolo2Linux (Ubuntu 24.04.3 LTS) / x86_64  OK    OK    OK  UNNEEDED, same version is already published
taishanLinux (openEuler 24.03 LTS) / aarch64  OK    OK    ERROR  
Package 28/37HostnameOS / ArchINSTALLBUILDCHECKBUILD BIN
MsDataHub 1.10.0  (landing page)
Laurent Gatto
git_last_commit: c362bfe
git_last_commit_date: 2025-10-29 11:21:50 -0500
nebbiolo2Linux (Ubuntu 24.04.3 LTS) / x86_64  OK    OK    OK  UNNEEDED, same version is already published
taishanLinux (openEuler 24.03 LTS) / aarch64  OK    OK    OK  
Package 29/37HostnameOS / ArchINSTALLBUILDCHECKBUILD BIN
octad 1.12.0  (landing page)
E. Chekalin
git_last_commit: e8beea0
git_last_commit_date: 2025-10-29 11:19:54 -0500
nebbiolo2Linux (Ubuntu 24.04.3 LTS) / x86_64  OK    OK    OK  UNNEEDED, same version is already published
taishanLinux (openEuler 24.03 LTS) / aarch64  OK    OK    OK  
Package 30/37HostnameOS / ArchINSTALLBUILDCHECKBUILD BIN
orthos 1.8.0  (landing page)
Panagiotis Papasaikas
git_last_commit: 53e77e2
git_last_commit_date: 2025-10-29 11:24:17 -0500
nebbiolo2Linux (Ubuntu 24.04.3 LTS) / x86_64  OK    OK    OK  UNNEEDED, same version is already published
taishanLinux (openEuler 24.03 LTS) / aarch64  OK    OK    OK  
Package 31/37HostnameOS / ArchINSTALLBUILDCHECKBUILD BIN
SeqSQC 1.32.0  (landing page)
Qian Liu
git_last_commit: a5a9f88
git_last_commit_date: 2025-10-29 10:41:52 -0500
nebbiolo2Linux (Ubuntu 24.04.3 LTS) / x86_64  OK    OK    WARNINGS  UNNEEDED, same version is already published
taishanLinux (openEuler 24.03 LTS) / aarch64  OK    OK    WARNINGS  
Package 32/37HostnameOS / ArchINSTALLBUILDCHECKBUILD BIN
shinyDSP 1.2.0  (landing page)
Seung J. Kim
git_last_commit: 867bc12
git_last_commit_date: 2025-10-29 11:35:46 -0500
nebbiolo2Linux (Ubuntu 24.04.3 LTS) / x86_64  OK    OK    OK  UNNEEDED, same version is already published
taishanLinux (openEuler 24.03 LTS) / aarch64  OK    OK    OK  
Package 33/37HostnameOS / ArchINSTALLBUILDCHECKBUILD BIN
signatureSearch 1.24.0  (landing page)
Brendan Gongol
git_last_commit: ce6ab95
git_last_commit_date: 2025-10-29 10:55:44 -0500
nebbiolo2Linux (Ubuntu 24.04.3 LTS) / x86_64  OK    OK    OK  UNNEEDED, same version is already published
taishanLinux (openEuler 24.03 LTS) / aarch64  OK    OK    OK  
Package 34/37HostnameOS / ArchINSTALLBUILDCHECKBUILD BIN
singleCellTK 2.20.0  (landing page)
Joshua David Campbell
git_last_commit: e2bff7b
git_last_commit_date: 2025-10-29 11:29:49 -0500
nebbiolo2Linux (Ubuntu 24.04.3 LTS) / x86_64  OK    OK    OK  UNNEEDED, same version is already published
taishanLinux (openEuler 24.03 LTS) / aarch64  OK    OK    OK  
Package 35/37HostnameOS / ArchINSTALLBUILDCHECKBUILD BIN
spatialFDA 1.2.0  (landing page)
Martin Emons
git_last_commit: 6860169
git_last_commit_date: 2025-10-29 11:33:57 -0500
nebbiolo2Linux (Ubuntu 24.04.3 LTS) / x86_64  OK    OK    OK  UNNEEDED, same version is already published
taishanLinux (openEuler 24.03 LTS) / aarch64  OK    OK    OK  
Package 36/37HostnameOS / ArchINSTALLBUILDCHECKBUILD BIN
TENET 1.2.0  (landing page)
Rhie Lab at the University of Southern California
git_last_commit: b0a4fcf
git_last_commit_date: 2025-10-29 11:34:59 -0500
nebbiolo2Linux (Ubuntu 24.04.3 LTS) / x86_64  OK    OK    OK  UNNEEDED, same version is already published
taishanLinux (openEuler 24.03 LTS) / aarch64  OK    OK    OK  
Package 37/37HostnameOS / ArchINSTALLBUILDCHECKBUILD BIN
TFEA.ChIP 1.30.0  (landing page)
Yosra Berrouayel
git_last_commit: 228e5ca
git_last_commit_date: 2025-10-29 10:42:32 -0500
nebbiolo2Linux (Ubuntu 24.04.3 LTS) / x86_64  OK    OK    OK  UNNEEDED, same version is already published
taishanLinux (openEuler 24.03 LTS) / aarch64  OK    OK    OK