| Back to Multiple platform build/check report for BioC 3.21: simplified long |
|
This page was generated on 2025-10-16 11:41 -0400 (Thu, 16 Oct 2025).
| Hostname | OS | Arch (*) | R version | Installed pkgs |
|---|---|---|---|---|
| nebbiolo1 | Linux (Ubuntu 24.04.3 LTS) | x86_64 | 4.5.1 (2025-06-13) -- "Great Square Root" | 4833 |
| merida1 | macOS 12.7.6 Monterey | x86_64 | 4.5.1 RC (2025-06-05 r88288) -- "Great Square Root" | 4614 |
| kjohnson1 | macOS 13.7.5 Ventura | arm64 | 4.5.1 Patched (2025-06-14 r88325) -- "Great Square Root" | 4555 |
| kunpeng2 | Linux (openEuler 24.03 LTS) | aarch64 | R Under development (unstable) (2025-02-19 r87757) -- "Unsuffered Consequences" | 4586 |
| Click on any hostname to see more info about the system (e.g. compilers) (*) as reported by 'uname -p', except on Windows and Mac OS X | ||||
| Package 662/2341 | Hostname | OS / Arch | INSTALL | BUILD | CHECK | BUILD BIN | ||||||||
| EnrichmentBrowser 2.38.1 (landing page) Ludwig Geistlinger
| nebbiolo1 | Linux (Ubuntu 24.04.3 LTS) / x86_64 | OK | OK | OK | |||||||||
| merida1 | macOS 12.7.6 Monterey / x86_64 | OK | OK | OK | OK | |||||||||
| kjohnson1 | macOS 13.7.5 Ventura / arm64 | OK | OK | OK | OK | |||||||||
| kunpeng2 | Linux (openEuler 24.03 LTS) / aarch64 | OK | OK | OK | ||||||||||
|
To the developers/maintainers of the EnrichmentBrowser package: - Allow up to 24 hours (and sometimes 48 hours) for your latest push to git@git.bioconductor.org:packages/EnrichmentBrowser.git to reflect on this report. See Troubleshooting Build Report for more information. - Use the following Renviron settings to reproduce errors and warnings. - If 'R CMD check' started to fail recently on the Linux builder(s) over a missing dependency, add the missing dependency to 'Suggests:' in your DESCRIPTION file. See Renviron.bioc for more information. - See Martin Grigorov's blog post for how to debug Linux ARM64 related issues on a x86_64 host. |
| Package: EnrichmentBrowser |
| Version: 2.38.1 |
| Command: /home/biocbuild/R/R/bin/R CMD check --install=check:EnrichmentBrowser.install-out.txt --library=/home/biocbuild/R/R/site-library --no-vignettes --timings EnrichmentBrowser_2.38.1.tar.gz |
| StartedAt: 2025-10-14 08:51:10 -0000 (Tue, 14 Oct 2025) |
| EndedAt: 2025-10-14 09:11:02 -0000 (Tue, 14 Oct 2025) |
| EllapsedTime: 1191.4 seconds |
| RetCode: 0 |
| Status: OK |
| CheckDir: EnrichmentBrowser.Rcheck |
| Warnings: 0 |
##############################################################################
##############################################################################
###
### Running command:
###
### /home/biocbuild/R/R/bin/R CMD check --install=check:EnrichmentBrowser.install-out.txt --library=/home/biocbuild/R/R/site-library --no-vignettes --timings EnrichmentBrowser_2.38.1.tar.gz
###
##############################################################################
##############################################################################
* using log directory ‘/home/biocbuild/bbs-3.21-bioc/meat/EnrichmentBrowser.Rcheck’
* using R Under development (unstable) (2025-02-19 r87757)
* using platform: aarch64-unknown-linux-gnu
* R was compiled by
aarch64-unknown-linux-gnu-gcc (GCC) 14.2.0
GNU Fortran (GCC) 14.2.0
* running under: openEuler 24.03 (LTS-SP1)
* using session charset: UTF-8
* using option ‘--no-vignettes’
* checking for file ‘EnrichmentBrowser/DESCRIPTION’ ... OK
* this is package ‘EnrichmentBrowser’ version ‘2.38.1’
* package encoding: UTF-8
* checking package namespace information ... OK
* checking package dependencies ... OK
* checking if this is a source package ... OK
* checking if there is a namespace ... OK
* checking for hidden files and directories ... OK
* checking for portable file names ... OK
* checking for sufficient/correct file permissions ... OK
* checking whether package ‘EnrichmentBrowser’ can be installed ... OK
* checking installed package size ... OK
* checking package directory ... OK
* checking ‘build’ directory ... OK
* checking DESCRIPTION meta-information ... OK
* checking top-level files ... OK
* checking for left-over files ... OK
* checking index information ... OK
* checking package subdirectories ... OK
* checking code files for non-ASCII characters ... OK
* checking R files for syntax errors ... OK
* checking whether the package can be loaded ... OK
* checking whether the package can be loaded with stated dependencies ... OK
* checking whether the package can be unloaded cleanly ... OK
* checking whether the namespace can be loaded with stated dependencies ... OK
* checking whether the namespace can be unloaded cleanly ... OK
* checking loading without being on the library search path ... OK
* checking whether startup messages can be suppressed ... OK
* checking dependencies in R code ... NOTE
Unexported object imported by a ':::' call: 'pathview:::parseKGML2Graph2'
See the note in ?`:::` about the use of this operator.
* checking S3 generic/method consistency ... OK
* checking replacement functions ... OK
* checking foreign function calls ... OK
* checking R code for possible problems ... NOTE
.getGOFromBiomart: no visible binding for global variable
‘go_linkage_type’
Undefined global functions or variables:
go_linkage_type
* checking Rd files ... OK
* checking Rd metadata ... OK
* checking Rd cross-references ... NOTE
Found the following Rd file(s) with Rd \link{} targets missing package
anchors:
compileGRN.Rd: KEGGPathway-class, pathwayDatabases, pathways,
parseKGML
deAna.Rd: SummarizedExperiment-class, colData, filterByExpr, rowData,
voom, eBayes, glmQLFit
downloadPathways.Rd: keggList, keggGet, KEGGPathway-class, parseKGML
eaBrowse.Rd: DataFrame-class
ebrowser.Rd: SummarizedExperiment-class, assays, colData, rowData,
kegg.species.code, normalizeBetweenArrays, lmFit,
normalizeWithinArrays
getGenesets.Rd: GeneSetCollection-class, DataFrame-class, keggList,
keggLink
ggeaGraph.Rd: SummarizedExperiment-class
idMap.Rd: SummarizedExperiment-class, GeneSetCollection-class,
rowData, mapIds, keytypes
import.Rd: SummarizedExperiment-class, EList-class, DGEList-class,
TopTags-class, voom, eBayes, glmQLFit
isAvailable.Rd: install
nbea.Rd: SummarizedExperiment-class
normalize.Rd: SummarizedExperiment-class, normalizeBetweenArrays,
filterByExpr, normalizeWithinArrays, cpm, estimateDisp, voom
probe2gene.Rd: SummarizedExperiment-class, metadata, rowData, mapIds
readSE.Rd: SummarizedExperiment-class
sbea.Rd: SummarizedExperiment-class
Please provide package anchors for all Rd \link{} targets not in the
package itself and the base packages.
* checking for missing documentation entries ... OK
* checking for code/documentation mismatches ... OK
* checking Rd \usage sections ... OK
* checking Rd contents ... OK
* checking for unstated dependencies in examples ... OK
* checking files in ‘vignettes’ ... OK
* checking examples ... OK
Examples with CPU (user + system) or elapsed time > 5s
user system elapsed
ebrowser 729.587 31.141 819.877
getGenesets 17.590 1.748 22.913
eaBrowse 10.324 0.579 11.193
import 6.789 0.369 7.184
ggeaGraph 4.343 1.463 5.834
deAna 5.163 0.166 5.342
* checking for unstated dependencies in vignettes ... OK
* checking package vignettes ... OK
* checking running R code from vignettes ... SKIPPED
* checking re-building of vignette outputs ... SKIPPED
* checking PDF version of manual ... OK
* DONE
Status: 3 NOTEs
See
‘/home/biocbuild/bbs-3.21-bioc/meat/EnrichmentBrowser.Rcheck/00check.log’
for details.
EnrichmentBrowser.Rcheck/00install.out
############################################################################## ############################################################################## ### ### Running command: ### ### /home/biocbuild/R/R/bin/R CMD INSTALL EnrichmentBrowser ### ############################################################################## ############################################################################## * installing to library ‘/home/biocbuild/R/R-devel_2025-02-19/site-library’ * installing *source* package ‘EnrichmentBrowser’ ... ** this is package ‘EnrichmentBrowser’ version ‘2.38.1’ ** using staged installation ** R ** inst ** byte-compile and prepare package for lazy loading ** help *** installing help indices ** building package indices ** installing vignettes ** testing if installed package can be loaded from temporary location ** testing if installed package can be loaded from final location ** testing if installed package keeps a record of temporary installation path * DONE (EnrichmentBrowser)
EnrichmentBrowser.Rcheck/EnrichmentBrowser-Ex.timings
| name | user | system | elapsed | |
| combResults | 1.433 | 0.087 | 1.524 | |
| compileGRN | 4.079 | 0.116 | 4.204 | |
| configEBrowser | 0.000 | 0.001 | 0.001 | |
| deAna | 5.163 | 0.166 | 5.342 | |
| downloadPathways | 0.000 | 0.000 | 0.001 | |
| eaBrowse | 10.324 | 0.579 | 11.193 | |
| ebrowser | 729.587 | 31.141 | 819.877 | |
| getGenesets | 17.590 | 1.748 | 22.913 | |
| ggeaGraph | 4.343 | 1.463 | 5.834 | |
| idMap | 0.866 | 0.027 | 0.897 | |
| import | 6.789 | 0.369 | 7.184 | |
| isAvailable | 0.000 | 0.000 | 0.001 | |
| makeExampleData | 0.037 | 0.000 | 0.037 | |
| nbea | 0.380 | 0.000 | 0.381 | |
| normalize | 0.621 | 0.032 | 0.656 | |
| plots | 1.709 | 0.059 | 1.777 | |
| probe2gene | 0.091 | 0.000 | 0.092 | |
| readSE | 0.050 | 0.000 | 0.051 | |
| sbea | 0.237 | 0.000 | 0.238 | |