| Back to Multiple platform build/check report for BioC 3.22: simplified long |
|
This page was generated on 2025-10-21 12:07 -0400 (Tue, 21 Oct 2025).
| Hostname | OS | Arch (*) | R version | Installed pkgs |
|---|---|---|---|---|
| nebbiolo2 | Linux (Ubuntu 24.04.3 LTS) | x86_64 | 4.5.1 Patched (2025-08-23 r88802) -- "Great Square Root" | 4887 |
| lconway | macOS 12.7.6 Monterey | x86_64 | 4.5.1 Patched (2025-09-10 r88807) -- "Great Square Root" | 4677 |
| kjohnson3 | macOS 13.7.7 Ventura | arm64 | 4.5.1 Patched (2025-09-10 r88807) -- "Great Square Root" | 4622 |
| taishan | Linux (openEuler 24.03 LTS) | aarch64 | 4.5.0 (2025-04-11) -- "How About a Twenty-Six" | 4642 |
| Click on any hostname to see more info about the system (e.g. compilers) (*) as reported by 'uname -p', except on Windows and Mac OS X | ||||
| Package 657/2353 | Hostname | OS / Arch | INSTALL | BUILD | CHECK | BUILD BIN | ||||||||
| ELMER 2.33.1 (landing page) Tiago Chedraoui Silva
| nebbiolo2 | Linux (Ubuntu 24.04.3 LTS) / x86_64 | OK | OK | OK | |||||||||
| lconway | macOS 12.7.6 Monterey / x86_64 | OK | OK | OK | OK | |||||||||
| kjohnson3 | macOS 13.7.7 Ventura / arm64 | OK | OK | OK | OK | |||||||||
| taishan | Linux (openEuler 24.03 LTS) / aarch64 | OK | OK | TIMEOUT | ||||||||||
|
To the developers/maintainers of the ELMER package: - Allow up to 24 hours (and sometimes 48 hours) for your latest push to git@git.bioconductor.org:packages/ELMER.git to reflect on this report. See Troubleshooting Build Report for more information. - Use the following Renviron settings to reproduce errors and warnings. - If 'R CMD check' started to fail recently on the Linux builder(s) over a missing dependency, add the missing dependency to 'Suggests:' in your DESCRIPTION file. See Renviron.bioc for more information. - See Martin Grigorov's blog post for how to debug Linux ARM64 related issues on a x86_64 host. |
| Package: ELMER |
| Version: 2.33.1 |
| Command: /home/biocbuild/R/R/bin/R CMD check --install=check:ELMER.install-out.txt --library=/home/biocbuild/R/R/site-library --no-vignettes --timings ELMER_2.33.1.tar.gz |
| StartedAt: 2025-10-17 08:37:33 -0000 (Fri, 17 Oct 2025) |
| EndedAt: 2025-10-17 09:17:33 -0000 (Fri, 17 Oct 2025) |
| EllapsedTime: 2400.1 seconds |
| RetCode: None |
| Status: TIMEOUT |
| CheckDir: ELMER.Rcheck |
| Warnings: NA |
##############################################################################
##############################################################################
###
### Running command:
###
### /home/biocbuild/R/R/bin/R CMD check --install=check:ELMER.install-out.txt --library=/home/biocbuild/R/R/site-library --no-vignettes --timings ELMER_2.33.1.tar.gz
###
##############################################################################
##############################################################################
* using log directory ‘/home/biocbuild/bbs-3.22-bioc/meat/ELMER.Rcheck’
* using R version 4.5.0 (2025-04-11)
* using platform: aarch64-unknown-linux-gnu
* R was compiled by
aarch64-unknown-linux-gnu-gcc (GCC) 14.2.0
GNU Fortran (GCC) 14.2.0
* running under: openEuler 24.03 (LTS)
* using session charset: UTF-8
* using option ‘--no-vignettes’
* checking for file ‘ELMER/DESCRIPTION’ ... OK
* this is package ‘ELMER’ version ‘2.33.1’
* package encoding: UTF-8
* checking package namespace information ... OK
* checking package dependencies ... INFO
Imports includes 38 non-default packages.
Importing from so many packages makes the package vulnerable to any of
them becoming unavailable. Move as many as possible to Suggests and
use conditionally.
* checking if this is a source package ... OK
* checking if there is a namespace ... OK
* checking for hidden files and directories ... OK
* checking for portable file names ... OK
* checking for sufficient/correct file permissions ... OK
* checking whether package ‘ELMER’ can be installed ... OK
* checking installed package size ... OK
* checking package directory ... OK
* checking ‘build’ directory ... OK
* checking DESCRIPTION meta-information ... OK
* checking top-level files ... OK
* checking for left-over files ... OK
* checking index information ... OK
* checking package subdirectories ... OK
* checking code files for non-ASCII characters ... OK
* checking R files for syntax errors ... OK
* checking whether the package can be loaded ... OK
* checking whether the package can be loaded with stated dependencies ... OK
* checking whether the package can be unloaded cleanly ... OK
* checking whether the namespace can be loaded with stated dependencies ... OK
* checking whether the namespace can be unloaded cleanly ... OK
* checking loading without being on the library search path ... OK
* checking dependencies in R code ... OK
* checking S3 generic/method consistency ... OK
* checking replacement functions ... OK
* checking foreign function calls ... OK
* checking R code for possible problems ... NOTE
addMutCol: no visible binding for global variable 'Hugo_Symbol'
calcDistNearestTSS: no visible binding for global variable
'DistanceTSS'
createBigWigDNAmetArray: no visible global function definition for
'keepStandardChromosomes'
createBigWigDNAmetArray: no visible binding for global variable
'keepStandardChromosomes'
getRegionNearGenes : f: no visible binding for global variable 'Side'
getRegionNearGenes: no visible binding for global variable 'ID'
getTFtargets: no visible binding for global variable 'TF'
Undefined global functions or variables:
DistanceTSS Hugo_Symbol ID Side TF keepStandardChromosomes
* checking Rd files ... NOTE
checkRd: (-1) createBigWigDNAmetArray.Rd:22: Lost braces; missing escapes or markup?
22 | \item{track.names}{Provide a list of track names (.bw) otherwise the deault is the will be {samples}.bw}
| ^
* checking Rd metadata ... OK
* checking Rd cross-references ... OK
* checking for missing documentation entries ... OK
* checking for code/documentation mismatches ... OK
* checking Rd \usage sections ... OK
* checking Rd contents ... OK
* checking for unstated dependencies in examples ... OK
* checking files in ‘vignettes’ ... OK
* checking examples ...
ELMER.Rcheck/00install.out
############################################################################## ############################################################################## ### ### Running command: ### ### /home/biocbuild/R/R/bin/R CMD INSTALL ELMER ### ############################################################################## ############################################################################## * installing to library ‘/home/biocbuild/R/R-4.5.0/site-library’ * installing *source* package ‘ELMER’ ... ** this is package ‘ELMER’ version ‘2.33.1’ ** using staged installation ** R ** inst ** byte-compile and prepare package for lazy loading ** help *** installing help indices ** building package indices ** installing vignettes ** testing if installed package can be loaded from temporary location ** testing if installed package can be loaded from final location ** testing if installed package keeps a record of temporary installation path * DONE (ELMER)
ELMER.Rcheck/ELMER-Ex.timings
| name | user | system | elapsed | |
| GetNearGenes | 10.220 | 0.789 | 11.046 | |
| TCGA.pipe | 88.277 | 1.571 | 102.510 | |
| TF.rank.plot | 3.419 | 0.140 | 3.583 | |
| addDistNearestTSS | 0 | 0 | 0 | |
| addMutCol | 0 | 0 | 0 | |
| calcDistNearestTSS | 0 | 0 | 0 | |
| calculateEnrichement | 0.042 | 0.000 | 0.049 | |
| createBigWigDNAmetArray | 0 | 0 | 0 | |
| createIGVtrack | 0 | 0 | 0 | |