Back to Multiple platform build/check report for BioC 3.22:   simplified   long
ABC[D]EFGHIJKLMNOPQRSTUVWXYZ

This page was generated on 2025-11-12 11:58 -0500 (Wed, 12 Nov 2025).

HostnameOSArch (*)R versionInstalled pkgs
nebbiolo2Linux (Ubuntu 24.04.3 LTS)x86_644.5.1 Patched (2025-08-23 r88802) -- "Great Square Root" 4902
taishanLinux (openEuler 24.03 LTS)aarch644.5.0 (2025-04-11) -- "How About a Twenty-Six" 4668
Click on any hostname to see more info about the system (e.g. compilers)      (*) as reported by 'uname -p', except on Windows and Mac OS X

Package 632/2361HostnameOS / ArchINSTALLBUILDCHECKBUILD BIN
DspikeIn 1.0.0  (landing page)
Mitra Ghotbi
Snapshot Date: 2025-11-11 13:45 -0500 (Tue, 11 Nov 2025)
git_url: https://git.bioconductor.org/packages/DspikeIn
git_branch: RELEASE_3_22
git_last_commit: 8a427ff
git_last_commit_date: 2025-10-29 11:39:12 -0500 (Wed, 29 Oct 2025)
nebbiolo2Linux (Ubuntu 24.04.3 LTS) / x86_64  OK    OK    OK  UNNEEDED, same version is already published
taishanLinux (openEuler 24.03 LTS) / aarch64  OK    OK    OK  


CHECK results for DspikeIn on taishan

To the developers/maintainers of the DspikeIn package:
- Allow up to 24 hours (and sometimes 48 hours) for your latest push to git@git.bioconductor.org:packages/DspikeIn.git to reflect on this report. See Troubleshooting Build Report for more information.
- Use the following Renviron settings to reproduce errors and warnings.
- If 'R CMD check' started to fail recently on the Linux builder(s) over a missing dependency, add the missing dependency to 'Suggests:' in your DESCRIPTION file. See Renviron.bioc for more information.
- See Martin Grigorov's blog post for how to debug Linux ARM64 related issues on a x86_64 host.

raw results


Summary

Package: DspikeIn
Version: 1.0.0
Command: /home/biocbuild/R/R/bin/R CMD check --install=check:DspikeIn.install-out.txt --library=/home/biocbuild/R/R/site-library --no-vignettes --timings DspikeIn_1.0.0.tar.gz
StartedAt: 2025-11-11 09:19:18 -0000 (Tue, 11 Nov 2025)
EndedAt: 2025-11-11 09:30:48 -0000 (Tue, 11 Nov 2025)
EllapsedTime: 689.6 seconds
RetCode: 0
Status:   OK  
CheckDir: DspikeIn.Rcheck
Warnings: 0

Command output

##############################################################################
##############################################################################
###
### Running command:
###
###   /home/biocbuild/R/R/bin/R CMD check --install=check:DspikeIn.install-out.txt --library=/home/biocbuild/R/R/site-library --no-vignettes --timings DspikeIn_1.0.0.tar.gz
###
##############################################################################
##############################################################################


* using log directory ‘/home/biocbuild/bbs-3.22-bioc/meat/DspikeIn.Rcheck’
* using R version 4.5.0 (2025-04-11)
* using platform: aarch64-unknown-linux-gnu
* R was compiled by
    aarch64-unknown-linux-gnu-gcc (GCC) 14.2.0
    GNU Fortran (GCC) 14.2.0
* running under: openEuler 24.03 (LTS)
* using session charset: UTF-8
* using option ‘--no-vignettes’
* checking for file ‘DspikeIn/DESCRIPTION’ ... OK
* checking extension type ... Package
* this is package ‘DspikeIn’ version ‘1.0.0’
* package encoding: UTF-8
* checking package namespace information ... OK
* checking package dependencies ... INFO
Imports includes 38 non-default packages.
Importing from so many packages makes the package vulnerable to any of
them becoming unavailable.  Move as many as possible to Suggests and
use conditionally.
* checking if this is a source package ... OK
* checking if there is a namespace ... OK
* checking for hidden files and directories ... OK
* checking for portable file names ... OK
* checking for sufficient/correct file permissions ... OK
* checking whether package ‘DspikeIn’ can be installed ... OK
* checking installed package size ... OK
* checking package directory ... OK
* checking ‘build’ directory ... OK
* checking DESCRIPTION meta-information ... OK
* checking top-level files ... OK
* checking for left-over files ... OK
* checking index information ... OK
* checking package subdirectories ... OK
* checking code files for non-ASCII characters ... OK
* checking R files for syntax errors ... OK
* checking whether the package can be loaded ... OK
* checking whether the package can be loaded with stated dependencies ... OK
* checking whether the package can be unloaded cleanly ... OK
* checking whether the namespace can be loaded with stated dependencies ... OK
* checking whether the namespace can be unloaded cleanly ... OK
* checking loading without being on the library search path ... OK
* checking whether startup messages can be suppressed ... OK
* checking dependencies in R code ... OK
* checking S3 generic/method consistency ... OK
* checking replacement functions ... OK
* checking foreign function calls ... OK
* checking R code for possible problems ... OK
* checking Rd files ... OK
* checking Rd metadata ... OK
* checking Rd cross-references ... NOTE
Non-topic package-anchored link(s) in Rd file 'label.Rd':
  ‘[phyloseq:tax_table-methods]{phyloseq::tax_table()}’

See section 'Cross-references' in the 'Writing R Extensions' manual.
* checking for missing documentation entries ... OK
* checking for code/documentation mismatches ... OK
* checking Rd \usage sections ... OK
* checking Rd contents ... OK
* checking for unstated dependencies in examples ... OK
* checking contents of ‘data’ directory ... OK
* checking data for non-ASCII characters ... OK
* checking LazyData ... OK
* checking data for ASCII and uncompressed saves ... OK
* checking files in ‘vignettes’ ... OK
* checking examples ... OK
Examples with CPU (user + system) or elapsed time > 5s
                                       user system elapsed
taxa_barplot                         57.044  0.275  57.492
plot_core_microbiome_custom          34.367  0.068  34.538
RandomForest_selected                27.164  0.471  27.708
summ_ASV_OTUID                       26.503  0.088  26.670
node_level_metrics                   16.997  0.136  17.180
convert_to_absolute_counts           12.130  0.083  12.255
calculate_spike_percentage           10.902  0.215  11.119
quadrant_plot                        10.548  0.048  10.617
ridge_plot_it                         8.821  0.056   8.902
Pre_processing_hashcodes              8.471  0.312   8.807
random_subsample_WithReductionFactor  8.339  0.084   8.448
summ_phyloseq_sampleID                6.074  0.052   6.143
normalization_set                     5.805  0.111   5.934
proportion_adj                        5.183  0.088   5.284
* checking for unstated dependencies in ‘tests’ ... OK
* checking tests ...
  Running ‘testthat.R’
 OK
* checking for unstated dependencies in vignettes ... OK
* checking package vignettes ... OK
* checking running R code from vignettes ... SKIPPED
* checking re-building of vignette outputs ... SKIPPED
* checking PDF version of manual ... OK
* DONE

Status: 1 NOTE
See
  ‘/home/biocbuild/bbs-3.22-bioc/meat/DspikeIn.Rcheck/00check.log’
for details.


Installation output

DspikeIn.Rcheck/00install.out

##############################################################################
##############################################################################
###
### Running command:
###
###   /home/biocbuild/R/R/bin/R CMD INSTALL DspikeIn
###
##############################################################################
##############################################################################


* installing to library ‘/home/biocbuild/R/R-4.5.0/site-library’
* installing *source* package ‘DspikeIn’ ...
** this is package ‘DspikeIn’ version ‘1.0.0’
** using staged installation
** R
** data
*** moving datasets to lazyload DB
** inst
** byte-compile and prepare package for lazy loading
** help
*** installing help indices
** building package indices
** installing vignettes
** testing if installed package can be loaded from temporary location
** testing if installed package can be loaded from final location
** testing if installed package keeps a record of temporary installation path
* DONE (DspikeIn)

Tests output

DspikeIn.Rcheck/tests/testthat.Rout


R version 4.5.0 (2025-04-11) -- "How About a Twenty-Six"
Copyright (C) 2025 The R Foundation for Statistical Computing
Platform: aarch64-unknown-linux-gnu

R is free software and comes with ABSOLUTELY NO WARRANTY.
You are welcome to redistribute it under certain conditions.
Type 'license()' or 'licence()' for distribution details.

R is a collaborative project with many contributors.
Type 'contributors()' for more information and
'citation()' on how to cite R or R packages in publications.

Type 'demo()' for some demos, 'help()' for on-line help, or
'help.start()' for an HTML browser interface to help.
Type 'q()' to quit R.

> # This file is part of the standard setup for testthat.
> # It is recommended that you do not modify it.
> #
> # Where should you do additional test configuration?
> # Learn more about the roles of various files in:
> # * https://r-pkgs.org/testing-design.html#sec-tests-files-overview
> # * https://testthat.r-lib.org/articles/special-files.html
> 
> library(testthat)
> library(DspikeIn)

Thank you for using DspikeIn! 🎉
For support, 📧 contact: Mitra Ghotbi (mitra.ghotbi@gmail.com)
GitHub Repository: https://github.com/mghotbi/DspikeIn
🐛 Found a bug or have a suggestion? Open an issue:
  https://github.com/mghotbi/DspikeIn/issues


> 
> test_check("DspikeIn")
[ FAIL 0 | WARN 0 | SKIP 13 | PASS 0 ]

══ Skipped tests (13) ══════════════════════════════════════════════════════════
• On Bioconductor (13): 'test-Pre_processing_species.R:1:1',
  'test-RandomForest_selected.R:1:1', 'test-calculate_spikeIn_factors.R:1:1',
  'test-calculate_spike_percentage.R:1:1',
  'test-calculate_summary_stats_table.R:1:1', 'test-conclusion.R:1:1',
  'test-convert_to_absolute_counts.R:1:1',
  'test-imbalance_calculate_list_average_scaling_factors.R:1:1',
  'test-node_level_metrics.R:1:1', 'test-perform_and_visualize_DA.R:1:1',
  'test-quadrant_plot.R:1:1', 'test-remove_zero_negative_count_samples.R:1:1',
  'test-simulate_robustness.R:1:1'

[ FAIL 0 | WARN 0 | SKIP 13 | PASS 0 ]
> 
> proc.time()
   user  system elapsed 
 16.215   0.972  17.251 

Example timings

DspikeIn.Rcheck/DspikeIn-Ex.timings

nameusersystemelapsed
AcceptableRange0.8120.0360.850
MG_shapes0.6880.0080.698
Pre_processing_hashcodes8.4710.3128.807
Pre_processing_species4.3240.1154.451
Pre_processing_species_list0.4800.0000.481
RandomForest_selected27.164 0.47127.708
adjust_abundance_one_third1.9870.1042.096
adjusted_prevalence1.8890.0311.925
alluvial_plot4.7310.0364.781
calculate_list_average_scaling_factors0.0590.0000.059
calculate_spikeIn_factors4.4670.0324.512
calculate_spike_percentage10.902 0.21511.119
calculate_spike_percentage_list0.8950.0350.947
calculate_summary_stats_table0.2050.0000.212
color_palette0.6230.0230.672
conclusion2.0830.1052.246
convert_categorical_to_factors0.3030.0120.322
convert_phyloseq_to_tse0.7500.0000.765
convert_to_absolute_counts12.130 0.08312.255
convert_tse_to_phyloseq1.1600.0121.175
create_directory0.0000.0000.001
degree_network2.9780.0083.003
detect_common_asvs_taxa000
extract_neighbors0.0290.0000.030
filter_and_split_abundance3.2440.0083.260
get_long_format_data1.6090.0241.638
gm_mean0.0010.0000.001
imbalance_calculate_list_average_scaling_factors0.1900.0000.191
label0.0450.0000.045
metadata_full0.0270.0000.027
my_custom_theme0.5340.0080.544
node_level_metrics16.997 0.13617.180
norm.DESeq4.1350.0764.223
normalization_set5.8050.1115.934
perform_and_visualize_DA000
physeq0.0460.0000.047
physeq_16SOTU0.2050.0120.218
physeq_ITSOTU0.1960.0200.217
plot_core_microbiome_custom34.367 0.06834.538
plot_spikein_tree_diagnostic0.0010.0000.000
plotbar_abundance000
proportion_adj5.1830.0885.284
quadrant_plot10.548 0.04810.617
random_subsample_WithReductionFactor8.3390.0848.448
randomsubsample_Trimmed_evenDepth3.6310.0593.701
regression_plot1.5980.0041.606
relativized_filtered_taxa0.4530.0000.455
remove_zero_negative_count_samples0.5680.0000.569
ridge_plot_it8.8210.0568.902
set_nf0.3190.0000.320
simulate_network_robustness3.9260.0563.994
summ_ASV_OTUID26.503 0.08826.670
summ_count_phyloseq1.2140.0081.226
summ_phyloseq_sampleID6.0740.0526.143
taxa_barplot57.044 0.27557.492
tidy_phyloseq_tse2.7710.0482.825
tse0.0580.0000.058
validate_spikein_clade0.6360.0120.655
weight_Network3.7310.0083.748