| Back to Multiple platform build/check report for BioC 3.22: simplified long | 
  | 
This page was generated on 2025-11-03 12:03 -0500 (Mon, 03 Nov 2025).
| Hostname | OS | Arch (*) | R version | Installed pkgs | 
|---|---|---|---|---|
| nebbiolo2 | Linux (Ubuntu 24.04.3 LTS) | x86_64 | 4.5.1 Patched (2025-08-23 r88802) -- "Great Square Root" | 4902 | 
| lconway | macOS 12.7.6 Monterey | x86_64 | 4.5.1 Patched (2025-09-10 r88807) -- "Great Square Root" | 4692 | 
| kjohnson3 | macOS 13.7.7 Ventura | arm64 | 4.5.1 Patched (2025-09-10 r88807) -- "Great Square Root" | 4638 | 
| Click on any hostname to see more info about the system (e.g. compilers) (*) as reported by 'uname -p', except on Windows and Mac OS X | ||||
| Package 539/2361 | Hostname | OS / Arch | INSTALL | BUILD | CHECK | BUILD BIN | ||||||||
| DeconvoBuddies 1.2.0  (landing page) Louise Huuki-Myers 
  | nebbiolo2 | Linux (Ubuntu 24.04.3 LTS) / x86_64 | OK | OK | OK | |||||||||
| lconway | macOS 12.7.6 Monterey / x86_64 | OK | OK | OK | OK | |||||||||
| kjohnson3 | macOS 13.7.7 Ventura / arm64 | OK | OK | OK | OK | |||||||||
| 
To the developers/maintainers of the DeconvoBuddies package: - Allow up to 24 hours (and sometimes 48 hours) for your latest push to git@git.bioconductor.org:packages/DeconvoBuddies.git to reflect on this report. See Troubleshooting Build Report for more information. - Use the following Renviron settings to reproduce errors and warnings. - If 'R CMD check' started to fail recently on the Linux builder(s) over a missing dependency, add the missing dependency to 'Suggests:' in your DESCRIPTION file. See Renviron.bioc for more information.  | 
| Package: DeconvoBuddies | 
| Version: 1.2.0 | 
| Command: /home/biocbuild/bbs-3.22-bioc/R/bin/R CMD check --install=check:DeconvoBuddies.install-out.txt --library=/home/biocbuild/bbs-3.22-bioc/R/site-library --timings DeconvoBuddies_1.2.0.tar.gz | 
| StartedAt: 2025-11-02 22:59:54 -0500 (Sun, 02 Nov 2025) | 
| EndedAt: 2025-11-02 23:20:22 -0500 (Sun, 02 Nov 2025) | 
| EllapsedTime: 1228.2 seconds | 
| RetCode: 0 | 
| Status: OK | 
| CheckDir: DeconvoBuddies.Rcheck | 
| Warnings: 0 | 
##############################################################################
##############################################################################
###
### Running command:
###
###   /home/biocbuild/bbs-3.22-bioc/R/bin/R CMD check --install=check:DeconvoBuddies.install-out.txt --library=/home/biocbuild/bbs-3.22-bioc/R/site-library --timings DeconvoBuddies_1.2.0.tar.gz
###
##############################################################################
##############################################################################
* using log directory ‘/home/biocbuild/bbs-3.22-bioc/meat/DeconvoBuddies.Rcheck’
* using R version 4.5.1 Patched (2025-08-23 r88802)
* using platform: x86_64-pc-linux-gnu
* R was compiled by
    gcc (Ubuntu 13.3.0-6ubuntu2~24.04) 13.3.0
    GNU Fortran (Ubuntu 13.3.0-6ubuntu2~24.04) 13.3.0
* running under: Ubuntu 24.04.3 LTS
* using session charset: UTF-8
* checking for file ‘DeconvoBuddies/DESCRIPTION’ ... OK
* this is package ‘DeconvoBuddies’ version ‘1.2.0’
* package encoding: UTF-8
* checking package namespace information ... OK
* checking package dependencies ... OK
* checking if this is a source package ... OK
* checking if there is a namespace ... OK
* checking for hidden files and directories ... OK
* checking for portable file names ... OK
* checking for sufficient/correct file permissions ... OK
* checking whether package ‘DeconvoBuddies’ can be installed ... OK
* checking installed package size ... OK
* checking package directory ... OK
* checking ‘build’ directory ... OK
* checking DESCRIPTION meta-information ... OK
* checking top-level files ... OK
* checking for left-over files ... OK
* checking index information ... OK
* checking package subdirectories ... OK
* checking code files for non-ASCII characters ... OK
* checking R files for syntax errors ... OK
* checking whether the package can be loaded ... OK
* checking whether the package can be loaded with stated dependencies ... OK
* checking whether the package can be unloaded cleanly ... OK
* checking whether the namespace can be loaded with stated dependencies ... OK
* checking whether the namespace can be unloaded cleanly ... OK
* checking loading without being on the library search path ... OK
* checking dependencies in R code ... OK
* checking S3 generic/method consistency ... OK
* checking replacement functions ... OK
* checking foreign function calls ... OK
* checking R code for possible problems ... OK
* checking Rd files ... OK
* checking Rd metadata ... OK
* checking Rd cross-references ... OK
* checking for missing documentation entries ... OK
* checking for code/documentation mismatches ... OK
* checking Rd \usage sections ... OK
* checking Rd contents ... OK
* checking for unstated dependencies in examples ... OK
* checking contents of ‘data’ directory ... OK
* checking data for non-ASCII characters ... OK
* checking data for ASCII and uncompressed saves ... OK
* checking R/sysdata.rda ... OK
* checking files in ‘vignettes’ ... OK
* checking examples ... OK
Examples with CPU (user + system) or elapsed time > 5s
                           user system elapsed
plot_marker_express_ALL  24.598  1.538  26.377
plot_gene_express         9.787  0.728  10.814
findMarkers_1vAll         8.596  0.858   9.708
plot_marker_express_List  6.770  0.531   7.584
fetch_deconvo_data        5.927  0.725   7.254
plot_marker_express       5.248  0.577   6.105
get_mean_ratio            4.123  0.728   5.215
* checking for unstated dependencies in ‘tests’ ... OK
* checking tests ...
  Running ‘testthat.R’
 OK
* checking for unstated dependencies in vignettes ... OK
* checking package vignettes ... OK
* checking re-building of vignette outputs ... OK
* checking PDF version of manual ... OK
* DONE
Status: OK
DeconvoBuddies.Rcheck/00install.out
############################################################################## ############################################################################## ### ### Running command: ### ### /home/biocbuild/bbs-3.22-bioc/R/bin/R CMD INSTALL DeconvoBuddies ### ############################################################################## ############################################################################## * installing to library ‘/home/biocbuild/bbs-3.22-bioc/R/site-library’ * installing *source* package ‘DeconvoBuddies’ ... ** this is package ‘DeconvoBuddies’ version ‘1.2.0’ ** using staged installation ** R ** data ** inst ** byte-compile and prepare package for lazy loading ** help *** installing help indices *** copying figures ** building package indices ** installing vignettes ** testing if installed package can be loaded from temporary location ** testing if installed package can be loaded from final location ** testing if installed package keeps a record of temporary installation path * DONE (DeconvoBuddies)
DeconvoBuddies.Rcheck/tests/testthat.Rout
R version 4.5.1 Patched (2025-08-23 r88802) -- "Great Square Root"
Copyright (C) 2025 The R Foundation for Statistical Computing
Platform: x86_64-pc-linux-gnu
R is free software and comes with ABSOLUTELY NO WARRANTY.
You are welcome to redistribute it under certain conditions.
Type 'license()' or 'licence()' for distribution details.
R is a collaborative project with many contributors.
Type 'contributors()' for more information and
'citation()' on how to cite R or R packages in publications.
Type 'demo()' for some demos, 'help()' for on-line help, or
'help.start()' for an HTML browser interface to help.
Type 'q()' to quit R.
> library(testthat)
> library(DeconvoBuddies)
> 
> test_check("DeconvoBuddies")
2025-11-02 23:07:01.654126 Access ExperimentHub EH9626
see ?DeconvoBuddies and browseVignettes('DeconvoBuddies') for documentation
loading from cache
2025-11-02 23:07:11.114797 Access ExperimentHub EH9626
see ?DeconvoBuddies and browseVignettes('DeconvoBuddies') for documentation
loading from cache
2025-11-02 23:07:17.180875 Access ExperimentHub EH9626
see ?DeconvoBuddies and browseVignettes('DeconvoBuddies') for documentation
loading from cache
2025-11-02 23:07:19.983173 Access ExperimentHub EH9626
see ?DeconvoBuddies and browseVignettes('DeconvoBuddies') for documentation
loading from cache
2025-11-02 23:07:24.078703 Access ExperimentHub EH9626
see ?DeconvoBuddies and browseVignettes('DeconvoBuddies') for documentation
loading from cache
[ FAIL 0 | WARN 3 | SKIP 0 | PASS 33 ]
[ FAIL 0 | WARN 3 | SKIP 0 | PASS 33 ]
> 
> proc.time()
   user  system elapsed 
 42.946   3.616  48.336 
DeconvoBuddies.Rcheck/DeconvoBuddies-Ex.timings
| name | user | system | elapsed | |
| RNAScope_prop | 0.001 | 0.000 | 0.001 | |
| create_cell_colors | 0.026 | 0.006 | 0.033 | |
| est_prop | 0.005 | 0.001 | 0.007 | |
| est_prop_test | 0.002 | 0.001 | 0.004 | |
| fetch_deconvo_data | 5.927 | 0.725 | 7.254 | |
| findMarkers_1vAll | 8.596 | 0.858 | 9.708 | |
| get_mean_ratio | 4.123 | 0.728 | 5.215 | |
| make_test_sce | 0.123 | 0.008 | 0.131 | |
| marker_stats_1vAll | 0.001 | 0.000 | 0.001 | |
| marker_test | 0.000 | 0.001 | 0.001 | |
| plot_composition_bar | 1.818 | 0.227 | 2.045 | |
| plot_gene_express | 9.787 | 0.728 | 10.814 | |
| plot_marker_express | 5.248 | 0.577 | 6.105 | |
| plot_marker_express_ALL | 24.598 | 1.538 | 26.377 | |
| plot_marker_express_List | 6.770 | 0.531 | 7.584 | |
| rse_bulk_test | 0.000 | 0.001 | 0.000 | |
| sce_ab | 0.000 | 0.001 | 0.001 | |