| Back to Multiple platform build/check report for BioC 3.21: simplified long |
|
This page was generated on 2025-08-18 11:41 -0400 (Mon, 18 Aug 2025).
| Hostname | OS | Arch (*) | R version | Installed pkgs |
|---|---|---|---|---|
| nebbiolo1 | Linux (Ubuntu 24.04.3 LTS) | x86_64 | 4.5.1 (2025-06-13) -- "Great Square Root" | 4824 |
| palomino7 | Windows Server 2022 Datacenter | x64 | 4.5.1 (2025-06-13 ucrt) -- "Great Square Root" | 4566 |
| merida1 | macOS 12.7.5 Monterey | x86_64 | 4.5.1 RC (2025-06-05 r88288) -- "Great Square Root" | 4604 |
| kjohnson1 | macOS 13.6.6 Ventura | arm64 | 4.5.1 Patched (2025-06-14 r88325) -- "Great Square Root" | 4545 |
| kunpeng2 | Linux (openEuler 24.03 LTS) | aarch64 | R Under development (unstable) (2025-02-19 r87757) -- "Unsuffered Consequences" | 4579 |
| Click on any hostname to see more info about the system (e.g. compilers) (*) as reported by 'uname -p', except on Windows and Mac OS X | ||||
| Package 529/2341 | Hostname | OS / Arch | INSTALL | BUILD | CHECK | BUILD BIN | ||||||||
| DeconRNASeq 1.50.0 (landing page) Ting Gong
| nebbiolo1 | Linux (Ubuntu 24.04.3 LTS) / x86_64 | OK | OK | OK | |||||||||
| palomino7 | Windows Server 2022 Datacenter / x64 | OK | OK | OK | OK | |||||||||
| merida1 | macOS 12.7.5 Monterey / x86_64 | OK | OK | OK | OK | |||||||||
| kjohnson1 | macOS 13.6.6 Ventura / arm64 | OK | OK | OK | OK | |||||||||
| kunpeng2 | Linux (openEuler 24.03 LTS) / aarch64 | OK | OK | OK | ||||||||||
|
To the developers/maintainers of the DeconRNASeq package: - Allow up to 24 hours (and sometimes 48 hours) for your latest push to git@git.bioconductor.org:packages/DeconRNASeq.git to reflect on this report. See Troubleshooting Build Report for more information. - Use the following Renviron settings to reproduce errors and warnings. - If 'R CMD check' started to fail recently on the Linux builder(s) over a missing dependency, add the missing dependency to 'Suggests:' in your DESCRIPTION file. See Renviron.bioc for more information. |
| Package: DeconRNASeq |
| Version: 1.50.0 |
| Command: E:\biocbuild\bbs-3.21-bioc\R\bin\R.exe CMD check --no-multiarch --install=check:DeconRNASeq.install-out.txt --library=E:\biocbuild\bbs-3.21-bioc\R\library --no-vignettes --timings DeconRNASeq_1.50.0.tar.gz |
| StartedAt: 2025-08-15 01:16:46 -0400 (Fri, 15 Aug 2025) |
| EndedAt: 2025-08-15 01:17:34 -0400 (Fri, 15 Aug 2025) |
| EllapsedTime: 48.2 seconds |
| RetCode: 0 |
| Status: OK |
| CheckDir: DeconRNASeq.Rcheck |
| Warnings: 0 |
##############################################################################
##############################################################################
###
### Running command:
###
### E:\biocbuild\bbs-3.21-bioc\R\bin\R.exe CMD check --no-multiarch --install=check:DeconRNASeq.install-out.txt --library=E:\biocbuild\bbs-3.21-bioc\R\library --no-vignettes --timings DeconRNASeq_1.50.0.tar.gz
###
##############################################################################
##############################################################################
* using log directory 'E:/biocbuild/bbs-3.21-bioc/meat/DeconRNASeq.Rcheck'
* using R version 4.5.1 (2025-06-13 ucrt)
* using platform: x86_64-w64-mingw32
* R was compiled by
gcc.exe (GCC) 14.2.0
GNU Fortran (GCC) 14.2.0
* running under: Windows Server 2022 x64 (build 20348)
* using session charset: UTF-8
* using option '--no-vignettes'
* checking for file 'DeconRNASeq/DESCRIPTION' ... OK
* checking extension type ... Package
* this is package 'DeconRNASeq' version '1.50.0'
* checking package namespace information ... OK
* checking package dependencies ... OK
* checking if this is a source package ... OK
* checking if there is a namespace ... OK
* checking for hidden files and directories ... OK
* checking for portable file names ... OK
* checking whether package 'DeconRNASeq' can be installed ... OK
* checking installed package size ... INFO
installed size is 6.6Mb
sub-directories of 1Mb or more:
data 6.5Mb
* checking package directory ... OK
* checking 'build' directory ... OK
* checking DESCRIPTION meta-information ... OK
* checking top-level files ... OK
* checking for left-over files ... OK
* checking index information ... OK
* checking package subdirectories ... OK
* checking code files for non-ASCII characters ... OK
* checking R files for syntax errors ... OK
* checking whether the package can be loaded ... OK
* checking whether the package can be loaded with stated dependencies ... OK
* checking whether the package can be unloaded cleanly ... OK
* checking whether the namespace can be loaded with stated dependencies ... OK
* checking whether the namespace can be unloaded cleanly ... OK
* checking dependencies in R code ... NOTE
'library' or 'require' call to 'grid' which was already attached by Depends.
Please remove these calls from your code.
Packages in Depends field not imported from:
'ggplot2' 'grid' 'pcaMethods'
These packages need to be imported from (in the NAMESPACE file)
for when this namespace is loaded but not attached.
* checking S3 generic/method consistency ... OK
* checking replacement functions ... OK
* checking foreign function calls ... OK
* checking R code for possible problems ... NOTE
DeconRNASeq: no visible global function definition for 'prep'
DeconRNASeq: no visible global function definition for 'pca'
DeconRNASeq: no visible global function definition for 'R2cum'
DeconRNASeq: no visible global function definition for 'ggplot'
DeconRNASeq: no visible global function definition for 'aes'
DeconRNASeq: no visible global function definition for 'geom_point'
DeconRNASeq: no visible global function definition for 'labs'
DeconRNASeq: no visible global function definition for 'geom_abline'
DeconRNASeq: no visible global function definition for 'xlab'
DeconRNASeq: no visible global function definition for 'ylab'
condplot: no visible global function definition for 'rainbow'
condplot: no visible global function definition for 'lines'
condplot: no visible global function definition for 'axis'
condplot: no visible global function definition for 'title'
decon.bootstrap: no visible global function definition for 't.test'
multiplot: no visible global function definition for 'grid.newpage'
multiplot: no visible global function definition for 'pushViewport'
multiplot: no visible global function definition for 'viewport'
multiplot: no visible global function definition for 'grid.layout'
multiplot : vplayout: no visible global function definition for
'viewport'
Undefined global functions or variables:
R2cum aes axis geom_abline geom_point ggplot grid.layout grid.newpage
labs lines pca prep pushViewport rainbow t.test title viewport xlab
ylab
Consider adding
importFrom("grDevices", "rainbow")
importFrom("graphics", "axis", "lines", "title")
importFrom("stats", "t.test")
to your NAMESPACE file.
* checking Rd files ... OK
* checking Rd metadata ... OK
* checking Rd cross-references ... OK
* checking for missing documentation entries ... OK
* checking for code/documentation mismatches ... OK
* checking Rd \usage sections ... OK
* checking Rd contents ... OK
* checking for unstated dependencies in examples ... OK
* checking contents of 'data' directory ... OK
* checking data for non-ASCII characters ... OK
* checking data for ASCII and uncompressed saves ... OK
* checking sizes of PDF files under 'inst/doc' ... OK
* checking files in 'vignettes' ... OK
* checking examples ... OK
* checking for unstated dependencies in vignettes ... OK
* checking package vignettes ... OK
* checking running R code from vignettes ... SKIPPED
* checking re-building of vignette outputs ... SKIPPED
* checking PDF version of manual ... OK
* DONE
Status: 2 NOTEs
See
'E:/biocbuild/bbs-3.21-bioc/meat/DeconRNASeq.Rcheck/00check.log'
for details.
DeconRNASeq.Rcheck/00install.out
############################################################################## ############################################################################## ### ### Running command: ### ### E:\biocbuild\bbs-3.21-bioc\R\bin\R.exe CMD INSTALL DeconRNASeq ### ############################################################################## ############################################################################## * installing to library 'E:/biocbuild/bbs-3.21-bioc/R/library' * installing *source* package 'DeconRNASeq' ... ** this is package 'DeconRNASeq' version '1.50.0' ** using staged installation ** R ** data ** demo ** byte-compile and prepare package for lazy loading ** help *** installing help indices ** building package indices ** installing vignettes ** testing if installed package can be loaded from temporary location ** testing if installed package can be loaded from final location ** testing if installed package keeps a record of temporary installation path * DONE (DeconRNASeq)
DeconRNASeq.Rcheck/DeconRNASeq-Ex.timings
| name | user | system | elapsed | |
| DeconRNASeq | 0 | 0 | 0 | |
| all.datasets | 0.07 | 0.01 | 0.08 | |
| array.proportions | 0.03 | 0.02 | 0.05 | |
| array.signatures | 0.05 | 0.00 | 0.05 | |
| condplot | 0.05 | 0.00 | 0.05 | |
| datasets | 0.06 | 0.01 | 0.08 | |
| fraction | 0.17 | 0.00 | 0.17 | |
| liver_kidney | 0.08 | 0.00 | 0.08 | |
| multi_tissue | 0.26 | 0.02 | 0.28 | |
| multiplot | 0 | 0 | 0 | |
| proportions | 0.10 | 0.00 | 0.09 | |
| signatures | 0.06 | 0.03 | 0.10 | |
| x.data | 0.17 | 0.02 | 0.19 | |
| x.signature | 0.21 | 0.00 | 0.20 | |
| x.signature.filtered | 0.20 | 0.04 | 0.25 | |
| x.signature.filtered.optimal | 0.23 | 0.02 | 0.25 | |